BEGIN:VCALENDAR
VERSION:2.0
PRODID:spatie/icalendar-generator
NAME:huirtuits_dropke_3g_93_reminders
X-WR-CALNAME:huirtuits_dropke_3g_93_reminders
BEGIN:VTIMEZONE
TZID:Europe/Brussels
BEGIN:DAYLIGHT
DTSTART:20220327T010000
TZOFFSETFROM:+0100
TZOFFSETTO:+0200
END:DAYLIGHT
BEGIN:STANDARD
DTSTART:20221030T030000
TZOFFSETFROM:+0200
TZOFFSETTO:+0100
END:STANDARD
BEGIN:DAYLIGHT
DTSTART:20230326T010000
TZOFFSETFROM:+0100
TZOFFSETTO:+0200
END:DAYLIGHT
END:VTIMEZONE
BEGIN:VTIMEZONE
TZID:UTC
BEGIN:STANDARD
DTSTART:20250724T055127
TZOFFSETFROM:+0000
TZOFFSETTO:+0000
END:STANDARD
END:VTIMEZONE
BEGIN:VEVENT
UID:E5F03216-4619-44A1-A21C-5EA724CB9432-28-1216_homereminder@111.badminton
 ners.net
DTSTAMP:20260420T055127Z
SUMMARY:Thuismatch ingevuld? (Huirtuits Dropke 3G (93) - Olympia 1G (107))
DESCRIPTION:Je hebt 36 uur na aanvang om een thuismatch op Badmintonvlaande
 ren in te vullen. Match info: Huirtuits Dropke 3G (93) - Olympia 1G (107) 
 - Link: https://www.badmintonvlaanderen.be/sport/teammatch.aspx?id=E5F0321
 6-4619-44A1-A21C-5EA724CB9432&match=1216
DTSTART;TZID=Europe/Brussels:20221013T080000
DTEND;TZID=Europe/Brussels:20221013T080000
END:VEVENT
BEGIN:VEVENT
UID:E5F03216-4619-44A1-A21C-5EA724CB9432-28-1221_homereminder@111.badminton
 ners.net
DTSTAMP:20260420T055127Z
SUMMARY:Thuismatch ingevuld? (Huirtuits Dropke 3G (93) - Berlaar 2G (107))
DESCRIPTION:Je hebt 36 uur na aanvang om een thuismatch op Badmintonvlaande
 ren in te vullen. Match info: Huirtuits Dropke 3G (93) - Berlaar 2G (107) 
 - Link: https://www.badmintonvlaanderen.be/sport/teammatch.aspx?id=E5F0321
 6-4619-44A1-A21C-5EA724CB9432&match=1221
DTSTART;TZID=Europe/Brussels:20221229T080000
DTEND;TZID=Europe/Brussels:20221229T080000
END:VEVENT
BEGIN:VEVENT
UID:E5F03216-4619-44A1-A21C-5EA724CB9432-28-1211_homereminder@111.badminton
 ners.net
DTSTAMP:20260420T055127Z
SUMMARY:Thuismatch ingevuld? (Huirtuits Dropke 3G (93) - Merksplas 2G (88))
DESCRIPTION:Je hebt 36 uur na aanvang om een thuismatch op Badmintonvlaande
 ren in te vullen. Match info: Huirtuits Dropke 3G (93) - Merksplas 2G (88)
  - Link: https://www.badmintonvlaanderen.be/sport/teammatch.aspx?id=E5F032
 16-4619-44A1-A21C-5EA724CB9432&match=1211
DTSTART;TZID=Europe/Brussels:20230209T080000
DTEND;TZID=Europe/Brussels:20230209T080000
END:VEVENT
BEGIN:VEVENT
UID:E5F03216-4619-44A1-A21C-5EA724CB9432-28-1206_homereminder@111.badminton
 ners.net
DTSTAMP:20260420T055127Z
SUMMARY:Thuismatch ingevuld? (Huirtuits Dropke 3G (93) - Beerke 3G (85))
DESCRIPTION:Je hebt 36 uur na aanvang om een thuismatch op Badmintonvlaande
 ren in te vullen. Match info: Huirtuits Dropke 3G (93) - Beerke 3G (85) - 
 Link: https://www.badmintonvlaanderen.be/sport/teammatch.aspx?id=E5F03216-
 4619-44A1-A21C-5EA724CB9432&match=1206
DTSTART;TZID=Europe/Brussels:20230309T080000
DTEND;TZID=Europe/Brussels:20230309T080000
END:VEVENT
BEGIN:VEVENT
UID:E5F03216-4619-44A1-A21C-5EA724CB9432-28-1201_homereminder@111.badminton
 ners.net
DTSTAMP:20260420T055127Z
SUMMARY:Thuismatch ingevuld? (Huirtuits Dropke 3G (93) - Klein Boom 5G (95)
 )
DESCRIPTION:Je hebt 36 uur na aanvang om een thuismatch op Badmintonvlaande
 ren in te vullen. Match info: Huirtuits Dropke 3G (93) - Klein Boom 5G (95
 ) - Link: https://www.badmintonvlaanderen.be/sport/teammatch.aspx?id=E5F03
 216-4619-44A1-A21C-5EA724CB9432&match=1201
DTSTART;TZID=Europe/Brussels:20230420T080000
DTEND;TZID=Europe/Brussels:20230420T080000
END:VEVENT
BEGIN:VEVENT
UID:E5F03216-4619-44A1-A21C-5EA724CB9432-28-1222_awayreminder@111.badminton
 ners.net
DTSTAMP:20260420T055127Z
SUMMARY:Uitmatch bevestigd? (Klein Boom 5G (95) - Huirtuits Dropke 3G (93))
DESCRIPTION:Je hebt 72 uur na aanvang om een uitmatch op Badmintonvlaandere
 n in te vullen. Match info: Klein Boom 5G (95) - Huirtuits Dropke 3G (93) 
 - Link: https://www.badmintonvlaanderen.be/sport/teammatch.aspx?id=E5F0321
 6-4619-44A1-A21C-5EA724CB9432&match=1222
DTSTART;TZID=Europe/Brussels:20220928T190000
DTEND;TZID=Europe/Brussels:20220928T190000
END:VEVENT
BEGIN:VEVENT
UID:E5F03216-4619-44A1-A21C-5EA724CB9432-28-1223_awayreminder@111.badminton
 ners.net
DTSTAMP:20260420T055127Z
SUMMARY:Uitmatch bevestigd? (Beerke 3G (85) - Huirtuits Dropke 3G (93))
DESCRIPTION:Je hebt 72 uur na aanvang om een uitmatch op Badmintonvlaandere
 n in te vullen. Match info: Beerke 3G (85) - Huirtuits Dropke 3G (93) - Li
 nk: https://www.badmintonvlaanderen.be/sport/teammatch.aspx?id=E5F03216-46
 19-44A1-A21C-5EA724CB9432&match=1223
DTSTART;TZID=Europe/Brussels:20221116T100000
DTEND;TZID=Europe/Brussels:20221116T100000
END:VEVENT
BEGIN:VEVENT
UID:E5F03216-4619-44A1-A21C-5EA724CB9432-28-1224_awayreminder@111.badminton
 ners.net
DTSTAMP:20260420T055127Z
SUMMARY:Uitmatch bevestigd? (Merksplas 2G (88) - Huirtuits Dropke 3G (93))
DESCRIPTION:Je hebt 72 uur na aanvang om een uitmatch op Badmintonvlaandere
 n in te vullen. Match info: Merksplas 2G (88) - Huirtuits Dropke 3G (93) -
  Link: https://www.badmintonvlaanderen.be/sport/teammatch.aspx?id=E5F03216
 -4619-44A1-A21C-5EA724CB9432&match=1224
DTSTART;TZID=Europe/Brussels:20221221T190000
DTEND;TZID=Europe/Brussels:20221221T190000
END:VEVENT
BEGIN:VEVENT
UID:E5F03216-4619-44A1-A21C-5EA724CB9432-28-1226_awayreminder@111.badminton
 ners.net
DTSTAMP:20260420T055127Z
SUMMARY:Uitmatch bevestigd? (Berlaar 2G (107) - Huirtuits Dropke 3G (93))
DESCRIPTION:Je hebt 72 uur na aanvang om een uitmatch op Badmintonvlaandere
 n in te vullen. Match info: Berlaar 2G (107) - Huirtuits Dropke 3G (93) - 
 Link: https://www.badmintonvlaanderen.be/sport/teammatch.aspx?id=E5F03216-
 4619-44A1-A21C-5EA724CB9432&match=1226
DTSTART;TZID=Europe/Brussels:20230118T093000
DTEND;TZID=Europe/Brussels:20230118T093000
END:VEVENT
BEGIN:VEVENT
UID:E5F03216-4619-44A1-A21C-5EA724CB9432-28-1225_awayreminder@111.badminton
 ners.net
DTSTAMP:20260420T055127Z
SUMMARY:Uitmatch bevestigd? (Olympia 1G (107) - Huirtuits Dropke 3G (93))
DESCRIPTION:Je hebt 72 uur na aanvang om een uitmatch op Badmintonvlaandere
 n in te vullen. Match info: Olympia 1G (107) - Huirtuits Dropke 3G (93) - 
 Link: https://www.badmintonvlaanderen.be/sport/teammatch.aspx?id=E5F03216-
 4619-44A1-A21C-5EA724CB9432&match=1225
DTSTART;TZID=Europe/Brussels:20230328T103000
DTEND;TZID=Europe/Brussels:20230328T103000
END:VEVENT
END:VCALENDAR