BEGIN:VCALENDAR
VERSION:2.0
PRODID:spatie/icalendar-generator
NAME:beerke_3g_85_reminders
X-WR-CALNAME:beerke_3g_85_reminders
BEGIN:VTIMEZONE
TZID:Europe/Brussels
BEGIN:DAYLIGHT
DTSTART:20220327T010000
TZOFFSETFROM:+0100
TZOFFSETTO:+0200
END:DAYLIGHT
BEGIN:STANDARD
DTSTART:20221030T030000
TZOFFSETFROM:+0200
TZOFFSETTO:+0100
END:STANDARD
BEGIN:DAYLIGHT
DTSTART:20230326T010000
TZOFFSETFROM:+0100
TZOFFSETTO:+0200
END:DAYLIGHT
END:VTIMEZONE
BEGIN:VTIMEZONE
TZID:UTC
BEGIN:STANDARD
DTSTART:20250724T055215
TZOFFSETFROM:+0000
TZOFFSETTO:+0000
END:STANDARD
END:VTIMEZONE
BEGIN:VEVENT
UID:E5F03216-4619-44A1-A21C-5EA724CB9432-28-1218_homereminder@114.badminton
 ners.net
DTSTAMP:20260420T055215Z
SUMMARY:Thuismatch ingevuld? (Beerke 3G (85) - Berlaar 2G (107))
DESCRIPTION:Je hebt 36 uur na aanvang om een thuismatch op Badmintonvlaande
 ren in te vullen. Match info: Beerke 3G (85) - Berlaar 2G (107) - Link: ht
 tps://www.badmintonvlaanderen.be/sport/teammatch.aspx?id=E5F03216-4619-44A
 1-A21C-5EA724CB9432&match=1218
DTSTART;TZID=Europe/Brussels:20220926T220000
DTEND;TZID=Europe/Brussels:20220926T220000
END:VEVENT
BEGIN:VEVENT
UID:E5F03216-4619-44A1-A21C-5EA724CB9432-28-1223_homereminder@114.badminton
 ners.net
DTSTAMP:20260420T055215Z
SUMMARY:Thuismatch ingevuld? (Beerke 3G (85) - Huirtuits Dropke 3G (93))
DESCRIPTION:Je hebt 36 uur na aanvang om een thuismatch op Badmintonvlaande
 ren in te vullen. Match info: Beerke 3G (85) - Huirtuits Dropke 3G (93) - 
 Link: https://www.badmintonvlaanderen.be/sport/teammatch.aspx?id=E5F03216-
 4619-44A1-A21C-5EA724CB9432&match=1223
DTSTART;TZID=Europe/Brussels:20221114T220000
DTEND;TZID=Europe/Brussels:20221114T220000
END:VEVENT
BEGIN:VEVENT
UID:E5F03216-4619-44A1-A21C-5EA724CB9432-28-1208_homereminder@114.badminton
 ners.net
DTSTAMP:20260420T055215Z
SUMMARY:Thuismatch ingevuld? (Beerke 3G (85) - Merksplas 2G (88))
DESCRIPTION:Je hebt 36 uur na aanvang om een thuismatch op Badmintonvlaande
 ren in te vullen. Match info: Beerke 3G (85) - Merksplas 2G (88) - Link: h
 ttps://www.badmintonvlaanderen.be/sport/teammatch.aspx?id=E5F03216-4619-44
 A1-A21C-5EA724CB9432&match=1208
DTSTART;TZID=Europe/Brussels:20221121T220000
DTEND;TZID=Europe/Brussels:20221121T220000
END:VEVENT
BEGIN:VEVENT
UID:E5F03216-4619-44A1-A21C-5EA724CB9432-28-1213_homereminder@114.badminton
 ners.net
DTSTAMP:20260420T055215Z
SUMMARY:Thuismatch ingevuld? (Beerke 3G (85) - Olympia 1G (107))
DESCRIPTION:Je hebt 36 uur na aanvang om een thuismatch op Badmintonvlaande
 ren in te vullen. Match info: Beerke 3G (85) - Olympia 1G (107) - Link: ht
 tps://www.badmintonvlaanderen.be/sport/teammatch.aspx?id=E5F03216-4619-44A
 1-A21C-5EA724CB9432&match=1213
DTSTART;TZID=Europe/Brussels:20230213T220000
DTEND;TZID=Europe/Brussels:20230213T220000
END:VEVENT
BEGIN:VEVENT
UID:E5F03216-4619-44A1-A21C-5EA724CB9432-28-1197_homereminder@114.badminton
 ners.net
DTSTAMP:20260420T055215Z
SUMMARY:Thuismatch ingevuld? (Beerke 3G (85) - Klein Boom 5G (95))
DESCRIPTION:Je hebt 36 uur na aanvang om een thuismatch op Badmintonvlaande
 ren in te vullen. Match info: Beerke 3G (85) - Klein Boom 5G (95) - Link: 
 https://www.badmintonvlaanderen.be/sport/teammatch.aspx?id=E5F03216-4619-4
 4A1-A21C-5EA724CB9432&match=1197
DTSTART;TZID=Europe/Brussels:20230327T220000
DTEND;TZID=Europe/Brussels:20230327T220000
END:VEVENT
BEGIN:VEVENT
UID:E5F03216-4619-44A1-A21C-5EA724CB9432-28-1202_awayreminder@114.badminton
 ners.net
DTSTAMP:20260420T055215Z
SUMMARY:Uitmatch bevestigd? (Klein Boom 5G (95) - Beerke 3G (85))
DESCRIPTION:Je hebt 72 uur na aanvang om een uitmatch op Badmintonvlaandere
 n in te vullen. Match info: Klein Boom 5G (95) - Beerke 3G (85) - Link: ht
 tps://www.badmintonvlaanderen.be/sport/teammatch.aspx?id=E5F03216-4619-44A
 1-A21C-5EA724CB9432&match=1202
DTSTART;TZID=Europe/Brussels:20221012T190000
DTEND;TZID=Europe/Brussels:20221012T190000
END:VEVENT
BEGIN:VEVENT
UID:E5F03216-4619-44A1-A21C-5EA724CB9432-28-1204_awayreminder@114.badminton
 ners.net
DTSTAMP:20260420T055215Z
SUMMARY:Uitmatch bevestigd? (Olympia 1G (107) - Beerke 3G (85))
DESCRIPTION:Je hebt 72 uur na aanvang om een uitmatch op Badmintonvlaandere
 n in te vullen. Match info: Olympia 1G (107) - Beerke 3G (85) - Link: http
 s://www.badmintonvlaanderen.be/sport/teammatch.aspx?id=E5F03216-4619-44A1-
 A21C-5EA724CB9432&match=1204
DTSTART;TZID=Europe/Brussels:20221220T093000
DTEND;TZID=Europe/Brussels:20221220T093000
END:VEVENT
BEGIN:VEVENT
UID:E5F03216-4619-44A1-A21C-5EA724CB9432-28-1203_awayreminder@114.badminton
 ners.net
DTSTAMP:20260420T055215Z
SUMMARY:Uitmatch bevestigd? (Merksplas 2G (88) - Beerke 3G (85))
DESCRIPTION:Je hebt 72 uur na aanvang om een uitmatch op Badmintonvlaandere
 n in te vullen. Match info: Merksplas 2G (88) - Beerke 3G (85) - Link: htt
 ps://www.badmintonvlaanderen.be/sport/teammatch.aspx?id=E5F03216-4619-44A1
 -A21C-5EA724CB9432&match=1203
DTSTART;TZID=Europe/Brussels:20230118T100000
DTEND;TZID=Europe/Brussels:20230118T100000
END:VEVENT
BEGIN:VEVENT
UID:E5F03216-4619-44A1-A21C-5EA724CB9432-28-1206_awayreminder@114.badminton
 ners.net
DTSTAMP:20260420T055215Z
SUMMARY:Uitmatch bevestigd? (Huirtuits Dropke 3G (93) - Beerke 3G (85))
DESCRIPTION:Je hebt 72 uur na aanvang om een uitmatch op Badmintonvlaandere
 n in te vullen. Match info: Huirtuits Dropke 3G (93) - Beerke 3G (85) - Li
 nk: https://www.badmintonvlaanderen.be/sport/teammatch.aspx?id=E5F03216-46
 19-44A1-A21C-5EA724CB9432&match=1206
DTSTART;TZID=Europe/Brussels:20230310T200000
DTEND;TZID=Europe/Brussels:20230310T200000
END:VEVENT
BEGIN:VEVENT
UID:E5F03216-4619-44A1-A21C-5EA724CB9432-28-1205_awayreminder@114.badminton
 ners.net
DTSTAMP:20260420T055215Z
SUMMARY:Uitmatch bevestigd? (Berlaar 2G (107) - Beerke 3G (85))
DESCRIPTION:Je hebt 72 uur na aanvang om een uitmatch op Badmintonvlaandere
 n in te vullen. Match info: Berlaar 2G (107) - Beerke 3G (85) - Link: http
 s://www.badmintonvlaanderen.be/sport/teammatch.aspx?id=E5F03216-4619-44A1-
 A21C-5EA724CB9432&match=1205
DTSTART;TZID=Europe/Brussels:20230426T093000
DTEND;TZID=Europe/Brussels:20230426T093000
END:VEVENT
END:VCALENDAR