BEGIN:VCALENDAR
VERSION:2.0
PRODID:spatie/icalendar-generator
NAME:klein_boom_5g_95_reminders
X-WR-CALNAME:klein_boom_5g_95_reminders
BEGIN:VTIMEZONE
TZID:Europe/Brussels
BEGIN:DAYLIGHT
DTSTART:20220327T010000
TZOFFSETFROM:+0100
TZOFFSETTO:+0200
END:DAYLIGHT
BEGIN:STANDARD
DTSTART:20221030T030000
TZOFFSETFROM:+0200
TZOFFSETTO:+0100
END:STANDARD
BEGIN:DAYLIGHT
DTSTART:20230326T010000
TZOFFSETFROM:+0100
TZOFFSETTO:+0200
END:DAYLIGHT
END:VTIMEZONE
BEGIN:VTIMEZONE
TZID:UTC
BEGIN:STANDARD
DTSTART:20250724T055127
TZOFFSETFROM:+0000
TZOFFSETTO:+0000
END:STANDARD
END:VTIMEZONE
BEGIN:VEVENT
UID:E5F03216-4619-44A1-A21C-5EA724CB9432-28-1222_homereminder@93.badmintonn
 ers.net
DTSTAMP:20260420T055127Z
SUMMARY:Thuismatch ingevuld? (Klein Boom 5G (95) - Huirtuits Dropke 3G (93)
 )
DESCRIPTION:Je hebt 36 uur na aanvang om een thuismatch op Badmintonvlaande
 ren in te vullen. Match info: Klein Boom 5G (95) - Huirtuits Dropke 3G (93
 ) - Link: https://www.badmintonvlaanderen.be/sport/teammatch.aspx?id=E5F03
 216-4619-44A1-A21C-5EA724CB9432&match=1222
DTSTART;TZID=Europe/Brussels:20220927T070000
DTEND;TZID=Europe/Brussels:20220927T070000
END:VEVENT
BEGIN:VEVENT
UID:E5F03216-4619-44A1-A21C-5EA724CB9432-28-1202_homereminder@93.badmintonn
 ers.net
DTSTAMP:20260420T055127Z
SUMMARY:Thuismatch ingevuld? (Klein Boom 5G (95) - Beerke 3G (85))
DESCRIPTION:Je hebt 36 uur na aanvang om een thuismatch op Badmintonvlaande
 ren in te vullen. Match info: Klein Boom 5G (95) - Beerke 3G (85) - Link: 
 https://www.badmintonvlaanderen.be/sport/teammatch.aspx?id=E5F03216-4619-4
 4A1-A21C-5EA724CB9432&match=1202
DTSTART;TZID=Europe/Brussels:20221011T070000
DTEND;TZID=Europe/Brussels:20221011T070000
END:VEVENT
BEGIN:VEVENT
UID:E5F03216-4619-44A1-A21C-5EA724CB9432-28-1212_homereminder@93.badmintonn
 ers.net
DTSTAMP:20260420T055127Z
SUMMARY:Thuismatch ingevuld? (Klein Boom 5G (95) - Olympia 1G (107))
DESCRIPTION:Je hebt 36 uur na aanvang om een thuismatch op Badmintonvlaande
 ren in te vullen. Match info: Klein Boom 5G (95) - Olympia 1G (107) - Link
 : https://www.badmintonvlaanderen.be/sport/teammatch.aspx?id=E5F03216-4619
 -44A1-A21C-5EA724CB9432&match=1212
DTSTART;TZID=Europe/Brussels:20221122T070000
DTEND;TZID=Europe/Brussels:20221122T070000
END:VEVENT
BEGIN:VEVENT
UID:E5F03216-4619-44A1-A21C-5EA724CB9432-28-1217_homereminder@93.badmintonn
 ers.net
DTSTAMP:20260420T055127Z
SUMMARY:Thuismatch ingevuld? (Klein Boom 5G (95) - Berlaar 2G (107))
DESCRIPTION:Je hebt 36 uur na aanvang om een thuismatch op Badmintonvlaande
 ren in te vullen. Match info: Klein Boom 5G (95) - Berlaar 2G (107) - Link
 : https://www.badmintonvlaanderen.be/sport/teammatch.aspx?id=E5F03216-4619
 -44A1-A21C-5EA724CB9432&match=1217
DTSTART;TZID=Europe/Brussels:20230214T070000
DTEND;TZID=Europe/Brussels:20230214T070000
END:VEVENT
BEGIN:VEVENT
UID:E5F03216-4619-44A1-A21C-5EA724CB9432-28-1207_homereminder@93.badmintonn
 ers.net
DTSTAMP:20260420T055127Z
SUMMARY:Thuismatch ingevuld? (Klein Boom 5G (95) - Merksplas 2G (88))
DESCRIPTION:Je hebt 36 uur na aanvang om een thuismatch op Badmintonvlaande
 ren in te vullen. Match info: Klein Boom 5G (95) - Merksplas 2G (88) - Lin
 k: https://www.badmintonvlaanderen.be/sport/teammatch.aspx?id=E5F03216-461
 9-44A1-A21C-5EA724CB9432&match=1207
DTSTART;TZID=Europe/Brussels:20230411T070000
DTEND;TZID=Europe/Brussels:20230411T070000
END:VEVENT
BEGIN:VEVENT
UID:E5F03216-4619-44A1-A21C-5EA724CB9432-28-1198_awayreminder@93.badmintonn
 ers.net
DTSTAMP:20260420T055127Z
SUMMARY:Uitmatch bevestigd? (Merksplas 2G (88) - Klein Boom 5G (95))
DESCRIPTION:Je hebt 72 uur na aanvang om een uitmatch op Badmintonvlaandere
 n in te vullen. Match info: Merksplas 2G (88) - Klein Boom 5G (95) - Link:
  https://www.badmintonvlaanderen.be/sport/teammatch.aspx?id=E5F03216-4619-
 44A1-A21C-5EA724CB9432&match=1198
DTSTART;TZID=Europe/Brussels:20221026T190000
DTEND;TZID=Europe/Brussels:20221026T190000
END:VEVENT
BEGIN:VEVENT
UID:E5F03216-4619-44A1-A21C-5EA724CB9432-28-1200_awayreminder@93.badmintonn
 ers.net
DTSTAMP:20260420T055127Z
SUMMARY:Uitmatch bevestigd? (Berlaar 2G (107) - Klein Boom 5G (95))
DESCRIPTION:Je hebt 72 uur na aanvang om een uitmatch op Badmintonvlaandere
 n in te vullen. Match info: Berlaar 2G (107) - Klein Boom 5G (95) - Link: 
 https://www.badmintonvlaanderen.be/sport/teammatch.aspx?id=E5F03216-4619-4
 4A1-A21C-5EA724CB9432&match=1200
DTSTART;TZID=Europe/Brussels:20221221T093000
DTEND;TZID=Europe/Brussels:20221221T093000
END:VEVENT
BEGIN:VEVENT
UID:E5F03216-4619-44A1-A21C-5EA724CB9432-28-1199_awayreminder@93.badmintonn
 ers.net
DTSTAMP:20260420T055127Z
SUMMARY:Uitmatch bevestigd? (Olympia 1G (107) - Klein Boom 5G (95))
DESCRIPTION:Je hebt 72 uur na aanvang om een uitmatch op Badmintonvlaandere
 n in te vullen. Match info: Olympia 1G (107) - Klein Boom 5G (95) - Link: 
 https://www.badmintonvlaanderen.be/sport/teammatch.aspx?id=E5F03216-4619-4
 4A1-A21C-5EA724CB9432&match=1199
DTSTART;TZID=Europe/Brussels:20230117T093000
DTEND;TZID=Europe/Brussels:20230117T093000
END:VEVENT
BEGIN:VEVENT
UID:E5F03216-4619-44A1-A21C-5EA724CB9432-28-1197_awayreminder@93.badmintonn
 ers.net
DTSTAMP:20260420T055127Z
SUMMARY:Uitmatch bevestigd? (Beerke 3G (85) - Klein Boom 5G (95))
DESCRIPTION:Je hebt 72 uur na aanvang om een uitmatch op Badmintonvlaandere
 n in te vullen. Match info: Beerke 3G (85) - Klein Boom 5G (95) - Link: ht
 tps://www.badmintonvlaanderen.be/sport/teammatch.aspx?id=E5F03216-4619-44A
 1-A21C-5EA724CB9432&match=1197
DTSTART;TZID=Europe/Brussels:20230329T100000
DTEND;TZID=Europe/Brussels:20230329T100000
END:VEVENT
BEGIN:VEVENT
UID:E5F03216-4619-44A1-A21C-5EA724CB9432-28-1201_awayreminder@93.badmintonn
 ers.net
DTSTAMP:20260420T055127Z
SUMMARY:Uitmatch bevestigd? (Huirtuits Dropke 3G (93) - Klein Boom 5G (95))
DESCRIPTION:Je hebt 72 uur na aanvang om een uitmatch op Badmintonvlaandere
 n in te vullen. Match info: Huirtuits Dropke 3G (93) - Klein Boom 5G (95) 
 - Link: https://www.badmintonvlaanderen.be/sport/teammatch.aspx?id=E5F0321
 6-4619-44A1-A21C-5EA724CB9432&match=1201
DTSTART;TZID=Europe/Brussels:20230421T200000
DTEND;TZID=Europe/Brussels:20230421T200000
END:VEVENT
END:VCALENDAR