BEGIN:VCALENDAR
VERSION:2.0
PRODID:spatie/icalendar-generator
NAME:zoersel_3g_102_reminders
X-WR-CALNAME:zoersel_3g_102_reminders
BEGIN:VTIMEZONE
TZID:Europe/Brussels
BEGIN:DAYLIGHT
DTSTART:20220327T010000
TZOFFSETFROM:+0100
TZOFFSETTO:+0200
END:DAYLIGHT
BEGIN:STANDARD
DTSTART:20221030T030000
TZOFFSETFROM:+0200
TZOFFSETTO:+0100
END:STANDARD
BEGIN:DAYLIGHT
DTSTART:20230326T010000
TZOFFSETFROM:+0100
TZOFFSETTO:+0200
END:DAYLIGHT
END:VTIMEZONE
BEGIN:VTIMEZONE
TZID:UTC
BEGIN:STANDARD
DTSTART:20250724T072403
TZOFFSETFROM:+0000
TZOFFSETTO:+0000
END:STANDARD
END:VTIMEZONE
BEGIN:VEVENT
UID:E5F03216-4619-44A1-A21C-5EA724CB9432-30-1323_homereminder@182.badminton
 ners.net
DTSTAMP:20260420T072403Z
SUMMARY:Thuismatch ingevuld? (Zoersel 3G (102) - Klein Boom 9G (110))
DESCRIPTION:Je hebt 36 uur na aanvang om een thuismatch op Badmintonvlaande
 ren in te vullen. Match info: Zoersel 3G (102) - Klein Boom 9G (110) - Lin
 k: https://www.badmintonvlaanderen.be/sport/teammatch.aspx?id=E5F03216-461
 9-44A1-A21C-5EA724CB9432&match=1323
DTSTART;TZID=Europe/Brussels:20220927T000000
DTEND;TZID=Europe/Brussels:20220927T000000
END:VEVENT
BEGIN:VEVENT
UID:E5F03216-4619-44A1-A21C-5EA724CB9432-30-1337_homereminder@182.badminton
 ners.net
DTSTAMP:20260420T072403Z
SUMMARY:Thuismatch ingevuld? (Zoersel 3G (102) - Plumula 4G (113))
DESCRIPTION:Je hebt 36 uur na aanvang om een thuismatch op Badmintonvlaande
 ren in te vullen. Match info: Zoersel 3G (102) - Plumula 4G (113) - Link: 
 https://www.badmintonvlaanderen.be/sport/teammatch.aspx?id=E5F03216-4619-4
 4A1-A21C-5EA724CB9432&match=1337
DTSTART;TZID=Europe/Brussels:20221018T000000
DTEND;TZID=Europe/Brussels:20221018T000000
END:VEVENT
BEGIN:VEVENT
UID:E5F03216-4619-44A1-A21C-5EA724CB9432-30-1359_homereminder@182.badminton
 ners.net
DTSTAMP:20260420T072403Z
SUMMARY:Thuismatch ingevuld? (Zoersel 3G (102) - Beerke 4G (102))
DESCRIPTION:Je hebt 36 uur na aanvang om een thuismatch op Badmintonvlaande
 ren in te vullen. Match info: Zoersel 3G (102) - Beerke 4G (102) - Link: h
 ttps://www.badmintonvlaanderen.be/sport/teammatch.aspx?id=E5F03216-4619-44
 A1-A21C-5EA724CB9432&match=1359
DTSTART;TZID=Europe/Brussels:20221122T000000
DTEND;TZID=Europe/Brussels:20221122T000000
END:VEVENT
BEGIN:VEVENT
UID:E5F03216-4619-44A1-A21C-5EA724CB9432-30-1344_homereminder@182.badminton
 ners.net
DTSTAMP:20260420T072403Z
SUMMARY:Thuismatch ingevuld? (Zoersel 3G (102) - Zandhoven 2G (103))
DESCRIPTION:Je hebt 36 uur na aanvang om een thuismatch op Badmintonvlaande
 ren in te vullen. Match info: Zoersel 3G (102) - Zandhoven 2G (103) - Link
 : https://www.badmintonvlaanderen.be/sport/teammatch.aspx?id=E5F03216-4619
 -44A1-A21C-5EA724CB9432&match=1344
DTSTART;TZID=Europe/Brussels:20221206T000000
DTEND;TZID=Europe/Brussels:20221206T000000
END:VEVENT
BEGIN:VEVENT
UID:E5F03216-4619-44A1-A21C-5EA724CB9432-30-1316_homereminder@182.badminton
 ners.net
DTSTAMP:20260420T072403Z
SUMMARY:Thuismatch ingevuld? (Zoersel 3G (102) - Merksplas 3G (106))
DESCRIPTION:Je hebt 36 uur na aanvang om een thuismatch op Badmintonvlaande
 ren in te vullen. Match info: Zoersel 3G (102) - Merksplas 3G (106) - Link
 : https://www.badmintonvlaanderen.be/sport/teammatch.aspx?id=E5F03216-4619
 -44A1-A21C-5EA724CB9432&match=1316
DTSTART;TZID=Europe/Brussels:20230110T000000
DTEND;TZID=Europe/Brussels:20230110T000000
END:VEVENT
BEGIN:VEVENT
UID:E5F03216-4619-44A1-A21C-5EA724CB9432-30-1330_homereminder@182.badminton
 ners.net
DTSTAMP:20260420T072403Z
SUMMARY:Thuismatch ingevuld? (Zoersel 3G (102) - Amateurs 2G (110))
DESCRIPTION:Je hebt 36 uur na aanvang om een thuismatch op Badmintonvlaande
 ren in te vullen. Match info: Zoersel 3G (102) - Amateurs 2G (110) - Link:
  https://www.badmintonvlaanderen.be/sport/teammatch.aspx?id=E5F03216-4619-
 44A1-A21C-5EA724CB9432&match=1330
DTSTART;TZID=Europe/Brussels:20230117T000000
DTEND;TZID=Europe/Brussels:20230117T000000
END:VEVENT
BEGIN:VEVENT
UID:E5F03216-4619-44A1-A21C-5EA724CB9432-30-1366_homereminder@182.badminton
 ners.net
DTSTAMP:20260420T072403Z
SUMMARY:Thuismatch ingevuld? (Zoersel 3G (102) - Heibac 1G (112))
DESCRIPTION:Je hebt 36 uur na aanvang om een thuismatch op Badmintonvlaande
 ren in te vullen. Match info: Zoersel 3G (102) - Heibac 1G (112) - Link: h
 ttps://www.badmintonvlaanderen.be/sport/teammatch.aspx?id=E5F03216-4619-44
 A1-A21C-5EA724CB9432&match=1366
DTSTART;TZID=Europe/Brussels:20230314T000000
DTEND;TZID=Europe/Brussels:20230314T000000
END:VEVENT
BEGIN:VEVENT
UID:E5F03216-4619-44A1-A21C-5EA724CB9432-30-1347_awayreminder@182.badminton
 ners.net
DTSTAMP:20260420T072403Z
SUMMARY:Uitmatch bevestigd? (Merksplas 3G (106) - Zoersel 3G (102))
DESCRIPTION:Je hebt 72 uur na aanvang om een uitmatch op Badmintonvlaandere
 n in te vullen. Match info: Merksplas 3G (106) - Zoersel 3G (102) - Link: 
 https://www.badmintonvlaanderen.be/sport/teammatch.aspx?id=E5F03216-4619-4
 4A1-A21C-5EA724CB9432&match=1347
DTSTART;TZID=Europe/Brussels:20221012T190000
DTEND;TZID=Europe/Brussels:20221012T190000
END:VEVENT
BEGIN:VEVENT
UID:E5F03216-4619-44A1-A21C-5EA724CB9432-30-1349_awayreminder@182.badminton
 ners.net
DTSTAMP:20260420T072403Z
SUMMARY:Uitmatch bevestigd? (Amateurs 2G (110) - Zoersel 3G (102))
DESCRIPTION:Je hebt 72 uur na aanvang om een uitmatch op Badmintonvlaandere
 n in te vullen. Match info: Amateurs 2G (110) - Zoersel 3G (102) - Link: h
 ttps://www.badmintonvlaanderen.be/sport/teammatch.aspx?id=E5F03216-4619-44
 A1-A21C-5EA724CB9432&match=1349
DTSTART;TZID=Europe/Brussels:20221103T200000
DTEND;TZID=Europe/Brussels:20221103T200000
END:VEVENT
BEGIN:VEVENT
UID:E5F03216-4619-44A1-A21C-5EA724CB9432-30-1353_awayreminder@182.badminton
 ners.net
DTSTAMP:20260420T072403Z
SUMMARY:Uitmatch bevestigd? (Heibac 1G (112) - Zoersel 3G (102))
DESCRIPTION:Je hebt 72 uur na aanvang om een uitmatch op Badmintonvlaandere
 n in te vullen. Match info: Heibac 1G (112) - Zoersel 3G (102) - Link: htt
 ps://www.badmintonvlaanderen.be/sport/teammatch.aspx?id=E5F03216-4619-44A1
 -A21C-5EA724CB9432&match=1353
DTSTART;TZID=Europe/Brussels:20221221T193000
DTEND;TZID=Europe/Brussels:20221221T193000
END:VEVENT
BEGIN:VEVENT
UID:E5F03216-4619-44A1-A21C-5EA724CB9432-30-1350_awayreminder@182.badminton
 ners.net
DTSTAMP:20260420T072403Z
SUMMARY:Uitmatch bevestigd? (Plumula 4G (113) - Zoersel 3G (102))
DESCRIPTION:Je hebt 72 uur na aanvang om een uitmatch op Badmintonvlaandere
 n in te vullen. Match info: Plumula 4G (113) - Zoersel 3G (102) - Link: ht
 tps://www.badmintonvlaanderen.be/sport/teammatch.aspx?id=E5F03216-4619-44A
 1-A21C-5EA724CB9432&match=1350
DTSTART;TZID=Europe/Brussels:20230201T173000
DTEND;TZID=Europe/Brussels:20230201T173000
END:VEVENT
BEGIN:VEVENT
UID:E5F03216-4619-44A1-A21C-5EA724CB9432-30-1348_awayreminder@182.badminton
 ners.net
DTSTAMP:20260420T072403Z
SUMMARY:Uitmatch bevestigd? (Klein Boom 9G (110) - Zoersel 3G (102))
DESCRIPTION:Je hebt 72 uur na aanvang om een uitmatch op Badmintonvlaandere
 n in te vullen. Match info: Klein Boom 9G (110) - Zoersel 3G (102) - Link:
  https://www.badmintonvlaanderen.be/sport/teammatch.aspx?id=E5F03216-4619-
 44A1-A21C-5EA724CB9432&match=1348
DTSTART;TZID=Europe/Brussels:20230215T190000
DTEND;TZID=Europe/Brussels:20230215T190000
END:VEVENT
BEGIN:VEVENT
UID:E5F03216-4619-44A1-A21C-5EA724CB9432-30-1351_awayreminder@182.badminton
 ners.net
DTSTAMP:20260420T072403Z
SUMMARY:Uitmatch bevestigd? (Zandhoven 2G (103) - Zoersel 3G (102))
DESCRIPTION:Je hebt 72 uur na aanvang om een uitmatch op Badmintonvlaandere
 n in te vullen. Match info: Zandhoven 2G (103) - Zoersel 3G (102) - Link: 
 https://www.badmintonvlaanderen.be/sport/teammatch.aspx?id=E5F03216-4619-4
 4A1-A21C-5EA724CB9432&match=1351
DTSTART;TZID=Europe/Brussels:20230223T200000
DTEND;TZID=Europe/Brussels:20230223T200000
END:VEVENT
BEGIN:VEVENT
UID:E5F03216-4619-44A1-A21C-5EA724CB9432-30-1352_awayreminder@182.badminton
 ners.net
DTSTAMP:20260420T072403Z
SUMMARY:Uitmatch bevestigd? (Beerke 4G (102) - Zoersel 3G (102))
DESCRIPTION:Je hebt 72 uur na aanvang om een uitmatch op Badmintonvlaandere
 n in te vullen. Match info: Beerke 4G (102) - Zoersel 3G (102) - Link: htt
 ps://www.badmintonvlaanderen.be/sport/teammatch.aspx?id=E5F03216-4619-44A1
 -A21C-5EA724CB9432&match=1352
DTSTART;TZID=Europe/Brussels:20230329T100000
DTEND;TZID=Europe/Brussels:20230329T100000
END:VEVENT
END:VCALENDAR