BEGIN:VCALENDAR
VERSION:2.0
PRODID:spatie/icalendar-generator
NAME:plumula_4g_113_reminders
X-WR-CALNAME:plumula_4g_113_reminders
BEGIN:VTIMEZONE
TZID:Europe/Brussels
BEGIN:DAYLIGHT
DTSTART:20220327T010000
TZOFFSETFROM:+0100
TZOFFSETTO:+0200
END:DAYLIGHT
BEGIN:STANDARD
DTSTART:20221030T030000
TZOFFSETFROM:+0200
TZOFFSETTO:+0100
END:STANDARD
BEGIN:DAYLIGHT
DTSTART:20230326T010000
TZOFFSETFROM:+0100
TZOFFSETTO:+0200
END:DAYLIGHT
END:VTIMEZONE
BEGIN:VTIMEZONE
TZID:UTC
BEGIN:STANDARD
DTSTART:20250724T072410
TZOFFSETFROM:+0000
TZOFFSETTO:+0000
END:STANDARD
END:VTIMEZONE
BEGIN:VEVENT
UID:E5F03216-4619-44A1-A21C-5EA724CB9432-30-1364_homereminder@183.badminton
 ners.net
DTSTAMP:20260420T072410Z
SUMMARY:Thuismatch ingevuld? (Plumula 4G (113) - Heibac 1G (112))
DESCRIPTION:Je hebt 36 uur na aanvang om een thuismatch op Badmintonvlaande
 ren in te vullen. Match info: Plumula 4G (113) - Heibac 1G (112) - Link: h
 ttps://www.badmintonvlaanderen.be/sport/teammatch.aspx?id=E5F03216-4619-44
 A1-A21C-5EA724CB9432&match=1364
DTSTART;TZID=Europe/Brussels:20220927T053000
DTEND;TZID=Europe/Brussels:20220927T053000
END:VEVENT
BEGIN:VEVENT
UID:E5F03216-4619-44A1-A21C-5EA724CB9432-30-1321_homereminder@183.badminton
 ners.net
DTSTAMP:20260420T072410Z
SUMMARY:Thuismatch ingevuld? (Plumula 4G (113) - Klein Boom 9G (110))
DESCRIPTION:Je hebt 36 uur na aanvang om een thuismatch op Badmintonvlaande
 ren in te vullen. Match info: Plumula 4G (113) - Klein Boom 9G (110) - Lin
 k: https://www.badmintonvlaanderen.be/sport/teammatch.aspx?id=E5F03216-461
 9-44A1-A21C-5EA724CB9432&match=1321
DTSTART;TZID=Europe/Brussels:20221122T053000
DTEND;TZID=Europe/Brussels:20221122T053000
END:VEVENT
BEGIN:VEVENT
UID:E5F03216-4619-44A1-A21C-5EA724CB9432-30-1357_homereminder@183.badminton
 ners.net
DTSTAMP:20260420T072410Z
SUMMARY:Thuismatch ingevuld? (Plumula 4G (113) - Beerke 4G (102))
DESCRIPTION:Je hebt 36 uur na aanvang om een thuismatch op Badmintonvlaande
 ren in te vullen. Match info: Plumula 4G (113) - Beerke 4G (102) - Link: h
 ttps://www.badmintonvlaanderen.be/sport/teammatch.aspx?id=E5F03216-4619-44
 A1-A21C-5EA724CB9432&match=1357
DTSTART;TZID=Europe/Brussels:20221206T053000
DTEND;TZID=Europe/Brussels:20221206T053000
END:VEVENT
BEGIN:VEVENT
UID:E5F03216-4619-44A1-A21C-5EA724CB9432-30-1343_homereminder@183.badminton
 ners.net
DTSTAMP:20260420T072410Z
SUMMARY:Thuismatch ingevuld? (Plumula 4G (113) - Zandhoven 2G (103))
DESCRIPTION:Je hebt 36 uur na aanvang om een thuismatch op Badmintonvlaande
 ren in te vullen. Match info: Plumula 4G (113) - Zandhoven 2G (103) - Link
 : https://www.badmintonvlaanderen.be/sport/teammatch.aspx?id=E5F03216-4619
 -44A1-A21C-5EA724CB9432&match=1343
DTSTART;TZID=Europe/Brussels:20230117T053000
DTEND;TZID=Europe/Brussels:20230117T053000
END:VEVENT
BEGIN:VEVENT
UID:E5F03216-4619-44A1-A21C-5EA724CB9432-30-1350_homereminder@183.badminton
 ners.net
DTSTAMP:20260420T072410Z
SUMMARY:Thuismatch ingevuld? (Plumula 4G (113) - Zoersel 3G (102))
DESCRIPTION:Je hebt 36 uur na aanvang om een thuismatch op Badmintonvlaande
 ren in te vullen. Match info: Plumula 4G (113) - Zoersel 3G (102) - Link: 
 https://www.badmintonvlaanderen.be/sport/teammatch.aspx?id=E5F03216-4619-4
 4A1-A21C-5EA724CB9432&match=1350
DTSTART;TZID=Europe/Brussels:20230131T053000
DTEND;TZID=Europe/Brussels:20230131T053000
END:VEVENT
BEGIN:VEVENT
UID:E5F03216-4619-44A1-A21C-5EA724CB9432-30-1314_homereminder@183.badminton
 ners.net
DTSTAMP:20260420T072410Z
SUMMARY:Thuismatch ingevuld? (Plumula 4G (113) - Merksplas 3G (106))
DESCRIPTION:Je hebt 36 uur na aanvang om een thuismatch op Badmintonvlaande
 ren in te vullen. Match info: Plumula 4G (113) - Merksplas 3G (106) - Link
 : https://www.badmintonvlaanderen.be/sport/teammatch.aspx?id=E5F03216-4619
 -44A1-A21C-5EA724CB9432&match=1314
DTSTART;TZID=Europe/Brussels:20230314T053000
DTEND;TZID=Europe/Brussels:20230314T053000
END:VEVENT
BEGIN:VEVENT
UID:E5F03216-4619-44A1-A21C-5EA724CB9432-30-1328_homereminder@183.badminton
 ners.net
DTSTAMP:20260420T072410Z
SUMMARY:Thuismatch ingevuld? (Plumula 4G (113) - Amateurs 2G (110))
DESCRIPTION:Je hebt 36 uur na aanvang om een thuismatch op Badmintonvlaande
 ren in te vullen. Match info: Plumula 4G (113) - Amateurs 2G (110) - Link:
  https://www.badmintonvlaanderen.be/sport/teammatch.aspx?id=E5F03216-4619-
 44A1-A21C-5EA724CB9432&match=1328
DTSTART;TZID=Europe/Brussels:20230425T053000
DTEND;TZID=Europe/Brussels:20230425T053000
END:VEVENT
BEGIN:VEVENT
UID:E5F03216-4619-44A1-A21C-5EA724CB9432-30-1335_awayreminder@183.badminton
 ners.net
DTSTAMP:20260420T072410Z
SUMMARY:Uitmatch bevestigd? (Amateurs 2G (110) - Plumula 4G (113))
DESCRIPTION:Je hebt 72 uur na aanvang om een uitmatch op Badmintonvlaandere
 n in te vullen. Match info: Amateurs 2G (110) - Plumula 4G (113) - Link: h
 ttps://www.badmintonvlaanderen.be/sport/teammatch.aspx?id=E5F03216-4619-44
 A1-A21C-5EA724CB9432&match=1335
DTSTART;TZID=Europe/Brussels:20221006T200000
DTEND;TZID=Europe/Brussels:20221006T200000
END:VEVENT
BEGIN:VEVENT
UID:E5F03216-4619-44A1-A21C-5EA724CB9432-30-1337_awayreminder@183.badminton
 ners.net
DTSTAMP:20260420T072410Z
SUMMARY:Uitmatch bevestigd? (Zoersel 3G (102) - Plumula 4G (113))
DESCRIPTION:Je hebt 72 uur na aanvang om een uitmatch op Badmintonvlaandere
 n in te vullen. Match info: Zoersel 3G (102) - Plumula 4G (113) - Link: ht
 tps://www.badmintonvlaanderen.be/sport/teammatch.aspx?id=E5F03216-4619-44A
 1-A21C-5EA724CB9432&match=1337
DTSTART;TZID=Europe/Brussels:20221019T120000
DTEND;TZID=Europe/Brussels:20221019T120000
END:VEVENT
BEGIN:VEVENT
UID:E5F03216-4619-44A1-A21C-5EA724CB9432-30-1336_awayreminder@183.badminton
 ners.net
DTSTAMP:20260420T072410Z
SUMMARY:Uitmatch bevestigd? (Zandhoven 2G (103) - Plumula 4G (113))
DESCRIPTION:Je hebt 72 uur na aanvang om een uitmatch op Badmintonvlaandere
 n in te vullen. Match info: Zandhoven 2G (103) - Plumula 4G (113) - Link: 
 https://www.badmintonvlaanderen.be/sport/teammatch.aspx?id=E5F03216-4619-4
 4A1-A21C-5EA724CB9432&match=1336
DTSTART;TZID=Europe/Brussels:20221215T200000
DTEND;TZID=Europe/Brussels:20221215T200000
END:VEVENT
BEGIN:VEVENT
UID:E5F03216-4619-44A1-A21C-5EA724CB9432-30-1333_awayreminder@183.badminton
 ners.net
DTSTAMP:20260420T072410Z
SUMMARY:Uitmatch bevestigd? (Merksplas 3G (106) - Plumula 4G (113))
DESCRIPTION:Je hebt 72 uur na aanvang om een uitmatch op Badmintonvlaandere
 n in te vullen. Match info: Merksplas 3G (106) - Plumula 4G (113) - Link: 
 https://www.badmintonvlaanderen.be/sport/teammatch.aspx?id=E5F03216-4619-4
 4A1-A21C-5EA724CB9432&match=1333
DTSTART;TZID=Europe/Brussels:20221221T100000
DTEND;TZID=Europe/Brussels:20221221T100000
END:VEVENT
BEGIN:VEVENT
UID:E5F03216-4619-44A1-A21C-5EA724CB9432-30-1339_awayreminder@183.badminton
 ners.net
DTSTAMP:20260420T072410Z
SUMMARY:Uitmatch bevestigd? (Heibac 1G (112) - Plumula 4G (113))
DESCRIPTION:Je hebt 72 uur na aanvang om een uitmatch op Badmintonvlaandere
 n in te vullen. Match info: Heibac 1G (112) - Plumula 4G (113) - Link: htt
 ps://www.badmintonvlaanderen.be/sport/teammatch.aspx?id=E5F03216-4619-44A1
 -A21C-5EA724CB9432&match=1339
DTSTART;TZID=Europe/Brussels:20230215T193000
DTEND;TZID=Europe/Brussels:20230215T193000
END:VEVENT
BEGIN:VEVENT
UID:E5F03216-4619-44A1-A21C-5EA724CB9432-30-1338_awayreminder@183.badminton
 ners.net
DTSTAMP:20260420T072410Z
SUMMARY:Uitmatch bevestigd? (Beerke 4G (102) - Plumula 4G (113))
DESCRIPTION:Je hebt 72 uur na aanvang om een uitmatch op Badmintonvlaandere
 n in te vullen. Match info: Beerke 4G (102) - Plumula 4G (113) - Link: htt
 ps://www.badmintonvlaanderen.be/sport/teammatch.aspx?id=E5F03216-4619-44A1
 -A21C-5EA724CB9432&match=1338
DTSTART;TZID=Europe/Brussels:20230301T100000
DTEND;TZID=Europe/Brussels:20230301T100000
END:VEVENT
BEGIN:VEVENT
UID:E5F03216-4619-44A1-A21C-5EA724CB9432-30-1334_awayreminder@183.badminton
 ners.net
DTSTAMP:20260420T072410Z
SUMMARY:Uitmatch bevestigd? (Klein Boom 9G (110) - Plumula 4G (113))
DESCRIPTION:Je hebt 72 uur na aanvang om een uitmatch op Badmintonvlaandere
 n in te vullen. Match info: Klein Boom 9G (110) - Plumula 4G (113) - Link:
  https://www.badmintonvlaanderen.be/sport/teammatch.aspx?id=E5F03216-4619-
 44A1-A21C-5EA724CB9432&match=1334
DTSTART;TZID=Europe/Brussels:20230329T190000
DTEND;TZID=Europe/Brussels:20230329T190000
END:VEVENT
END:VCALENDAR