BEGIN:VCALENDAR
VERSION:2.0
PRODID:spatie/icalendar-generator
NAME:klein_boom_9g_110_reminders
X-WR-CALNAME:klein_boom_9g_110_reminders
BEGIN:VTIMEZONE
TZID:Europe/Brussels
BEGIN:DAYLIGHT
DTSTART:20220327T010000
TZOFFSETFROM:+0100
TZOFFSETTO:+0200
END:DAYLIGHT
BEGIN:STANDARD
DTSTART:20221030T030000
TZOFFSETFROM:+0200
TZOFFSETTO:+0100
END:STANDARD
BEGIN:DAYLIGHT
DTSTART:20230326T010000
TZOFFSETFROM:+0100
TZOFFSETTO:+0200
END:DAYLIGHT
END:VTIMEZONE
BEGIN:VTIMEZONE
TZID:UTC
BEGIN:STANDARD
DTSTART:20250724T072403
TZOFFSETFROM:+0000
TZOFFSETTO:+0000
END:STANDARD
END:VTIMEZONE
BEGIN:VEVENT
UID:E5F03216-4619-44A1-A21C-5EA724CB9432-30-1355_homereminder@189.badminton
 ners.net
DTSTAMP:20260420T072403Z
SUMMARY:Thuismatch ingevuld? (Klein Boom 9G (110) - Beerke 4G (102))
DESCRIPTION:Je hebt 36 uur na aanvang om een thuismatch op Badmintonvlaande
 ren in te vullen. Match info: Klein Boom 9G (110) - Beerke 4G (102) - Link
 : https://www.badmintonvlaanderen.be/sport/teammatch.aspx?id=E5F03216-4619
 -44A1-A21C-5EA724CB9432&match=1355
DTSTART;TZID=Europe/Brussels:20220913T070000
DTEND;TZID=Europe/Brussels:20220913T070000
END:VEVENT
BEGIN:VEVENT
UID:E5F03216-4619-44A1-A21C-5EA724CB9432-30-1341_homereminder@189.badminton
 ners.net
DTSTAMP:20260420T072403Z
SUMMARY:Thuismatch ingevuld? (Klein Boom 9G (110) - Zandhoven 2G (103))
DESCRIPTION:Je hebt 36 uur na aanvang om een thuismatch op Badmintonvlaande
 ren in te vullen. Match info: Klein Boom 9G (110) - Zandhoven 2G (103) - L
 ink: https://www.badmintonvlaanderen.be/sport/teammatch.aspx?id=E5F03216-4
 619-44A1-A21C-5EA724CB9432&match=1341
DTSTART;TZID=Europe/Brussels:20221011T070000
DTEND;TZID=Europe/Brussels:20221011T070000
END:VEVENT
BEGIN:VEVENT
UID:E5F03216-4619-44A1-A21C-5EA724CB9432-30-1362_homereminder@189.badminton
 ners.net
DTSTAMP:20260420T072403Z
SUMMARY:Thuismatch ingevuld? (Klein Boom 9G (110) - Heibac 1G (112))
DESCRIPTION:Je hebt 36 uur na aanvang om een thuismatch op Badmintonvlaande
 ren in te vullen. Match info: Klein Boom 9G (110) - Heibac 1G (112) - Link
 : https://www.badmintonvlaanderen.be/sport/teammatch.aspx?id=E5F03216-4619
 -44A1-A21C-5EA724CB9432&match=1362
DTSTART;TZID=Europe/Brussels:20221206T070000
DTEND;TZID=Europe/Brussels:20221206T070000
END:VEVENT
BEGIN:VEVENT
UID:E5F03216-4619-44A1-A21C-5EA724CB9432-30-1327_homereminder@189.badminton
 ners.net
DTSTAMP:20260420T072403Z
SUMMARY:Thuismatch ingevuld? (Klein Boom 9G (110) - Amateurs 2G (110))
DESCRIPTION:Je hebt 36 uur na aanvang om een thuismatch op Badmintonvlaande
 ren in te vullen. Match info: Klein Boom 9G (110) - Amateurs 2G (110) - Li
 nk: https://www.badmintonvlaanderen.be/sport/teammatch.aspx?id=E5F03216-46
 19-44A1-A21C-5EA724CB9432&match=1327
DTSTART;TZID=Europe/Brussels:20221220T070000
DTEND;TZID=Europe/Brussels:20221220T070000
END:VEVENT
BEGIN:VEVENT
UID:E5F03216-4619-44A1-A21C-5EA724CB9432-30-1312_homereminder@189.badminton
 ners.net
DTSTAMP:20260420T072403Z
SUMMARY:Thuismatch ingevuld? (Klein Boom 9G (110) - Merksplas 3G (106))
DESCRIPTION:Je hebt 36 uur na aanvang om een thuismatch op Badmintonvlaande
 ren in te vullen. Match info: Klein Boom 9G (110) - Merksplas 3G (106) - L
 ink: https://www.badmintonvlaanderen.be/sport/teammatch.aspx?id=E5F03216-4
 619-44A1-A21C-5EA724CB9432&match=1312
DTSTART;TZID=Europe/Brussels:20230131T070000
DTEND;TZID=Europe/Brussels:20230131T070000
END:VEVENT
BEGIN:VEVENT
UID:E5F03216-4619-44A1-A21C-5EA724CB9432-30-1348_homereminder@189.badminton
 ners.net
DTSTAMP:20260420T072403Z
SUMMARY:Thuismatch ingevuld? (Klein Boom 9G (110) - Zoersel 3G (102))
DESCRIPTION:Je hebt 36 uur na aanvang om een thuismatch op Badmintonvlaande
 ren in te vullen. Match info: Klein Boom 9G (110) - Zoersel 3G (102) - Lin
 k: https://www.badmintonvlaanderen.be/sport/teammatch.aspx?id=E5F03216-461
 9-44A1-A21C-5EA724CB9432&match=1348
DTSTART;TZID=Europe/Brussels:20230214T070000
DTEND;TZID=Europe/Brussels:20230214T070000
END:VEVENT
BEGIN:VEVENT
UID:E5F03216-4619-44A1-A21C-5EA724CB9432-30-1334_homereminder@189.badminton
 ners.net
DTSTAMP:20260420T072403Z
SUMMARY:Thuismatch ingevuld? (Klein Boom 9G (110) - Plumula 4G (113))
DESCRIPTION:Je hebt 36 uur na aanvang om een thuismatch op Badmintonvlaande
 ren in te vullen. Match info: Klein Boom 9G (110) - Plumula 4G (113) - Lin
 k: https://www.badmintonvlaanderen.be/sport/teammatch.aspx?id=E5F03216-461
 9-44A1-A21C-5EA724CB9432&match=1334
DTSTART;TZID=Europe/Brussels:20230328T070000
DTEND;TZID=Europe/Brussels:20230328T070000
END:VEVENT
BEGIN:VEVENT
UID:E5F03216-4619-44A1-A21C-5EA724CB9432-30-1323_awayreminder@189.badminton
 ners.net
DTSTAMP:20260420T072403Z
SUMMARY:Uitmatch bevestigd? (Zoersel 3G (102) - Klein Boom 9G (110))
DESCRIPTION:Je hebt 72 uur na aanvang om een uitmatch op Badmintonvlaandere
 n in te vullen. Match info: Zoersel 3G (102) - Klein Boom 9G (110) - Link:
  https://www.badmintonvlaanderen.be/sport/teammatch.aspx?id=E5F03216-4619-
 44A1-A21C-5EA724CB9432&match=1323
DTSTART;TZID=Europe/Brussels:20220928T120000
DTEND;TZID=Europe/Brussels:20220928T120000
END:VEVENT
BEGIN:VEVENT
UID:E5F03216-4619-44A1-A21C-5EA724CB9432-30-1319_awayreminder@189.badminton
 ners.net
DTSTAMP:20260420T072403Z
SUMMARY:Uitmatch bevestigd? (Merksplas 3G (106) - Klein Boom 9G (110))
DESCRIPTION:Je hebt 72 uur na aanvang om een uitmatch op Badmintonvlaandere
 n in te vullen. Match info: Merksplas 3G (106) - Klein Boom 9G (110) - Lin
 k: https://www.badmintonvlaanderen.be/sport/teammatch.aspx?id=E5F03216-461
 9-44A1-A21C-5EA724CB9432&match=1319
DTSTART;TZID=Europe/Brussels:20221026T100000
DTEND;TZID=Europe/Brussels:20221026T100000
END:VEVENT
BEGIN:VEVENT
UID:E5F03216-4619-44A1-A21C-5EA724CB9432-30-1321_awayreminder@189.badminton
 ners.net
DTSTAMP:20260420T072403Z
SUMMARY:Uitmatch bevestigd? (Plumula 4G (113) - Klein Boom 9G (110))
DESCRIPTION:Je hebt 72 uur na aanvang om een uitmatch op Badmintonvlaandere
 n in te vullen. Match info: Plumula 4G (113) - Klein Boom 9G (110) - Link:
  https://www.badmintonvlaanderen.be/sport/teammatch.aspx?id=E5F03216-4619-
 44A1-A21C-5EA724CB9432&match=1321
DTSTART;TZID=Europe/Brussels:20221123T173000
DTEND;TZID=Europe/Brussels:20221123T173000
END:VEVENT
BEGIN:VEVENT
UID:E5F03216-4619-44A1-A21C-5EA724CB9432-30-1324_awayreminder@189.badminton
 ners.net
DTSTAMP:20260420T072403Z
SUMMARY:Uitmatch bevestigd? (Beerke 4G (102) - Klein Boom 9G (110))
DESCRIPTION:Je hebt 72 uur na aanvang om een uitmatch op Badmintonvlaandere
 n in te vullen. Match info: Beerke 4G (102) - Klein Boom 9G (110) - Link: 
 https://www.badmintonvlaanderen.be/sport/teammatch.aspx?id=E5F03216-4619-4
 4A1-A21C-5EA724CB9432&match=1324
DTSTART;TZID=Europe/Brussels:20230118T100000
DTEND;TZID=Europe/Brussels:20230118T100000
END:VEVENT
BEGIN:VEVENT
UID:E5F03216-4619-44A1-A21C-5EA724CB9432-30-1325_awayreminder@189.badminton
 ners.net
DTSTAMP:20260420T072403Z
SUMMARY:Uitmatch bevestigd? (Heibac 1G (112) - Klein Boom 9G (110))
DESCRIPTION:Je hebt 72 uur na aanvang om een uitmatch op Badmintonvlaandere
 n in te vullen. Match info: Heibac 1G (112) - Klein Boom 9G (110) - Link: 
 https://www.badmintonvlaanderen.be/sport/teammatch.aspx?id=E5F03216-4619-4
 4A1-A21C-5EA724CB9432&match=1325
DTSTART;TZID=Europe/Brussels:20230301T193000
DTEND;TZID=Europe/Brussels:20230301T193000
END:VEVENT
BEGIN:VEVENT
UID:E5F03216-4619-44A1-A21C-5EA724CB9432-30-1322_awayreminder@189.badminton
 ners.net
DTSTAMP:20260420T072403Z
SUMMARY:Uitmatch bevestigd? (Zandhoven 2G (103) - Klein Boom 9G (110))
DESCRIPTION:Je hebt 72 uur na aanvang om een uitmatch op Badmintonvlaandere
 n in te vullen. Match info: Zandhoven 2G (103) - Klein Boom 9G (110) - Lin
 k: https://www.badmintonvlaanderen.be/sport/teammatch.aspx?id=E5F03216-461
 9-44A1-A21C-5EA724CB9432&match=1322
DTSTART;TZID=Europe/Brussels:20230406T200000
DTEND;TZID=Europe/Brussels:20230406T200000
END:VEVENT
BEGIN:VEVENT
UID:E5F03216-4619-44A1-A21C-5EA724CB9432-30-1320_awayreminder@189.badminton
 ners.net
DTSTAMP:20260420T072403Z
SUMMARY:Uitmatch bevestigd? (Amateurs 2G (110) - Klein Boom 9G (110))
DESCRIPTION:Je hebt 72 uur na aanvang om een uitmatch op Badmintonvlaandere
 n in te vullen. Match info: Amateurs 2G (110) - Klein Boom 9G (110) - Link
 : https://www.badmintonvlaanderen.be/sport/teammatch.aspx?id=E5F03216-4619
 -44A1-A21C-5EA724CB9432&match=1320
DTSTART;TZID=Europe/Brussels:20230416T210000
DTEND;TZID=Europe/Brussels:20230416T210000
END:VEVENT
END:VCALENDAR