BEGIN:VCALENDAR
VERSION:2.0
PRODID:spatie/icalendar-generator
NAME:amateurs_2g_110_reminders
X-WR-CALNAME:amateurs_2g_110_reminders
BEGIN:VTIMEZONE
TZID:Europe/Brussels
BEGIN:DAYLIGHT
DTSTART:20220327T010000
TZOFFSETFROM:+0100
TZOFFSETTO:+0200
END:DAYLIGHT
BEGIN:STANDARD
DTSTART:20221030T030000
TZOFFSETFROM:+0200
TZOFFSETTO:+0100
END:STANDARD
BEGIN:DAYLIGHT
DTSTART:20230326T010000
TZOFFSETFROM:+0100
TZOFFSETTO:+0200
END:DAYLIGHT
END:VTIMEZONE
BEGIN:VTIMEZONE
TZID:UTC
BEGIN:STANDARD
DTSTART:20250724T072404
TZOFFSETFROM:+0000
TZOFFSETTO:+0000
END:STANDARD
END:VTIMEZONE
BEGIN:VEVENT
UID:E5F03216-4619-44A1-A21C-5EA724CB9432-30-1335_homereminder@190.badminton
 ners.net
DTSTAMP:20260420T072404Z
SUMMARY:Thuismatch ingevuld? (Amateurs 2G (110) - Plumula 4G (113))
DESCRIPTION:Je hebt 36 uur na aanvang om een thuismatch op Badmintonvlaande
 ren in te vullen. Match info: Amateurs 2G (110) - Plumula 4G (113) - Link:
  https://www.badmintonvlaanderen.be/sport/teammatch.aspx?id=E5F03216-4619-
 44A1-A21C-5EA724CB9432&match=1335
DTSTART;TZID=Europe/Brussels:20221005T080000
DTEND;TZID=Europe/Brussels:20221005T080000
END:VEVENT
BEGIN:VEVENT
UID:E5F03216-4619-44A1-A21C-5EA724CB9432-30-1349_homereminder@190.badminton
 ners.net
DTSTAMP:20260420T072404Z
SUMMARY:Thuismatch ingevuld? (Amateurs 2G (110) - Zoersel 3G (102))
DESCRIPTION:Je hebt 36 uur na aanvang om een thuismatch op Badmintonvlaande
 ren in te vullen. Match info: Amateurs 2G (110) - Zoersel 3G (102) - Link:
  https://www.badmintonvlaanderen.be/sport/teammatch.aspx?id=E5F03216-4619-
 44A1-A21C-5EA724CB9432&match=1349
DTSTART;TZID=Europe/Brussels:20221102T080000
DTEND;TZID=Europe/Brussels:20221102T080000
END:VEVENT
BEGIN:VEVENT
UID:E5F03216-4619-44A1-A21C-5EA724CB9432-30-1363_homereminder@190.badminton
 ners.net
DTSTAMP:20260420T072404Z
SUMMARY:Thuismatch ingevuld? (Amateurs 2G (110) - Heibac 1G (112))
DESCRIPTION:Je hebt 36 uur na aanvang om een thuismatch op Badmintonvlaande
 ren in te vullen. Match info: Amateurs 2G (110) - Heibac 1G (112) - Link: 
 https://www.badmintonvlaanderen.be/sport/teammatch.aspx?id=E5F03216-4619-4
 4A1-A21C-5EA724CB9432&match=1363
DTSTART;TZID=Europe/Brussels:20221116T080000
DTEND;TZID=Europe/Brussels:20221116T080000
END:VEVENT
BEGIN:VEVENT
UID:E5F03216-4619-44A1-A21C-5EA724CB9432-30-1313_homereminder@190.badminton
 ners.net
DTSTAMP:20260420T072404Z
SUMMARY:Thuismatch ingevuld? (Amateurs 2G (110) - Merksplas 3G (106))
DESCRIPTION:Je hebt 36 uur na aanvang om een thuismatch op Badmintonvlaande
 ren in te vullen. Match info: Amateurs 2G (110) - Merksplas 3G (106) - Lin
 k: https://www.badmintonvlaanderen.be/sport/teammatch.aspx?id=E5F03216-461
 9-44A1-A21C-5EA724CB9432&match=1313
DTSTART;TZID=Europe/Brussels:20221130T080000
DTEND;TZID=Europe/Brussels:20221130T080000
END:VEVENT
BEGIN:VEVENT
UID:E5F03216-4619-44A1-A21C-5EA724CB9432-30-1356_homereminder@190.badminton
 ners.net
DTSTAMP:20260420T072404Z
SUMMARY:Thuismatch ingevuld? (Amateurs 2G (110) - Beerke 4G (102))
DESCRIPTION:Je hebt 36 uur na aanvang om een thuismatch op Badmintonvlaande
 ren in te vullen. Match info: Amateurs 2G (110) - Beerke 4G (102) - Link: 
 https://www.badmintonvlaanderen.be/sport/teammatch.aspx?id=E5F03216-4619-4
 4A1-A21C-5EA724CB9432&match=1356
DTSTART;TZID=Europe/Brussels:20230125T080000
DTEND;TZID=Europe/Brussels:20230125T080000
END:VEVENT
BEGIN:VEVENT
UID:E5F03216-4619-44A1-A21C-5EA724CB9432-30-1342_homereminder@190.badminton
 ners.net
DTSTAMP:20260420T072404Z
SUMMARY:Thuismatch ingevuld? (Amateurs 2G (110) - Zandhoven 2G (103))
DESCRIPTION:Je hebt 36 uur na aanvang om een thuismatch op Badmintonvlaande
 ren in te vullen. Match info: Amateurs 2G (110) - Zandhoven 2G (103) - Lin
 k: https://www.badmintonvlaanderen.be/sport/teammatch.aspx?id=E5F03216-461
 9-44A1-A21C-5EA724CB9432&match=1342
DTSTART;TZID=Europe/Brussels:20230208T080000
DTEND;TZID=Europe/Brussels:20230208T080000
END:VEVENT
BEGIN:VEVENT
UID:E5F03216-4619-44A1-A21C-5EA724CB9432-30-1320_homereminder@190.badminton
 ners.net
DTSTAMP:20260420T072404Z
SUMMARY:Thuismatch ingevuld? (Amateurs 2G (110) - Klein Boom 9G (110))
DESCRIPTION:Je hebt 36 uur na aanvang om een thuismatch op Badmintonvlaande
 ren in te vullen. Match info: Amateurs 2G (110) - Klein Boom 9G (110) - Li
 nk: https://www.badmintonvlaanderen.be/sport/teammatch.aspx?id=E5F03216-46
 19-44A1-A21C-5EA724CB9432&match=1320
DTSTART;TZID=Europe/Brussels:20230415T090000
DTEND;TZID=Europe/Brussels:20230415T090000
END:VEVENT
BEGIN:VEVENT
UID:E5F03216-4619-44A1-A21C-5EA724CB9432-30-1329_awayreminder@190.badminton
 ners.net
DTSTAMP:20260420T072404Z
SUMMARY:Uitmatch bevestigd? (Zandhoven 2G (103) - Amateurs 2G (110))
DESCRIPTION:Je hebt 72 uur na aanvang om een uitmatch op Badmintonvlaandere
 n in te vullen. Match info: Zandhoven 2G (103) - Amateurs 2G (110) - Link:
  https://www.badmintonvlaanderen.be/sport/teammatch.aspx?id=E5F03216-4619-
 44A1-A21C-5EA724CB9432&match=1329
DTSTART;TZID=Europe/Brussels:20220929T200000
DTEND;TZID=Europe/Brussels:20220929T200000
END:VEVENT
BEGIN:VEVENT
UID:E5F03216-4619-44A1-A21C-5EA724CB9432-30-1331_awayreminder@190.badminton
 ners.net
DTSTAMP:20260420T072404Z
SUMMARY:Uitmatch bevestigd? (Beerke 4G (102) - Amateurs 2G (110))
DESCRIPTION:Je hebt 72 uur na aanvang om een uitmatch op Badmintonvlaandere
 n in te vullen. Match info: Beerke 4G (102) - Amateurs 2G (110) - Link: ht
 tps://www.badmintonvlaanderen.be/sport/teammatch.aspx?id=E5F03216-4619-44A
 1-A21C-5EA724CB9432&match=1331
DTSTART;TZID=Europe/Brussels:20221026T100000
DTEND;TZID=Europe/Brussels:20221026T100000
END:VEVENT
BEGIN:VEVENT
UID:E5F03216-4619-44A1-A21C-5EA724CB9432-30-1327_awayreminder@190.badminton
 ners.net
DTSTAMP:20260420T072404Z
SUMMARY:Uitmatch bevestigd? (Klein Boom 9G (110) - Amateurs 2G (110))
DESCRIPTION:Je hebt 72 uur na aanvang om een uitmatch op Badmintonvlaandere
 n in te vullen. Match info: Klein Boom 9G (110) - Amateurs 2G (110) - Link
 : https://www.badmintonvlaanderen.be/sport/teammatch.aspx?id=E5F03216-4619
 -44A1-A21C-5EA724CB9432&match=1327
DTSTART;TZID=Europe/Brussels:20221221T190000
DTEND;TZID=Europe/Brussels:20221221T190000
END:VEVENT
BEGIN:VEVENT
UID:E5F03216-4619-44A1-A21C-5EA724CB9432-30-1330_awayreminder@190.badminton
 ners.net
DTSTAMP:20260420T072404Z
SUMMARY:Uitmatch bevestigd? (Zoersel 3G (102) - Amateurs 2G (110))
DESCRIPTION:Je hebt 72 uur na aanvang om een uitmatch op Badmintonvlaandere
 n in te vullen. Match info: Zoersel 3G (102) - Amateurs 2G (110) - Link: h
 ttps://www.badmintonvlaanderen.be/sport/teammatch.aspx?id=E5F03216-4619-44
 A1-A21C-5EA724CB9432&match=1330
DTSTART;TZID=Europe/Brussels:20230118T120000
DTEND;TZID=Europe/Brussels:20230118T120000
END:VEVENT
BEGIN:VEVENT
UID:E5F03216-4619-44A1-A21C-5EA724CB9432-30-1326_awayreminder@190.badminton
 ners.net
DTSTAMP:20260420T072404Z
SUMMARY:Uitmatch bevestigd? (Merksplas 3G (106) - Amateurs 2G (110))
DESCRIPTION:Je hebt 72 uur na aanvang om een uitmatch op Badmintonvlaandere
 n in te vullen. Match info: Merksplas 3G (106) - Amateurs 2G (110) - Link:
  https://www.badmintonvlaanderen.be/sport/teammatch.aspx?id=E5F03216-4619-
 44A1-A21C-5EA724CB9432&match=1326
DTSTART;TZID=Europe/Brussels:20230301T190000
DTEND;TZID=Europe/Brussels:20230301T190000
END:VEVENT
BEGIN:VEVENT
UID:E5F03216-4619-44A1-A21C-5EA724CB9432-30-1332_awayreminder@190.badminton
 ners.net
DTSTAMP:20260420T072404Z
SUMMARY:Uitmatch bevestigd? (Heibac 1G (112) - Amateurs 2G (110))
DESCRIPTION:Je hebt 72 uur na aanvang om een uitmatch op Badmintonvlaandere
 n in te vullen. Match info: Heibac 1G (112) - Amateurs 2G (110) - Link: ht
 tps://www.badmintonvlaanderen.be/sport/teammatch.aspx?id=E5F03216-4619-44A
 1-A21C-5EA724CB9432&match=1332
DTSTART;TZID=Europe/Brussels:20230329T193000
DTEND;TZID=Europe/Brussels:20230329T193000
END:VEVENT
BEGIN:VEVENT
UID:E5F03216-4619-44A1-A21C-5EA724CB9432-30-1328_awayreminder@190.badminton
 ners.net
DTSTAMP:20260420T072404Z
SUMMARY:Uitmatch bevestigd? (Plumula 4G (113) - Amateurs 2G (110))
DESCRIPTION:Je hebt 72 uur na aanvang om een uitmatch op Badmintonvlaandere
 n in te vullen. Match info: Plumula 4G (113) - Amateurs 2G (110) - Link: h
 ttps://www.badmintonvlaanderen.be/sport/teammatch.aspx?id=E5F03216-4619-44
 A1-A21C-5EA724CB9432&match=1328
DTSTART;TZID=Europe/Brussels:20230426T173000
DTEND;TZID=Europe/Brussels:20230426T173000
END:VEVENT
END:VCALENDAR