BEGIN:VCALENDAR
VERSION:2.0
PRODID:spatie/icalendar-generator
NAME:merksplas_3g_106_reminders
X-WR-CALNAME:merksplas_3g_106_reminders
BEGIN:VTIMEZONE
TZID:Europe/Brussels
BEGIN:DAYLIGHT
DTSTART:20220327T010000
TZOFFSETFROM:+0100
TZOFFSETTO:+0200
END:DAYLIGHT
BEGIN:STANDARD
DTSTART:20221030T030000
TZOFFSETFROM:+0200
TZOFFSETTO:+0100
END:STANDARD
BEGIN:DAYLIGHT
DTSTART:20230326T010000
TZOFFSETFROM:+0100
TZOFFSETTO:+0200
END:DAYLIGHT
END:VTIMEZONE
BEGIN:VTIMEZONE
TZID:UTC
BEGIN:STANDARD
DTSTART:20250724T072405
TZOFFSETFROM:+0000
TZOFFSETTO:+0000
END:STANDARD
END:VTIMEZONE
BEGIN:VEVENT
UID:E5F03216-4619-44A1-A21C-5EA724CB9432-30-1361_homereminder@192.badminton
 ners.net
DTSTAMP:20260420T072405Z
SUMMARY:Thuismatch ingevuld? (Merksplas 3G (106) - Heibac 1G (112))
DESCRIPTION:Je hebt 36 uur na aanvang om een thuismatch op Badmintonvlaande
 ren in te vullen. Match info: Merksplas 3G (106) - Heibac 1G (112) - Link:
  https://www.badmintonvlaanderen.be/sport/teammatch.aspx?id=E5F03216-4619-
 44A1-A21C-5EA724CB9432&match=1361
DTSTART;TZID=Europe/Brussels:20220913T070000
DTEND;TZID=Europe/Brussels:20220913T070000
END:VEVENT
BEGIN:VEVENT
UID:E5F03216-4619-44A1-A21C-5EA724CB9432-30-1347_homereminder@192.badminton
 ners.net
DTSTAMP:20260420T072405Z
SUMMARY:Thuismatch ingevuld? (Merksplas 3G (106) - Zoersel 3G (102))
DESCRIPTION:Je hebt 36 uur na aanvang om een thuismatch op Badmintonvlaande
 ren in te vullen. Match info: Merksplas 3G (106) - Zoersel 3G (102) - Link
 : https://www.badmintonvlaanderen.be/sport/teammatch.aspx?id=E5F03216-4619
 -44A1-A21C-5EA724CB9432&match=1347
DTSTART;TZID=Europe/Brussels:20221011T070000
DTEND;TZID=Europe/Brussels:20221011T070000
END:VEVENT
BEGIN:VEVENT
UID:E5F03216-4619-44A1-A21C-5EA724CB9432-30-1319_homereminder@192.badminton
 ners.net
DTSTAMP:20260420T072405Z
SUMMARY:Thuismatch ingevuld? (Merksplas 3G (106) - Klein Boom 9G (110))
DESCRIPTION:Je hebt 36 uur na aanvang om een thuismatch op Badmintonvlaande
 ren in te vullen. Match info: Merksplas 3G (106) - Klein Boom 9G (110) - L
 ink: https://www.badmintonvlaanderen.be/sport/teammatch.aspx?id=E5F03216-4
 619-44A1-A21C-5EA724CB9432&match=1319
DTSTART;TZID=Europe/Brussels:20221024T220000
DTEND;TZID=Europe/Brussels:20221024T220000
END:VEVENT
BEGIN:VEVENT
UID:E5F03216-4619-44A1-A21C-5EA724CB9432-30-1333_homereminder@192.badminton
 ners.net
DTSTAMP:20260420T072405Z
SUMMARY:Thuismatch ingevuld? (Merksplas 3G (106) - Plumula 4G (113))
DESCRIPTION:Je hebt 36 uur na aanvang om een thuismatch op Badmintonvlaande
 ren in te vullen. Match info: Merksplas 3G (106) - Plumula 4G (113) - Link
 : https://www.badmintonvlaanderen.be/sport/teammatch.aspx?id=E5F03216-4619
 -44A1-A21C-5EA724CB9432&match=1333
DTSTART;TZID=Europe/Brussels:20221219T220000
DTEND;TZID=Europe/Brussels:20221219T220000
END:VEVENT
BEGIN:VEVENT
UID:E5F03216-4619-44A1-A21C-5EA724CB9432-30-1354_homereminder@192.badminton
 ners.net
DTSTAMP:20260420T072405Z
SUMMARY:Thuismatch ingevuld? (Merksplas 3G (106) - Beerke 4G (102))
DESCRIPTION:Je hebt 36 uur na aanvang om een thuismatch op Badmintonvlaande
 ren in te vullen. Match info: Merksplas 3G (106) - Beerke 4G (102) - Link:
  https://www.badmintonvlaanderen.be/sport/teammatch.aspx?id=E5F03216-4619-
 44A1-A21C-5EA724CB9432&match=1354
DTSTART;TZID=Europe/Brussels:20230214T070000
DTEND;TZID=Europe/Brussels:20230214T070000
END:VEVENT
BEGIN:VEVENT
UID:E5F03216-4619-44A1-A21C-5EA724CB9432-30-1326_homereminder@192.badminton
 ners.net
DTSTAMP:20260420T072405Z
SUMMARY:Thuismatch ingevuld? (Merksplas 3G (106) - Amateurs 2G (110))
DESCRIPTION:Je hebt 36 uur na aanvang om een thuismatch op Badmintonvlaande
 ren in te vullen. Match info: Merksplas 3G (106) - Amateurs 2G (110) - Lin
 k: https://www.badmintonvlaanderen.be/sport/teammatch.aspx?id=E5F03216-461
 9-44A1-A21C-5EA724CB9432&match=1326
DTSTART;TZID=Europe/Brussels:20230228T070000
DTEND;TZID=Europe/Brussels:20230228T070000
END:VEVENT
BEGIN:VEVENT
UID:E5F03216-4619-44A1-A21C-5EA724CB9432-30-1340_homereminder@192.badminton
 ners.net
DTSTAMP:20260420T072405Z
SUMMARY:Thuismatch ingevuld? (Merksplas 3G (106) - Zandhoven 2G (103))
DESCRIPTION:Je hebt 36 uur na aanvang om een thuismatch op Badmintonvlaande
 ren in te vullen. Match info: Merksplas 3G (106) - Zandhoven 2G (103) - Li
 nk: https://www.badmintonvlaanderen.be/sport/teammatch.aspx?id=E5F03216-46
 19-44A1-A21C-5EA724CB9432&match=1340
DTSTART;TZID=Europe/Brussels:20230327T220000
DTEND;TZID=Europe/Brussels:20230327T220000
END:VEVENT
BEGIN:VEVENT
UID:E5F03216-4619-44A1-A21C-5EA724CB9432-30-1317_awayreminder@192.badminton
 ners.net
DTSTAMP:20260420T072405Z
SUMMARY:Uitmatch bevestigd? (Beerke 4G (102) - Merksplas 3G (106))
DESCRIPTION:Je hebt 72 uur na aanvang om een uitmatch op Badmintonvlaandere
 n in te vullen. Match info: Beerke 4G (102) - Merksplas 3G (106) - Link: h
 ttps://www.badmintonvlaanderen.be/sport/teammatch.aspx?id=E5F03216-4619-44
 A1-A21C-5EA724CB9432&match=1317
DTSTART;TZID=Europe/Brussels:20220928T100000
DTEND;TZID=Europe/Brussels:20220928T100000
END:VEVENT
BEGIN:VEVENT
UID:E5F03216-4619-44A1-A21C-5EA724CB9432-30-1315_awayreminder@192.badminton
 ners.net
DTSTAMP:20260420T072405Z
SUMMARY:Uitmatch bevestigd? (Zandhoven 2G (103) - Merksplas 3G (106))
DESCRIPTION:Je hebt 72 uur na aanvang om een uitmatch op Badmintonvlaandere
 n in te vullen. Match info: Zandhoven 2G (103) - Merksplas 3G (106) - Link
 : https://www.badmintonvlaanderen.be/sport/teammatch.aspx?id=E5F03216-4619
 -44A1-A21C-5EA724CB9432&match=1315
DTSTART;TZID=Europe/Brussels:20221117T200000
DTEND;TZID=Europe/Brussels:20221117T200000
END:VEVENT
BEGIN:VEVENT
UID:E5F03216-4619-44A1-A21C-5EA724CB9432-30-1313_awayreminder@192.badminton
 ners.net
DTSTAMP:20260420T072405Z
SUMMARY:Uitmatch bevestigd? (Amateurs 2G (110) - Merksplas 3G (106))
DESCRIPTION:Je hebt 72 uur na aanvang om een uitmatch op Badmintonvlaandere
 n in te vullen. Match info: Amateurs 2G (110) - Merksplas 3G (106) - Link:
  https://www.badmintonvlaanderen.be/sport/teammatch.aspx?id=E5F03216-4619-
 44A1-A21C-5EA724CB9432&match=1313
DTSTART;TZID=Europe/Brussels:20221201T200000
DTEND;TZID=Europe/Brussels:20221201T200000
END:VEVENT
BEGIN:VEVENT
UID:E5F03216-4619-44A1-A21C-5EA724CB9432-30-1316_awayreminder@192.badminton
 ners.net
DTSTAMP:20260420T072405Z
SUMMARY:Uitmatch bevestigd? (Zoersel 3G (102) - Merksplas 3G (106))
DESCRIPTION:Je hebt 72 uur na aanvang om een uitmatch op Badmintonvlaandere
 n in te vullen. Match info: Zoersel 3G (102) - Merksplas 3G (106) - Link: 
 https://www.badmintonvlaanderen.be/sport/teammatch.aspx?id=E5F03216-4619-4
 4A1-A21C-5EA724CB9432&match=1316
DTSTART;TZID=Europe/Brussels:20230111T120000
DTEND;TZID=Europe/Brussels:20230111T120000
END:VEVENT
BEGIN:VEVENT
UID:E5F03216-4619-44A1-A21C-5EA724CB9432-30-1318_awayreminder@192.badminton
 ners.net
DTSTAMP:20260420T072405Z
SUMMARY:Uitmatch bevestigd? (Heibac 1G (112) - Merksplas 3G (106))
DESCRIPTION:Je hebt 72 uur na aanvang om een uitmatch op Badmintonvlaandere
 n in te vullen. Match info: Heibac 1G (112) - Merksplas 3G (106) - Link: h
 ttps://www.badmintonvlaanderen.be/sport/teammatch.aspx?id=E5F03216-4619-44
 A1-A21C-5EA724CB9432&match=1318
DTSTART;TZID=Europe/Brussels:20230118T193000
DTEND;TZID=Europe/Brussels:20230118T193000
END:VEVENT
BEGIN:VEVENT
UID:E5F03216-4619-44A1-A21C-5EA724CB9432-30-1312_awayreminder@192.badminton
 ners.net
DTSTAMP:20260420T072405Z
SUMMARY:Uitmatch bevestigd? (Klein Boom 9G (110) - Merksplas 3G (106))
DESCRIPTION:Je hebt 72 uur na aanvang om een uitmatch op Badmintonvlaandere
 n in te vullen. Match info: Klein Boom 9G (110) - Merksplas 3G (106) - Lin
 k: https://www.badmintonvlaanderen.be/sport/teammatch.aspx?id=E5F03216-461
 9-44A1-A21C-5EA724CB9432&match=1312
DTSTART;TZID=Europe/Brussels:20230201T190000
DTEND;TZID=Europe/Brussels:20230201T190000
END:VEVENT
BEGIN:VEVENT
UID:E5F03216-4619-44A1-A21C-5EA724CB9432-30-1314_awayreminder@192.badminton
 ners.net
DTSTAMP:20260420T072405Z
SUMMARY:Uitmatch bevestigd? (Plumula 4G (113) - Merksplas 3G (106))
DESCRIPTION:Je hebt 72 uur na aanvang om een uitmatch op Badmintonvlaandere
 n in te vullen. Match info: Plumula 4G (113) - Merksplas 3G (106) - Link: 
 https://www.badmintonvlaanderen.be/sport/teammatch.aspx?id=E5F03216-4619-4
 4A1-A21C-5EA724CB9432&match=1314
DTSTART;TZID=Europe/Brussels:20230315T173000
DTEND;TZID=Europe/Brussels:20230315T173000
END:VEVENT
END:VCALENDAR