BEGIN:VCALENDAR
VERSION:2.0
PRODID:spatie/icalendar-generator
NAME:heibac_1g_112_reminders
X-WR-CALNAME:heibac_1g_112_reminders
BEGIN:VTIMEZONE
TZID:Europe/Brussels
BEGIN:DAYLIGHT
DTSTART:20220327T010000
TZOFFSETFROM:+0100
TZOFFSETTO:+0200
END:DAYLIGHT
BEGIN:STANDARD
DTSTART:20221030T030000
TZOFFSETFROM:+0200
TZOFFSETTO:+0100
END:STANDARD
BEGIN:DAYLIGHT
DTSTART:20230326T010000
TZOFFSETFROM:+0100
TZOFFSETTO:+0200
END:DAYLIGHT
END:VTIMEZONE
BEGIN:VTIMEZONE
TZID:UTC
BEGIN:STANDARD
DTSTART:20250724T072406
TZOFFSETFROM:+0000
TZOFFSETTO:+0000
END:STANDARD
END:VTIMEZONE
BEGIN:VEVENT
UID:E5F03216-4619-44A1-A21C-5EA724CB9432-30-1360_homereminder@199.badminton
 ners.net
DTSTAMP:20260420T072406Z
SUMMARY:Thuismatch ingevuld? (Heibac 1G (112) - Beerke 4G (102))
DESCRIPTION:Je hebt 36 uur na aanvang om een thuismatch op Badmintonvlaande
 ren in te vullen. Match info: Heibac 1G (112) - Beerke 4G (102) - Link: ht
 tps://www.badmintonvlaanderen.be/sport/teammatch.aspx?id=E5F03216-4619-44A
 1-A21C-5EA724CB9432&match=1360
DTSTART;TZID=Europe/Brussels:20221011T073000
DTEND;TZID=Europe/Brussels:20221011T073000
END:VEVENT
BEGIN:VEVENT
UID:E5F03216-4619-44A1-A21C-5EA724CB9432-30-1346_homereminder@199.badminton
 ners.net
DTSTAMP:20260420T072406Z
SUMMARY:Thuismatch ingevuld? (Heibac 1G (112) - Zandhoven 2G (103))
DESCRIPTION:Je hebt 36 uur na aanvang om een thuismatch op Badmintonvlaande
 ren in te vullen. Match info: Heibac 1G (112) - Zandhoven 2G (103) - Link:
  https://www.badmintonvlaanderen.be/sport/teammatch.aspx?id=E5F03216-4619-
 44A1-A21C-5EA724CB9432&match=1346
DTSTART;TZID=Europe/Brussels:20221129T073000
DTEND;TZID=Europe/Brussels:20221129T073000
END:VEVENT
BEGIN:VEVENT
UID:E5F03216-4619-44A1-A21C-5EA724CB9432-30-1353_homereminder@199.badminton
 ners.net
DTSTAMP:20260420T072406Z
SUMMARY:Thuismatch ingevuld? (Heibac 1G (112) - Zoersel 3G (102))
DESCRIPTION:Je hebt 36 uur na aanvang om een thuismatch op Badmintonvlaande
 ren in te vullen. Match info: Heibac 1G (112) - Zoersel 3G (102) - Link: h
 ttps://www.badmintonvlaanderen.be/sport/teammatch.aspx?id=E5F03216-4619-44
 A1-A21C-5EA724CB9432&match=1353
DTSTART;TZID=Europe/Brussels:20221220T073000
DTEND;TZID=Europe/Brussels:20221220T073000
END:VEVENT
BEGIN:VEVENT
UID:E5F03216-4619-44A1-A21C-5EA724CB9432-30-1318_homereminder@199.badminton
 ners.net
DTSTAMP:20260420T072406Z
SUMMARY:Thuismatch ingevuld? (Heibac 1G (112) - Merksplas 3G (106))
DESCRIPTION:Je hebt 36 uur na aanvang om een thuismatch op Badmintonvlaande
 ren in te vullen. Match info: Heibac 1G (112) - Merksplas 3G (106) - Link:
  https://www.badmintonvlaanderen.be/sport/teammatch.aspx?id=E5F03216-4619-
 44A1-A21C-5EA724CB9432&match=1318
DTSTART;TZID=Europe/Brussels:20230117T073000
DTEND;TZID=Europe/Brussels:20230117T073000
END:VEVENT
BEGIN:VEVENT
UID:E5F03216-4619-44A1-A21C-5EA724CB9432-30-1339_homereminder@199.badminton
 ners.net
DTSTAMP:20260420T072406Z
SUMMARY:Thuismatch ingevuld? (Heibac 1G (112) - Plumula 4G (113))
DESCRIPTION:Je hebt 36 uur na aanvang om een thuismatch op Badmintonvlaande
 ren in te vullen. Match info: Heibac 1G (112) - Plumula 4G (113) - Link: h
 ttps://www.badmintonvlaanderen.be/sport/teammatch.aspx?id=E5F03216-4619-44
 A1-A21C-5EA724CB9432&match=1339
DTSTART;TZID=Europe/Brussels:20230214T073000
DTEND;TZID=Europe/Brussels:20230214T073000
END:VEVENT
BEGIN:VEVENT
UID:E5F03216-4619-44A1-A21C-5EA724CB9432-30-1325_homereminder@199.badminton
 ners.net
DTSTAMP:20260420T072406Z
SUMMARY:Thuismatch ingevuld? (Heibac 1G (112) - Klein Boom 9G (110))
DESCRIPTION:Je hebt 36 uur na aanvang om een thuismatch op Badmintonvlaande
 ren in te vullen. Match info: Heibac 1G (112) - Klein Boom 9G (110) - Link
 : https://www.badmintonvlaanderen.be/sport/teammatch.aspx?id=E5F03216-4619
 -44A1-A21C-5EA724CB9432&match=1325
DTSTART;TZID=Europe/Brussels:20230228T073000
DTEND;TZID=Europe/Brussels:20230228T073000
END:VEVENT
BEGIN:VEVENT
UID:E5F03216-4619-44A1-A21C-5EA724CB9432-30-1332_homereminder@199.badminton
 ners.net
DTSTAMP:20260420T072406Z
SUMMARY:Thuismatch ingevuld? (Heibac 1G (112) - Amateurs 2G (110))
DESCRIPTION:Je hebt 36 uur na aanvang om een thuismatch op Badmintonvlaande
 ren in te vullen. Match info: Heibac 1G (112) - Amateurs 2G (110) - Link: 
 https://www.badmintonvlaanderen.be/sport/teammatch.aspx?id=E5F03216-4619-4
 4A1-A21C-5EA724CB9432&match=1332
DTSTART;TZID=Europe/Brussels:20230328T073000
DTEND;TZID=Europe/Brussels:20230328T073000
END:VEVENT
BEGIN:VEVENT
UID:E5F03216-4619-44A1-A21C-5EA724CB9432-30-1361_awayreminder@199.badminton
 ners.net
DTSTAMP:20260420T072406Z
SUMMARY:Uitmatch bevestigd? (Merksplas 3G (106) - Heibac 1G (112))
DESCRIPTION:Je hebt 72 uur na aanvang om een uitmatch op Badmintonvlaandere
 n in te vullen. Match info: Merksplas 3G (106) - Heibac 1G (112) - Link: h
 ttps://www.badmintonvlaanderen.be/sport/teammatch.aspx?id=E5F03216-4619-44
 A1-A21C-5EA724CB9432&match=1361
DTSTART;TZID=Europe/Brussels:20220914T190000
DTEND;TZID=Europe/Brussels:20220914T190000
END:VEVENT
BEGIN:VEVENT
UID:E5F03216-4619-44A1-A21C-5EA724CB9432-30-1364_awayreminder@199.badminton
 ners.net
DTSTAMP:20260420T072406Z
SUMMARY:Uitmatch bevestigd? (Plumula 4G (113) - Heibac 1G (112))
DESCRIPTION:Je hebt 72 uur na aanvang om een uitmatch op Badmintonvlaandere
 n in te vullen. Match info: Plumula 4G (113) - Heibac 1G (112) - Link: htt
 ps://www.badmintonvlaanderen.be/sport/teammatch.aspx?id=E5F03216-4619-44A1
 -A21C-5EA724CB9432&match=1364
DTSTART;TZID=Europe/Brussels:20220928T173000
DTEND;TZID=Europe/Brussels:20220928T173000
END:VEVENT
BEGIN:VEVENT
UID:E5F03216-4619-44A1-A21C-5EA724CB9432-30-1363_awayreminder@199.badminton
 ners.net
DTSTAMP:20260420T072406Z
SUMMARY:Uitmatch bevestigd? (Amateurs 2G (110) - Heibac 1G (112))
DESCRIPTION:Je hebt 72 uur na aanvang om een uitmatch op Badmintonvlaandere
 n in te vullen. Match info: Amateurs 2G (110) - Heibac 1G (112) - Link: ht
 tps://www.badmintonvlaanderen.be/sport/teammatch.aspx?id=E5F03216-4619-44A
 1-A21C-5EA724CB9432&match=1363
DTSTART;TZID=Europe/Brussels:20221117T200000
DTEND;TZID=Europe/Brussels:20221117T200000
END:VEVENT
BEGIN:VEVENT
UID:E5F03216-4619-44A1-A21C-5EA724CB9432-30-1362_awayreminder@199.badminton
 ners.net
DTSTAMP:20260420T072406Z
SUMMARY:Uitmatch bevestigd? (Klein Boom 9G (110) - Heibac 1G (112))
DESCRIPTION:Je hebt 72 uur na aanvang om een uitmatch op Badmintonvlaandere
 n in te vullen. Match info: Klein Boom 9G (110) - Heibac 1G (112) - Link: 
 https://www.badmintonvlaanderen.be/sport/teammatch.aspx?id=E5F03216-4619-4
 4A1-A21C-5EA724CB9432&match=1362
DTSTART;TZID=Europe/Brussels:20221207T190000
DTEND;TZID=Europe/Brussels:20221207T190000
END:VEVENT
BEGIN:VEVENT
UID:E5F03216-4619-44A1-A21C-5EA724CB9432-30-1366_awayreminder@199.badminton
 ners.net
DTSTAMP:20260420T072406Z
SUMMARY:Uitmatch bevestigd? (Zoersel 3G (102) - Heibac 1G (112))
DESCRIPTION:Je hebt 72 uur na aanvang om een uitmatch op Badmintonvlaandere
 n in te vullen. Match info: Zoersel 3G (102) - Heibac 1G (112) - Link: htt
 ps://www.badmintonvlaanderen.be/sport/teammatch.aspx?id=E5F03216-4619-44A1
 -A21C-5EA724CB9432&match=1366
DTSTART;TZID=Europe/Brussels:20230315T120000
DTEND;TZID=Europe/Brussels:20230315T120000
END:VEVENT
BEGIN:VEVENT
UID:E5F03216-4619-44A1-A21C-5EA724CB9432-30-1365_awayreminder@199.badminton
 ners.net
DTSTAMP:20260420T072406Z
SUMMARY:Uitmatch bevestigd? (Zandhoven 2G (103) - Heibac 1G (112))
DESCRIPTION:Je hebt 72 uur na aanvang om een uitmatch op Badmintonvlaandere
 n in te vullen. Match info: Zandhoven 2G (103) - Heibac 1G (112) - Link: h
 ttps://www.badmintonvlaanderen.be/sport/teammatch.aspx?id=E5F03216-4619-44
 A1-A21C-5EA724CB9432&match=1365
DTSTART;TZID=Europe/Brussels:20230411T100000
DTEND;TZID=Europe/Brussels:20230411T100000
END:VEVENT
BEGIN:VEVENT
UID:E5F03216-4619-44A1-A21C-5EA724CB9432-30-1367_awayreminder@199.badminton
 ners.net
DTSTAMP:20260420T072406Z
SUMMARY:Uitmatch bevestigd? (Beerke 4G (102) - Heibac 1G (112))
DESCRIPTION:Je hebt 72 uur na aanvang om een uitmatch op Badmintonvlaandere
 n in te vullen. Match info: Beerke 4G (102) - Heibac 1G (112) - Link: http
 s://www.badmintonvlaanderen.be/sport/teammatch.aspx?id=E5F03216-4619-44A1-
 A21C-5EA724CB9432&match=1367
DTSTART;TZID=Europe/Brussels:20230426T100000
DTEND;TZID=Europe/Brussels:20230426T100000
END:VEVENT
END:VCALENDAR