BEGIN:VCALENDAR
VERSION:2.0
PRODID:spatie/icalendar-generator
NAME:beerke_4g_102_reminders
X-WR-CALNAME:beerke_4g_102_reminders
BEGIN:VTIMEZONE
TZID:Europe/Brussels
BEGIN:DAYLIGHT
DTSTART:20220327T010000
TZOFFSETFROM:+0100
TZOFFSETTO:+0200
END:DAYLIGHT
BEGIN:STANDARD
DTSTART:20221030T030000
TZOFFSETFROM:+0200
TZOFFSETTO:+0100
END:STANDARD
BEGIN:DAYLIGHT
DTSTART:20230326T010000
TZOFFSETFROM:+0100
TZOFFSETTO:+0200
END:DAYLIGHT
END:VTIMEZONE
BEGIN:VTIMEZONE
TZID:UTC
BEGIN:STANDARD
DTSTART:20250724T072403
TZOFFSETFROM:+0000
TZOFFSETTO:+0000
END:STANDARD
END:VTIMEZONE
BEGIN:VEVENT
UID:E5F03216-4619-44A1-A21C-5EA724CB9432-30-1317_homereminder@205.badminton
 ners.net
DTSTAMP:20260420T072403Z
SUMMARY:Thuismatch ingevuld? (Beerke 4G (102) - Merksplas 3G (106))
DESCRIPTION:Je hebt 36 uur na aanvang om een thuismatch op Badmintonvlaande
 ren in te vullen. Match info: Beerke 4G (102) - Merksplas 3G (106) - Link:
  https://www.badmintonvlaanderen.be/sport/teammatch.aspx?id=E5F03216-4619-
 44A1-A21C-5EA724CB9432&match=1317
DTSTART;TZID=Europe/Brussels:20220926T220000
DTEND;TZID=Europe/Brussels:20220926T220000
END:VEVENT
BEGIN:VEVENT
UID:E5F03216-4619-44A1-A21C-5EA724CB9432-30-1331_homereminder@205.badminton
 ners.net
DTSTAMP:20260420T072403Z
SUMMARY:Thuismatch ingevuld? (Beerke 4G (102) - Amateurs 2G (110))
DESCRIPTION:Je hebt 36 uur na aanvang om een thuismatch op Badmintonvlaande
 ren in te vullen. Match info: Beerke 4G (102) - Amateurs 2G (110) - Link: 
 https://www.badmintonvlaanderen.be/sport/teammatch.aspx?id=E5F03216-4619-4
 4A1-A21C-5EA724CB9432&match=1331
DTSTART;TZID=Europe/Brussels:20221024T220000
DTEND;TZID=Europe/Brussels:20221024T220000
END:VEVENT
BEGIN:VEVENT
UID:E5F03216-4619-44A1-A21C-5EA724CB9432-30-1345_homereminder@205.badminton
 ners.net
DTSTAMP:20260420T072403Z
SUMMARY:Thuismatch ingevuld? (Beerke 4G (102) - Zandhoven 2G (103))
DESCRIPTION:Je hebt 36 uur na aanvang om een thuismatch op Badmintonvlaande
 ren in te vullen. Match info: Beerke 4G (102) - Zandhoven 2G (103) - Link:
  https://www.badmintonvlaanderen.be/sport/teammatch.aspx?id=E5F03216-4619-
 44A1-A21C-5EA724CB9432&match=1345
DTSTART;TZID=Europe/Brussels:20221219T220000
DTEND;TZID=Europe/Brussels:20221219T220000
END:VEVENT
BEGIN:VEVENT
UID:E5F03216-4619-44A1-A21C-5EA724CB9432-30-1324_homereminder@205.badminton
 ners.net
DTSTAMP:20260420T072403Z
SUMMARY:Thuismatch ingevuld? (Beerke 4G (102) - Klein Boom 9G (110))
DESCRIPTION:Je hebt 36 uur na aanvang om een thuismatch op Badmintonvlaande
 ren in te vullen. Match info: Beerke 4G (102) - Klein Boom 9G (110) - Link
 : https://www.badmintonvlaanderen.be/sport/teammatch.aspx?id=E5F03216-4619
 -44A1-A21C-5EA724CB9432&match=1324
DTSTART;TZID=Europe/Brussels:20230116T220000
DTEND;TZID=Europe/Brussels:20230116T220000
END:VEVENT
BEGIN:VEVENT
UID:E5F03216-4619-44A1-A21C-5EA724CB9432-30-1338_homereminder@205.badminton
 ners.net
DTSTAMP:20260420T072403Z
SUMMARY:Thuismatch ingevuld? (Beerke 4G (102) - Plumula 4G (113))
DESCRIPTION:Je hebt 36 uur na aanvang om een thuismatch op Badmintonvlaande
 ren in te vullen. Match info: Beerke 4G (102) - Plumula 4G (113) - Link: h
 ttps://www.badmintonvlaanderen.be/sport/teammatch.aspx?id=E5F03216-4619-44
 A1-A21C-5EA724CB9432&match=1338
DTSTART;TZID=Europe/Brussels:20230227T220000
DTEND;TZID=Europe/Brussels:20230227T220000
END:VEVENT
BEGIN:VEVENT
UID:E5F03216-4619-44A1-A21C-5EA724CB9432-30-1352_homereminder@205.badminton
 ners.net
DTSTAMP:20260420T072403Z
SUMMARY:Thuismatch ingevuld? (Beerke 4G (102) - Zoersel 3G (102))
DESCRIPTION:Je hebt 36 uur na aanvang om een thuismatch op Badmintonvlaande
 ren in te vullen. Match info: Beerke 4G (102) - Zoersel 3G (102) - Link: h
 ttps://www.badmintonvlaanderen.be/sport/teammatch.aspx?id=E5F03216-4619-44
 A1-A21C-5EA724CB9432&match=1352
DTSTART;TZID=Europe/Brussels:20230327T220000
DTEND;TZID=Europe/Brussels:20230327T220000
END:VEVENT
BEGIN:VEVENT
UID:E5F03216-4619-44A1-A21C-5EA724CB9432-30-1367_homereminder@205.badminton
 ners.net
DTSTAMP:20260420T072403Z
SUMMARY:Thuismatch ingevuld? (Beerke 4G (102) - Heibac 1G (112))
DESCRIPTION:Je hebt 36 uur na aanvang om een thuismatch op Badmintonvlaande
 ren in te vullen. Match info: Beerke 4G (102) - Heibac 1G (112) - Link: ht
 tps://www.badmintonvlaanderen.be/sport/teammatch.aspx?id=E5F03216-4619-44A
 1-A21C-5EA724CB9432&match=1367
DTSTART;TZID=Europe/Brussels:20230424T220000
DTEND;TZID=Europe/Brussels:20230424T220000
END:VEVENT
BEGIN:VEVENT
UID:E5F03216-4619-44A1-A21C-5EA724CB9432-30-1355_awayreminder@205.badminton
 ners.net
DTSTAMP:20260420T072403Z
SUMMARY:Uitmatch bevestigd? (Klein Boom 9G (110) - Beerke 4G (102))
DESCRIPTION:Je hebt 72 uur na aanvang om een uitmatch op Badmintonvlaandere
 n in te vullen. Match info: Klein Boom 9G (110) - Beerke 4G (102) - Link: 
 https://www.badmintonvlaanderen.be/sport/teammatch.aspx?id=E5F03216-4619-4
 4A1-A21C-5EA724CB9432&match=1355
DTSTART;TZID=Europe/Brussels:20220914T190000
DTEND;TZID=Europe/Brussels:20220914T190000
END:VEVENT
BEGIN:VEVENT
UID:E5F03216-4619-44A1-A21C-5EA724CB9432-30-1360_awayreminder@205.badminton
 ners.net
DTSTAMP:20260420T072403Z
SUMMARY:Uitmatch bevestigd? (Heibac 1G (112) - Beerke 4G (102))
DESCRIPTION:Je hebt 72 uur na aanvang om een uitmatch op Badmintonvlaandere
 n in te vullen. Match info: Heibac 1G (112) - Beerke 4G (102) - Link: http
 s://www.badmintonvlaanderen.be/sport/teammatch.aspx?id=E5F03216-4619-44A1-
 A21C-5EA724CB9432&match=1360
DTSTART;TZID=Europe/Brussels:20221012T193000
DTEND;TZID=Europe/Brussels:20221012T193000
END:VEVENT
BEGIN:VEVENT
UID:E5F03216-4619-44A1-A21C-5EA724CB9432-30-1359_awayreminder@205.badminton
 ners.net
DTSTAMP:20260420T072403Z
SUMMARY:Uitmatch bevestigd? (Zoersel 3G (102) - Beerke 4G (102))
DESCRIPTION:Je hebt 72 uur na aanvang om een uitmatch op Badmintonvlaandere
 n in te vullen. Match info: Zoersel 3G (102) - Beerke 4G (102) - Link: htt
 ps://www.badmintonvlaanderen.be/sport/teammatch.aspx?id=E5F03216-4619-44A1
 -A21C-5EA724CB9432&match=1359
DTSTART;TZID=Europe/Brussels:20221123T120000
DTEND;TZID=Europe/Brussels:20221123T120000
END:VEVENT
BEGIN:VEVENT
UID:E5F03216-4619-44A1-A21C-5EA724CB9432-30-1357_awayreminder@205.badminton
 ners.net
DTSTAMP:20260420T072403Z
SUMMARY:Uitmatch bevestigd? (Plumula 4G (113) - Beerke 4G (102))
DESCRIPTION:Je hebt 72 uur na aanvang om een uitmatch op Badmintonvlaandere
 n in te vullen. Match info: Plumula 4G (113) - Beerke 4G (102) - Link: htt
 ps://www.badmintonvlaanderen.be/sport/teammatch.aspx?id=E5F03216-4619-44A1
 -A21C-5EA724CB9432&match=1357
DTSTART;TZID=Europe/Brussels:20221207T173000
DTEND;TZID=Europe/Brussels:20221207T173000
END:VEVENT
BEGIN:VEVENT
UID:E5F03216-4619-44A1-A21C-5EA724CB9432-30-1356_awayreminder@205.badminton
 ners.net
DTSTAMP:20260420T072403Z
SUMMARY:Uitmatch bevestigd? (Amateurs 2G (110) - Beerke 4G (102))
DESCRIPTION:Je hebt 72 uur na aanvang om een uitmatch op Badmintonvlaandere
 n in te vullen. Match info: Amateurs 2G (110) - Beerke 4G (102) - Link: ht
 tps://www.badmintonvlaanderen.be/sport/teammatch.aspx?id=E5F03216-4619-44A
 1-A21C-5EA724CB9432&match=1356
DTSTART;TZID=Europe/Brussels:20230126T200000
DTEND;TZID=Europe/Brussels:20230126T200000
END:VEVENT
BEGIN:VEVENT
UID:E5F03216-4619-44A1-A21C-5EA724CB9432-30-1354_awayreminder@205.badminton
 ners.net
DTSTAMP:20260420T072403Z
SUMMARY:Uitmatch bevestigd? (Merksplas 3G (106) - Beerke 4G (102))
DESCRIPTION:Je hebt 72 uur na aanvang om een uitmatch op Badmintonvlaandere
 n in te vullen. Match info: Merksplas 3G (106) - Beerke 4G (102) - Link: h
 ttps://www.badmintonvlaanderen.be/sport/teammatch.aspx?id=E5F03216-4619-44
 A1-A21C-5EA724CB9432&match=1354
DTSTART;TZID=Europe/Brussels:20230215T190000
DTEND;TZID=Europe/Brussels:20230215T190000
END:VEVENT
BEGIN:VEVENT
UID:E5F03216-4619-44A1-A21C-5EA724CB9432-30-1358_awayreminder@205.badminton
 ners.net
DTSTAMP:20260420T072403Z
SUMMARY:Uitmatch bevestigd? (Zandhoven 2G (103) - Beerke 4G (102))
DESCRIPTION:Je hebt 72 uur na aanvang om een uitmatch op Badmintonvlaandere
 n in te vullen. Match info: Zandhoven 2G (103) - Beerke 4G (102) - Link: h
 ttps://www.badmintonvlaanderen.be/sport/teammatch.aspx?id=E5F03216-4619-44
 A1-A21C-5EA724CB9432&match=1358
DTSTART;TZID=Europe/Brussels:20230309T200000
DTEND;TZID=Europe/Brussels:20230309T200000
END:VEVENT
END:VCALENDAR