BEGIN:VCALENDAR
VERSION:2.0
PRODID:spatie/icalendar-generator
NAME:opslag_3g_104_reminders
X-WR-CALNAME:opslag_3g_104_reminders
BEGIN:VTIMEZONE
TZID:Europe/Brussels
BEGIN:DAYLIGHT
DTSTART:20220327T010000
TZOFFSETFROM:+0100
TZOFFSETTO:+0200
END:DAYLIGHT
BEGIN:STANDARD
DTSTART:20221030T030000
TZOFFSETFROM:+0200
TZOFFSETTO:+0100
END:STANDARD
BEGIN:DAYLIGHT
DTSTART:20230326T010000
TZOFFSETFROM:+0100
TZOFFSETTO:+0200
END:DAYLIGHT
END:VTIMEZONE
BEGIN:VTIMEZONE
TZID:UTC
BEGIN:STANDARD
DTSTART:20250724T055209
TZOFFSETFROM:+0000
TZOFFSETTO:+0000
END:STANDARD
END:VTIMEZONE
BEGIN:VEVENT
UID:E5F03216-4619-44A1-A21C-5EA724CB9432-31-1423_homereminder@179.badminton
 ners.net
DTSTAMP:20260420T055209Z
SUMMARY:Thuismatch ingevuld? (Opslag 3G (104) - Duffel 1G (106))
DESCRIPTION:Je hebt 36 uur na aanvang om een thuismatch op Badmintonvlaande
 ren in te vullen. Match info: Opslag 3G (104) - Duffel 1G (106) - Link: ht
 tps://www.badmintonvlaanderen.be/sport/teammatch.aspx?id=E5F03216-4619-44A
 1-A21C-5EA724CB9432&match=1423
DTSTART;TZID=Europe/Brussels:20220927T071500
DTEND;TZID=Europe/Brussels:20220927T071500
END:VEVENT
BEGIN:VEVENT
UID:E5F03216-4619-44A1-A21C-5EA724CB9432-31-1401_homereminder@179.badminton
 ners.net
DTSTAMP:20260420T055209Z
SUMMARY:Thuismatch ingevuld? (Opslag 3G (104) - Brasschaat 6G (105))
DESCRIPTION:Je hebt 36 uur na aanvang om een thuismatch op Badmintonvlaande
 ren in te vullen. Match info: Opslag 3G (104) - Brasschaat 6G (105) - Link
 : https://www.badmintonvlaanderen.be/sport/teammatch.aspx?id=E5F03216-4619
 -44A1-A21C-5EA724CB9432&match=1401
DTSTART;TZID=Europe/Brussels:20221122T071500
DTEND;TZID=Europe/Brussels:20221122T071500
END:VEVENT
BEGIN:VEVENT
UID:E5F03216-4619-44A1-A21C-5EA724CB9432-31-1387_homereminder@179.badminton
 ners.net
DTSTAMP:20260420T055209Z
SUMMARY:Thuismatch ingevuld? (Opslag 3G (104) - Klein Boom 8G (108))
DESCRIPTION:Je hebt 36 uur na aanvang om een thuismatch op Badmintonvlaande
 ren in te vullen. Match info: Opslag 3G (104) - Klein Boom 8G (108) - Link
 : https://www.badmintonvlaanderen.be/sport/teammatch.aspx?id=E5F03216-4619
 -44A1-A21C-5EA724CB9432&match=1387
DTSTART;TZID=Europe/Brussels:20221220T071500
DTEND;TZID=Europe/Brussels:20221220T071500
END:VEVENT
BEGIN:VEVENT
UID:E5F03216-4619-44A1-A21C-5EA724CB9432-31-1430_homereminder@179.badminton
 ners.net
DTSTAMP:20260420T055209Z
SUMMARY:Thuismatch ingevuld? (Opslag 3G (104) - De Nekker 4G (120))
DESCRIPTION:Je hebt 36 uur na aanvang om een thuismatch op Badmintonvlaande
 ren in te vullen. Match info: Opslag 3G (104) - De Nekker 4G (120) - Link:
  https://www.badmintonvlaanderen.be/sport/teammatch.aspx?id=E5F03216-4619-
 44A1-A21C-5EA724CB9432&match=1430
DTSTART;TZID=Europe/Brussels:20230131T071500
DTEND;TZID=Europe/Brussels:20230131T071500
END:VEVENT
BEGIN:VEVENT
UID:E5F03216-4619-44A1-A21C-5EA724CB9432-31-1394_homereminder@179.badminton
 ners.net
DTSTAMP:20260420T055209Z
SUMMARY:Thuismatch ingevuld? (Opslag 3G (104) - Waverse 2G (103))
DESCRIPTION:Je hebt 36 uur na aanvang om een thuismatch op Badmintonvlaande
 ren in te vullen. Match info: Opslag 3G (104) - Waverse 2G (103) - Link: h
 ttps://www.badmintonvlaanderen.be/sport/teammatch.aspx?id=E5F03216-4619-44
 A1-A21C-5EA724CB9432&match=1394
DTSTART;TZID=Europe/Brussels:20230214T071500
DTEND;TZID=Europe/Brussels:20230214T071500
END:VEVENT
BEGIN:VEVENT
UID:E5F03216-4619-44A1-A21C-5EA724CB9432-31-1380_homereminder@179.badminton
 ners.net
DTSTAMP:20260420T055209Z
SUMMARY:Thuismatch ingevuld? (Opslag 3G (104) - Spinshuttle 6G (106))
DESCRIPTION:Je hebt 36 uur na aanvang om een thuismatch op Badmintonvlaande
 ren in te vullen. Match info: Opslag 3G (104) - Spinshuttle 6G (106) - Lin
 k: https://www.badmintonvlaanderen.be/sport/teammatch.aspx?id=E5F03216-461
 9-44A1-A21C-5EA724CB9432&match=1380
DTSTART;TZID=Europe/Brussels:20230314T071500
DTEND;TZID=Europe/Brussels:20230314T071500
END:VEVENT
BEGIN:VEVENT
UID:E5F03216-4619-44A1-A21C-5EA724CB9432-31-1408_homereminder@179.badminton
 ners.net
DTSTAMP:20260420T055209Z
SUMMARY:Thuismatch ingevuld? (Opslag 3G (104) - Poona 3G (99))
DESCRIPTION:Je hebt 36 uur na aanvang om een thuismatch op Badmintonvlaande
 ren in te vullen. Match info: Opslag 3G (104) - Poona 3G (99) - Link: http
 s://www.badmintonvlaanderen.be/sport/teammatch.aspx?id=E5F03216-4619-44A1-
 A21C-5EA724CB9432&match=1408
DTSTART;TZID=Europe/Brussels:20230404T043000
DTEND;TZID=Europe/Brussels:20230404T043000
END:VEVENT
BEGIN:VEVENT
UID:E5F03216-4619-44A1-A21C-5EA724CB9432-31-1413_awayreminder@179.badminton
 ners.net
DTSTAMP:20260420T055209Z
SUMMARY:Uitmatch bevestigd? (Waverse 2G (103) - Opslag 3G (104))
DESCRIPTION:Je hebt 72 uur na aanvang om een uitmatch op Badmintonvlaandere
 n in te vullen. Match info: Waverse 2G (103) - Opslag 3G (104) - Link: htt
 ps://www.badmintonvlaanderen.be/sport/teammatch.aspx?id=E5F03216-4619-44A1
 -A21C-5EA724CB9432&match=1413
DTSTART;TZID=Europe/Brussels:20221003T200000
DTEND;TZID=Europe/Brussels:20221003T200000
END:VEVENT
BEGIN:VEVENT
UID:E5F03216-4619-44A1-A21C-5EA724CB9432-31-1417_awayreminder@179.badminton
 ners.net
DTSTAMP:20260420T055209Z
SUMMARY:Uitmatch bevestigd? (De Nekker 4G (120) - Opslag 3G (104))
DESCRIPTION:Je hebt 72 uur na aanvang om een uitmatch op Badmintonvlaandere
 n in te vullen. Match info: De Nekker 4G (120) - Opslag 3G (104) - Link: h
 ttps://www.badmintonvlaanderen.be/sport/teammatch.aspx?id=E5F03216-4619-44
 A1-A21C-5EA724CB9432&match=1417
DTSTART;TZID=Europe/Brussels:20221007T203000
DTEND;TZID=Europe/Brussels:20221007T203000
END:VEVENT
BEGIN:VEVENT
UID:E5F03216-4619-44A1-A21C-5EA724CB9432-31-1415_awayreminder@179.badminton
 ners.net
DTSTAMP:20260420T055209Z
SUMMARY:Uitmatch bevestigd? (Poona 3G (99) - Opslag 3G (104))
DESCRIPTION:Je hebt 72 uur na aanvang om een uitmatch op Badmintonvlaandere
 n in te vullen. Match info: Poona 3G (99) - Opslag 3G (104) - Link: https:
 //www.badmintonvlaanderen.be/sport/teammatch.aspx?id=E5F03216-4619-44A1-A2
 1C-5EA724CB9432&match=1415
DTSTART;TZID=Europe/Brussels:20221020T200000
DTEND;TZID=Europe/Brussels:20221020T200000
END:VEVENT
BEGIN:VEVENT
UID:E5F03216-4619-44A1-A21C-5EA724CB9432-31-1411_awayreminder@179.badminton
 ners.net
DTSTAMP:20260420T055209Z
SUMMARY:Uitmatch bevestigd? (Spinshuttle 6G (106) - Opslag 3G (104))
DESCRIPTION:Je hebt 72 uur na aanvang om een uitmatch op Badmintonvlaandere
 n in te vullen. Match info: Spinshuttle 6G (106) - Opslag 3G (104) - Link:
  https://www.badmintonvlaanderen.be/sport/teammatch.aspx?id=E5F03216-4619-
 44A1-A21C-5EA724CB9432&match=1411
DTSTART;TZID=Europe/Brussels:20221202T200000
DTEND;TZID=Europe/Brussels:20221202T200000
END:VEVENT
BEGIN:VEVENT
UID:E5F03216-4619-44A1-A21C-5EA724CB9432-31-1414_awayreminder@179.badminton
 ners.net
DTSTAMP:20260420T055209Z
SUMMARY:Uitmatch bevestigd? (Brasschaat 6G (105) - Opslag 3G (104))
DESCRIPTION:Je hebt 72 uur na aanvang om een uitmatch op Badmintonvlaandere
 n in te vullen. Match info: Brasschaat 6G (105) - Opslag 3G (104) - Link: 
 https://www.badmintonvlaanderen.be/sport/teammatch.aspx?id=E5F03216-4619-4
 4A1-A21C-5EA724CB9432&match=1414
DTSTART;TZID=Europe/Brussels:20230118T190000
DTEND;TZID=Europe/Brussels:20230118T190000
END:VEVENT
BEGIN:VEVENT
UID:E5F03216-4619-44A1-A21C-5EA724CB9432-31-1416_awayreminder@179.badminton
 ners.net
DTSTAMP:20260420T055209Z
SUMMARY:Uitmatch bevestigd? (Duffel 1G (106) - Opslag 3G (104))
DESCRIPTION:Je hebt 72 uur na aanvang om een uitmatch op Badmintonvlaandere
 n in te vullen. Match info: Duffel 1G (106) - Opslag 3G (104) - Link: http
 s://www.badmintonvlaanderen.be/sport/teammatch.aspx?id=E5F03216-4619-44A1-
 A21C-5EA724CB9432&match=1416
DTSTART;TZID=Europe/Brussels:20230301T200000
DTEND;TZID=Europe/Brussels:20230301T200000
END:VEVENT
BEGIN:VEVENT
UID:E5F03216-4619-44A1-A21C-5EA724CB9432-31-1412_awayreminder@179.badminton
 ners.net
DTSTAMP:20260420T055209Z
SUMMARY:Uitmatch bevestigd? (Klein Boom 8G (108) - Opslag 3G (104))
DESCRIPTION:Je hebt 72 uur na aanvang om een uitmatch op Badmintonvlaandere
 n in te vullen. Match info: Klein Boom 8G (108) - Opslag 3G (104) - Link: 
 https://www.badmintonvlaanderen.be/sport/teammatch.aspx?id=E5F03216-4619-4
 4A1-A21C-5EA724CB9432&match=1412
DTSTART;TZID=Europe/Brussels:20230329T190000
DTEND;TZID=Europe/Brussels:20230329T190000
END:VEVENT
END:VCALENDAR