BEGIN:VCALENDAR
VERSION:2.0
PRODID:spatie/icalendar-generator
NAME:duffel_1g_106_reminders
X-WR-CALNAME:duffel_1g_106_reminders
BEGIN:VTIMEZONE
TZID:Europe/Brussels
BEGIN:DAYLIGHT
DTSTART:20220327T010000
TZOFFSETFROM:+0100
TZOFFSETTO:+0200
END:DAYLIGHT
BEGIN:STANDARD
DTSTART:20221030T030000
TZOFFSETFROM:+0200
TZOFFSETTO:+0100
END:STANDARD
BEGIN:DAYLIGHT
DTSTART:20230326T010000
TZOFFSETFROM:+0100
TZOFFSETTO:+0200
END:DAYLIGHT
END:VTIMEZONE
BEGIN:VTIMEZONE
TZID:UTC
BEGIN:STANDARD
DTSTART:20250724T055213
TZOFFSETFROM:+0000
TZOFFSETTO:+0000
END:STANDARD
END:VTIMEZONE
BEGIN:VEVENT
UID:E5F03216-4619-44A1-A21C-5EA724CB9432-31-1409_homereminder@186.badminton
 ners.net
DTSTAMP:20260420T055213Z
SUMMARY:Thuismatch ingevuld? (Duffel 1G (106) - Poona 3G (99))
DESCRIPTION:Je hebt 36 uur na aanvang om een thuismatch op Badmintonvlaande
 ren in te vullen. Match info: Duffel 1G (106) - Poona 3G (99) - Link: http
 s://www.badmintonvlaanderen.be/sport/teammatch.aspx?id=E5F03216-4619-44A1-
 A21C-5EA724CB9432&match=1409
DTSTART;TZID=Europe/Brussels:20221011T080000
DTEND;TZID=Europe/Brussels:20221011T080000
END:VEVENT
BEGIN:VEVENT
UID:E5F03216-4619-44A1-A21C-5EA724CB9432-31-1395_homereminder@186.badminton
 ners.net
DTSTAMP:20260420T055213Z
SUMMARY:Thuismatch ingevuld? (Duffel 1G (106) - Waverse 2G (103))
DESCRIPTION:Je hebt 36 uur na aanvang om een thuismatch op Badmintonvlaande
 ren in te vullen. Match info: Duffel 1G (106) - Waverse 2G (103) - Link: h
 ttps://www.badmintonvlaanderen.be/sport/teammatch.aspx?id=E5F03216-4619-44
 A1-A21C-5EA724CB9432&match=1395
DTSTART;TZID=Europe/Brussels:20221122T080000
DTEND;TZID=Europe/Brussels:20221122T080000
END:VEVENT
BEGIN:VEVENT
UID:E5F03216-4619-44A1-A21C-5EA724CB9432-31-1381_homereminder@186.badminton
 ners.net
DTSTAMP:20260420T055213Z
SUMMARY:Thuismatch ingevuld? (Duffel 1G (106) - Spinshuttle 6G (106))
DESCRIPTION:Je hebt 36 uur na aanvang om een thuismatch op Badmintonvlaande
 ren in te vullen. Match info: Duffel 1G (106) - Spinshuttle 6G (106) - Lin
 k: https://www.badmintonvlaanderen.be/sport/teammatch.aspx?id=E5F03216-461
 9-44A1-A21C-5EA724CB9432&match=1381
DTSTART;TZID=Europe/Brussels:20221220T080000
DTEND;TZID=Europe/Brussels:20221220T080000
END:VEVENT
BEGIN:VEVENT
UID:E5F03216-4619-44A1-A21C-5EA724CB9432-31-1388_homereminder@186.badminton
 ners.net
DTSTAMP:20260420T055213Z
SUMMARY:Thuismatch ingevuld? (Duffel 1G (106) - Klein Boom 8G (108))
DESCRIPTION:Je hebt 36 uur na aanvang om een thuismatch op Badmintonvlaande
 ren in te vullen. Match info: Duffel 1G (106) - Klein Boom 8G (108) - Link
 : https://www.badmintonvlaanderen.be/sport/teammatch.aspx?id=E5F03216-4619
 -44A1-A21C-5EA724CB9432&match=1388
DTSTART;TZID=Europe/Brussels:20230214T080000
DTEND;TZID=Europe/Brussels:20230214T080000
END:VEVENT
BEGIN:VEVENT
UID:E5F03216-4619-44A1-A21C-5EA724CB9432-31-1416_homereminder@186.badminton
 ners.net
DTSTAMP:20260420T055213Z
SUMMARY:Thuismatch ingevuld? (Duffel 1G (106) - Opslag 3G (104))
DESCRIPTION:Je hebt 36 uur na aanvang om een thuismatch op Badmintonvlaande
 ren in te vullen. Match info: Duffel 1G (106) - Opslag 3G (104) - Link: ht
 tps://www.badmintonvlaanderen.be/sport/teammatch.aspx?id=E5F03216-4619-44A
 1-A21C-5EA724CB9432&match=1416
DTSTART;TZID=Europe/Brussels:20230228T080000
DTEND;TZID=Europe/Brussels:20230228T080000
END:VEVENT
BEGIN:VEVENT
UID:E5F03216-4619-44A1-A21C-5EA724CB9432-31-1402_homereminder@186.badminton
 ners.net
DTSTAMP:20260420T055213Z
SUMMARY:Thuismatch ingevuld? (Duffel 1G (106) - Brasschaat 6G (105))
DESCRIPTION:Je hebt 36 uur na aanvang om een thuismatch op Badmintonvlaande
 ren in te vullen. Match info: Duffel 1G (106) - Brasschaat 6G (105) - Link
 : https://www.badmintonvlaanderen.be/sport/teammatch.aspx?id=E5F03216-4619
 -44A1-A21C-5EA724CB9432&match=1402
DTSTART;TZID=Europe/Brussels:20230307T080000
DTEND;TZID=Europe/Brussels:20230307T080000
END:VEVENT
BEGIN:VEVENT
UID:E5F03216-4619-44A1-A21C-5EA724CB9432-31-1431_homereminder@186.badminton
 ners.net
DTSTAMP:20260420T055213Z
SUMMARY:Thuismatch ingevuld? (Duffel 1G (106) - De Nekker 4G (120))
DESCRIPTION:Je hebt 36 uur na aanvang om een thuismatch op Badmintonvlaande
 ren in te vullen. Match info: Duffel 1G (106) - De Nekker 4G (120) - Link:
  https://www.badmintonvlaanderen.be/sport/teammatch.aspx?id=E5F03216-4619-
 44A1-A21C-5EA724CB9432&match=1431
DTSTART;TZID=Europe/Brussels:20230314T080000
DTEND;TZID=Europe/Brussels:20230314T080000
END:VEVENT
BEGIN:VEVENT
UID:E5F03216-4619-44A1-A21C-5EA724CB9432-31-1423_awayreminder@186.badminton
 ners.net
DTSTAMP:20260420T055213Z
SUMMARY:Uitmatch bevestigd? (Opslag 3G (104) - Duffel 1G (106))
DESCRIPTION:Je hebt 72 uur na aanvang om een uitmatch op Badmintonvlaandere
 n in te vullen. Match info: Opslag 3G (104) - Duffel 1G (106) - Link: http
 s://www.badmintonvlaanderen.be/sport/teammatch.aspx?id=E5F03216-4619-44A1-
 A21C-5EA724CB9432&match=1423
DTSTART;TZID=Europe/Brussels:20220928T191500
DTEND;TZID=Europe/Brussels:20220928T191500
END:VEVENT
BEGIN:VEVENT
UID:E5F03216-4619-44A1-A21C-5EA724CB9432-31-1421_awayreminder@186.badminton
 ners.net
DTSTAMP:20260420T055213Z
SUMMARY:Uitmatch bevestigd? (Brasschaat 6G (105) - Duffel 1G (106))
DESCRIPTION:Je hebt 72 uur na aanvang om een uitmatch op Badmintonvlaandere
 n in te vullen. Match info: Brasschaat 6G (105) - Duffel 1G (106) - Link: 
 https://www.badmintonvlaanderen.be/sport/teammatch.aspx?id=E5F03216-4619-4
 4A1-A21C-5EA724CB9432&match=1421
DTSTART;TZID=Europe/Brussels:20221026T190000
DTEND;TZID=Europe/Brussels:20221026T190000
END:VEVENT
BEGIN:VEVENT
UID:E5F03216-4619-44A1-A21C-5EA724CB9432-31-1419_awayreminder@186.badminton
 ners.net
DTSTAMP:20260420T055213Z
SUMMARY:Uitmatch bevestigd? (Klein Boom 8G (108) - Duffel 1G (106))
DESCRIPTION:Je hebt 72 uur na aanvang om een uitmatch op Badmintonvlaandere
 n in te vullen. Match info: Klein Boom 8G (108) - Duffel 1G (106) - Link: 
 https://www.badmintonvlaanderen.be/sport/teammatch.aspx?id=E5F03216-4619-4
 4A1-A21C-5EA724CB9432&match=1419
DTSTART;TZID=Europe/Brussels:20221109T190000
DTEND;TZID=Europe/Brussels:20221109T190000
END:VEVENT
BEGIN:VEVENT
UID:E5F03216-4619-44A1-A21C-5EA724CB9432-31-1424_awayreminder@186.badminton
 ners.net
DTSTAMP:20260420T055213Z
SUMMARY:Uitmatch bevestigd? (De Nekker 4G (120) - Duffel 1G (106))
DESCRIPTION:Je hebt 72 uur na aanvang om een uitmatch op Badmintonvlaandere
 n in te vullen. Match info: De Nekker 4G (120) - Duffel 1G (106) - Link: h
 ttps://www.badmintonvlaanderen.be/sport/teammatch.aspx?id=E5F03216-4619-44
 A1-A21C-5EA724CB9432&match=1424
DTSTART;TZID=Europe/Brussels:20221202T203000
DTEND;TZID=Europe/Brussels:20221202T203000
END:VEVENT
BEGIN:VEVENT
UID:E5F03216-4619-44A1-A21C-5EA724CB9432-31-1420_awayreminder@186.badminton
 ners.net
DTSTAMP:20260420T055213Z
SUMMARY:Uitmatch bevestigd? (Waverse 2G (103) - Duffel 1G (106))
DESCRIPTION:Je hebt 72 uur na aanvang om een uitmatch op Badmintonvlaandere
 n in te vullen. Match info: Waverse 2G (103) - Duffel 1G (106) - Link: htt
 ps://www.badmintonvlaanderen.be/sport/teammatch.aspx?id=E5F03216-4619-44A1
 -A21C-5EA724CB9432&match=1420
DTSTART;TZID=Europe/Brussels:20230118T140000
DTEND;TZID=Europe/Brussels:20230118T140000
END:VEVENT
BEGIN:VEVENT
UID:E5F03216-4619-44A1-A21C-5EA724CB9432-31-1422_awayreminder@186.badminton
 ners.net
DTSTAMP:20260420T055213Z
SUMMARY:Uitmatch bevestigd? (Poona 3G (99) - Duffel 1G (106))
DESCRIPTION:Je hebt 72 uur na aanvang om een uitmatch op Badmintonvlaandere
 n in te vullen. Match info: Poona 3G (99) - Duffel 1G (106) - Link: https:
 //www.badmintonvlaanderen.be/sport/teammatch.aspx?id=E5F03216-4619-44A1-A2
 1C-5EA724CB9432&match=1422
DTSTART;TZID=Europe/Brussels:20230126T200000
DTEND;TZID=Europe/Brussels:20230126T200000
END:VEVENT
BEGIN:VEVENT
UID:E5F03216-4619-44A1-A21C-5EA724CB9432-31-1418_awayreminder@186.badminton
 ners.net
DTSTAMP:20260420T055213Z
SUMMARY:Uitmatch bevestigd? (Spinshuttle 6G (106) - Duffel 1G (106))
DESCRIPTION:Je hebt 72 uur na aanvang om een uitmatch op Badmintonvlaandere
 n in te vullen. Match info: Spinshuttle 6G (106) - Duffel 1G (106) - Link:
  https://www.badmintonvlaanderen.be/sport/teammatch.aspx?id=E5F03216-4619-
 44A1-A21C-5EA724CB9432&match=1418
DTSTART;TZID=Europe/Brussels:20230224T200000
DTEND;TZID=Europe/Brussels:20230224T200000
END:VEVENT
END:VCALENDAR