BEGIN:VCALENDAR
VERSION:2.0
PRODID:spatie/icalendar-generator
NAME:spinshuttle_6g_106_reminders
X-WR-CALNAME:spinshuttle_6g_106_reminders
BEGIN:VTIMEZONE
TZID:Europe/Brussels
BEGIN:DAYLIGHT
DTSTART:20220327T010000
TZOFFSETFROM:+0100
TZOFFSETTO:+0200
END:DAYLIGHT
BEGIN:STANDARD
DTSTART:20221030T030000
TZOFFSETFROM:+0200
TZOFFSETTO:+0100
END:STANDARD
BEGIN:DAYLIGHT
DTSTART:20230326T010000
TZOFFSETFROM:+0100
TZOFFSETTO:+0200
END:DAYLIGHT
END:VTIMEZONE
BEGIN:VTIMEZONE
TZID:UTC
BEGIN:STANDARD
DTSTART:20250724T072432
TZOFFSETFROM:+0000
TZOFFSETTO:+0000
END:STANDARD
END:VTIMEZONE
BEGIN:VEVENT
UID:E5F03216-4619-44A1-A21C-5EA724CB9432-31-1425_homereminder@193.badminton
 ners.net
DTSTAMP:20260420T072432Z
SUMMARY:Thuismatch ingevuld? (Spinshuttle 6G (106) - De Nekker 4G (120))
DESCRIPTION:Je hebt 36 uur na aanvang om een thuismatch op Badmintonvlaande
 ren in te vullen. Match info: Spinshuttle 6G (106) - De Nekker 4G (120) - 
 Link: https://www.badmintonvlaanderen.be/sport/teammatch.aspx?id=E5F03216-
 4619-44A1-A21C-5EA724CB9432&match=1425
DTSTART;TZID=Europe/Brussels:20220908T080000
DTEND;TZID=Europe/Brussels:20220908T080000
END:VEVENT
BEGIN:VEVENT
UID:E5F03216-4619-44A1-A21C-5EA724CB9432-31-1397_homereminder@193.badminton
 ners.net
DTSTAMP:20260420T072432Z
SUMMARY:Thuismatch ingevuld? (Spinshuttle 6G (106) - Brasschaat 6G (105))
DESCRIPTION:Je hebt 36 uur na aanvang om een thuismatch op Badmintonvlaande
 ren in te vullen. Match info: Spinshuttle 6G (106) - Brasschaat 6G (105) -
  Link: https://www.badmintonvlaanderen.be/sport/teammatch.aspx?id=E5F03216
 -4619-44A1-A21C-5EA724CB9432&match=1397
DTSTART;TZID=Europe/Brussels:20221006T080000
DTEND;TZID=Europe/Brussels:20221006T080000
END:VEVENT
BEGIN:VEVENT
UID:E5F03216-4619-44A1-A21C-5EA724CB9432-31-1383_homereminder@193.badminton
 ners.net
DTSTAMP:20260420T072432Z
SUMMARY:Thuismatch ingevuld? (Spinshuttle 6G (106) - Klein Boom 8G (108))
DESCRIPTION:Je hebt 36 uur na aanvang om een thuismatch op Badmintonvlaande
 ren in te vullen. Match info: Spinshuttle 6G (106) - Klein Boom 8G (108) -
  Link: https://www.badmintonvlaanderen.be/sport/teammatch.aspx?id=E5F03216
 -4619-44A1-A21C-5EA724CB9432&match=1383
DTSTART;TZID=Europe/Brussels:20221117T080000
DTEND;TZID=Europe/Brussels:20221117T080000
END:VEVENT
BEGIN:VEVENT
UID:E5F03216-4619-44A1-A21C-5EA724CB9432-31-1411_homereminder@193.badminton
 ners.net
DTSTAMP:20260420T072432Z
SUMMARY:Thuismatch ingevuld? (Spinshuttle 6G (106) - Opslag 3G (104))
DESCRIPTION:Je hebt 36 uur na aanvang om een thuismatch op Badmintonvlaande
 ren in te vullen. Match info: Spinshuttle 6G (106) - Opslag 3G (104) - Lin
 k: https://www.badmintonvlaanderen.be/sport/teammatch.aspx?id=E5F03216-461
 9-44A1-A21C-5EA724CB9432&match=1411
DTSTART;TZID=Europe/Brussels:20221201T080000
DTEND;TZID=Europe/Brussels:20221201T080000
END:VEVENT
BEGIN:VEVENT
UID:E5F03216-4619-44A1-A21C-5EA724CB9432-31-1404_homereminder@193.badminton
 ners.net
DTSTAMP:20260420T072432Z
SUMMARY:Thuismatch ingevuld? (Spinshuttle 6G (106) - Poona 3G (99))
DESCRIPTION:Je hebt 36 uur na aanvang om een thuismatch op Badmintonvlaande
 ren in te vullen. Match info: Spinshuttle 6G (106) - Poona 3G (99) - Link:
  https://www.badmintonvlaanderen.be/sport/teammatch.aspx?id=E5F03216-4619-
 44A1-A21C-5EA724CB9432&match=1404
DTSTART;TZID=Europe/Brussels:20230216T080000
DTEND;TZID=Europe/Brussels:20230216T080000
END:VEVENT
BEGIN:VEVENT
UID:E5F03216-4619-44A1-A21C-5EA724CB9432-31-1418_homereminder@193.badminton
 ners.net
DTSTAMP:20260420T072432Z
SUMMARY:Thuismatch ingevuld? (Spinshuttle 6G (106) - Duffel 1G (106))
DESCRIPTION:Je hebt 36 uur na aanvang om een thuismatch op Badmintonvlaande
 ren in te vullen. Match info: Spinshuttle 6G (106) - Duffel 1G (106) - Lin
 k: https://www.badmintonvlaanderen.be/sport/teammatch.aspx?id=E5F03216-461
 9-44A1-A21C-5EA724CB9432&match=1418
DTSTART;TZID=Europe/Brussels:20230223T080000
DTEND;TZID=Europe/Brussels:20230223T080000
END:VEVENT
BEGIN:VEVENT
UID:E5F03216-4619-44A1-A21C-5EA724CB9432-31-1390_homereminder@193.badminton
 ners.net
DTSTAMP:20260420T072432Z
SUMMARY:Thuismatch ingevuld? (Spinshuttle 6G (106) - Waverse 2G (103))
DESCRIPTION:Je hebt 36 uur na aanvang om een thuismatch op Badmintonvlaande
 ren in te vullen. Match info: Spinshuttle 6G (106) - Waverse 2G (103) - Li
 nk: https://www.badmintonvlaanderen.be/sport/teammatch.aspx?id=E5F03216-46
 19-44A1-A21C-5EA724CB9432&match=1390
DTSTART;TZID=Europe/Brussels:20230420T080000
DTEND;TZID=Europe/Brussels:20230420T080000
END:VEVENT
BEGIN:VEVENT
UID:E5F03216-4619-44A1-A21C-5EA724CB9432-31-1377_awayreminder@193.badminton
 ners.net
DTSTAMP:20260420T072432Z
SUMMARY:Uitmatch bevestigd? (Waverse 2G (103) - Spinshuttle 6G (106))
DESCRIPTION:Je hebt 72 uur na aanvang om een uitmatch op Badmintonvlaandere
 n in te vullen. Match info: Waverse 2G (103) - Spinshuttle 6G (106) - Link
 : https://www.badmintonvlaanderen.be/sport/teammatch.aspx?id=E5F03216-4619
 -44A1-A21C-5EA724CB9432&match=1377
DTSTART;TZID=Europe/Brussels:20221026T140000
DTEND;TZID=Europe/Brussels:20221026T140000
END:VEVENT
BEGIN:VEVENT
UID:E5F03216-4619-44A1-A21C-5EA724CB9432-31-1379_awayreminder@193.badminton
 ners.net
DTSTAMP:20260420T072432Z
SUMMARY:Uitmatch bevestigd? (Poona 3G (99) - Spinshuttle 6G (106))
DESCRIPTION:Je hebt 72 uur na aanvang om een uitmatch op Badmintonvlaandere
 n in te vullen. Match info: Poona 3G (99) - Spinshuttle 6G (106) - Link: h
 ttps://www.badmintonvlaanderen.be/sport/teammatch.aspx?id=E5F03216-4619-44
 A1-A21C-5EA724CB9432&match=1379
DTSTART;TZID=Europe/Brussels:20221110T200000
DTEND;TZID=Europe/Brussels:20221110T200000
END:VEVENT
BEGIN:VEVENT
UID:E5F03216-4619-44A1-A21C-5EA724CB9432-31-1381_awayreminder@193.badminton
 ners.net
DTSTAMP:20260420T072432Z
SUMMARY:Uitmatch bevestigd? (Duffel 1G (106) - Spinshuttle 6G (106))
DESCRIPTION:Je hebt 72 uur na aanvang om een uitmatch op Badmintonvlaandere
 n in te vullen. Match info: Duffel 1G (106) - Spinshuttle 6G (106) - Link:
  https://www.badmintonvlaanderen.be/sport/teammatch.aspx?id=E5F03216-4619-
 44A1-A21C-5EA724CB9432&match=1381
DTSTART;TZID=Europe/Brussels:20221221T200000
DTEND;TZID=Europe/Brussels:20221221T200000
END:VEVENT
BEGIN:VEVENT
UID:E5F03216-4619-44A1-A21C-5EA724CB9432-31-1376_awayreminder@193.badminton
 ners.net
DTSTAMP:20260420T072432Z
SUMMARY:Uitmatch bevestigd? (Klein Boom 8G (108) - Spinshuttle 6G (106))
DESCRIPTION:Je hebt 72 uur na aanvang om een uitmatch op Badmintonvlaandere
 n in te vullen. Match info: Klein Boom 8G (108) - Spinshuttle 6G (106) - L
 ink: https://www.badmintonvlaanderen.be/sport/teammatch.aspx?id=E5F03216-4
 619-44A1-A21C-5EA724CB9432&match=1376
DTSTART;TZID=Europe/Brussels:20230118T190000
DTEND;TZID=Europe/Brussels:20230118T190000
END:VEVENT
BEGIN:VEVENT
UID:E5F03216-4619-44A1-A21C-5EA724CB9432-31-1378_awayreminder@193.badminton
 ners.net
DTSTAMP:20260420T072432Z
SUMMARY:Uitmatch bevestigd? (Brasschaat 6G (105) - Spinshuttle 6G (106))
DESCRIPTION:Je hebt 72 uur na aanvang om een uitmatch op Badmintonvlaandere
 n in te vullen. Match info: Brasschaat 6G (105) - Spinshuttle 6G (106) - L
 ink: https://www.badmintonvlaanderen.be/sport/teammatch.aspx?id=E5F03216-4
 619-44A1-A21C-5EA724CB9432&match=1378
DTSTART;TZID=Europe/Brussels:20230201T190000
DTEND;TZID=Europe/Brussels:20230201T190000
END:VEVENT
BEGIN:VEVENT
UID:E5F03216-4619-44A1-A21C-5EA724CB9432-31-1382_awayreminder@193.badminton
 ners.net
DTSTAMP:20260420T072432Z
SUMMARY:Uitmatch bevestigd? (De Nekker 4G (120) - Spinshuttle 6G (106))
DESCRIPTION:Je hebt 72 uur na aanvang om een uitmatch op Badmintonvlaandere
 n in te vullen. Match info: De Nekker 4G (120) - Spinshuttle 6G (106) - Li
 nk: https://www.badmintonvlaanderen.be/sport/teammatch.aspx?id=E5F03216-46
 19-44A1-A21C-5EA724CB9432&match=1382
DTSTART;TZID=Europe/Brussels:20230303T203000
DTEND;TZID=Europe/Brussels:20230303T203000
END:VEVENT
BEGIN:VEVENT
UID:E5F03216-4619-44A1-A21C-5EA724CB9432-31-1380_awayreminder@193.badminton
 ners.net
DTSTAMP:20260420T072432Z
SUMMARY:Uitmatch bevestigd? (Opslag 3G (104) - Spinshuttle 6G (106))
DESCRIPTION:Je hebt 72 uur na aanvang om een uitmatch op Badmintonvlaandere
 n in te vullen. Match info: Opslag 3G (104) - Spinshuttle 6G (106) - Link:
  https://www.badmintonvlaanderen.be/sport/teammatch.aspx?id=E5F03216-4619-
 44A1-A21C-5EA724CB9432&match=1380
DTSTART;TZID=Europe/Brussels:20230315T191500
DTEND;TZID=Europe/Brussels:20230315T191500
END:VEVENT
END:VCALENDAR