BEGIN:VCALENDAR
VERSION:2.0
PRODID:spatie/icalendar-generator
NAME:brasschaat_6g_105_reminders
X-WR-CALNAME:brasschaat_6g_105_reminders
BEGIN:VTIMEZONE
TZID:Europe/Brussels
BEGIN:DAYLIGHT
DTSTART:20220327T010000
TZOFFSETFROM:+0100
TZOFFSETTO:+0200
END:DAYLIGHT
BEGIN:STANDARD
DTSTART:20221030T030000
TZOFFSETFROM:+0200
TZOFFSETTO:+0100
END:STANDARD
BEGIN:DAYLIGHT
DTSTART:20230326T010000
TZOFFSETFROM:+0100
TZOFFSETTO:+0200
END:DAYLIGHT
BEGIN:STANDARD
DTSTART:20231029T030000
TZOFFSETFROM:+0200
TZOFFSETTO:+0100
END:STANDARD
END:VTIMEZONE
BEGIN:VTIMEZONE
TZID:UTC
BEGIN:STANDARD
DTSTART:20250724T072432
TZOFFSETFROM:+0000
TZOFFSETTO:+0000
END:STANDARD
END:VTIMEZONE
BEGIN:VEVENT
UID:E5F03216-4619-44A1-A21C-5EA724CB9432-31-1385_homereminder@200.badminton
 ners.net
DTSTAMP:20260420T072432Z
SUMMARY:Thuismatch ingevuld? (Brasschaat 6G (105) - Klein Boom 8G (108))
DESCRIPTION:Je hebt 36 uur na aanvang om een thuismatch op Badmintonvlaande
 ren in te vullen. Match info: Brasschaat 6G (105) - Klein Boom 8G (108) - 
 Link: https://www.badmintonvlaanderen.be/sport/teammatch.aspx?id=E5F03216-
 4619-44A1-A21C-5EA724CB9432&match=1385
DTSTART;TZID=Europe/Brussels:20221004T070000
DTEND;TZID=Europe/Brussels:20221004T070000
END:VEVENT
BEGIN:VEVENT
UID:E5F03216-4619-44A1-A21C-5EA724CB9432-31-1421_homereminder@200.badminton
 ners.net
DTSTAMP:20260420T072432Z
SUMMARY:Thuismatch ingevuld? (Brasschaat 6G (105) - Duffel 1G (106))
DESCRIPTION:Je hebt 36 uur na aanvang om een thuismatch op Badmintonvlaande
 ren in te vullen. Match info: Brasschaat 6G (105) - Duffel 1G (106) - Link
 : https://www.badmintonvlaanderen.be/sport/teammatch.aspx?id=E5F03216-4619
 -44A1-A21C-5EA724CB9432&match=1421
DTSTART;TZID=Europe/Brussels:20221025T070000
DTEND;TZID=Europe/Brussels:20221025T070000
END:VEVENT
BEGIN:VEVENT
UID:E5F03216-4619-44A1-A21C-5EA724CB9432-31-1407_homereminder@200.badminton
 ners.net
DTSTAMP:20260420T072432Z
SUMMARY:Thuismatch ingevuld? (Brasschaat 6G (105) - Poona 3G (99))
DESCRIPTION:Je hebt 36 uur na aanvang om een thuismatch op Badmintonvlaande
 ren in te vullen. Match info: Brasschaat 6G (105) - Poona 3G (99) - Link: 
 https://www.badmintonvlaanderen.be/sport/teammatch.aspx?id=E5F03216-4619-4
 4A1-A21C-5EA724CB9432&match=1407
DTSTART;TZID=Europe/Brussels:20221129T070000
DTEND;TZID=Europe/Brussels:20221129T070000
END:VEVENT
BEGIN:VEVENT
UID:E5F03216-4619-44A1-A21C-5EA724CB9432-31-1428_homereminder@200.badminton
 ners.net
DTSTAMP:20260420T072432Z
SUMMARY:Thuismatch ingevuld? (Brasschaat 6G (105) - De Nekker 4G (120))
DESCRIPTION:Je hebt 36 uur na aanvang om een thuismatch op Badmintonvlaande
 ren in te vullen. Match info: Brasschaat 6G (105) - De Nekker 4G (120) - L
 ink: https://www.badmintonvlaanderen.be/sport/teammatch.aspx?id=E5F03216-4
 619-44A1-A21C-5EA724CB9432&match=1428
DTSTART;TZID=Europe/Brussels:20221220T070000
DTEND;TZID=Europe/Brussels:20221220T070000
END:VEVENT
BEGIN:VEVENT
UID:E5F03216-4619-44A1-A21C-5EA724CB9432-31-1414_homereminder@200.badminton
 ners.net
DTSTAMP:20260420T072432Z
SUMMARY:Thuismatch ingevuld? (Brasschaat 6G (105) - Opslag 3G (104))
DESCRIPTION:Je hebt 36 uur na aanvang om een thuismatch op Badmintonvlaande
 ren in te vullen. Match info: Brasschaat 6G (105) - Opslag 3G (104) - Link
 : https://www.badmintonvlaanderen.be/sport/teammatch.aspx?id=E5F03216-4619
 -44A1-A21C-5EA724CB9432&match=1414
DTSTART;TZID=Europe/Brussels:20230117T070000
DTEND;TZID=Europe/Brussels:20230117T070000
END:VEVENT
BEGIN:VEVENT
UID:E5F03216-4619-44A1-A21C-5EA724CB9432-31-1378_homereminder@200.badminton
 ners.net
DTSTAMP:20260420T072432Z
SUMMARY:Thuismatch ingevuld? (Brasschaat 6G (105) - Spinshuttle 6G (106))
DESCRIPTION:Je hebt 36 uur na aanvang om een thuismatch op Badmintonvlaande
 ren in te vullen. Match info: Brasschaat 6G (105) - Spinshuttle 6G (106) -
  Link: https://www.badmintonvlaanderen.be/sport/teammatch.aspx?id=E5F03216
 -4619-44A1-A21C-5EA724CB9432&match=1378
DTSTART;TZID=Europe/Brussels:20230131T070000
DTEND;TZID=Europe/Brussels:20230131T070000
END:VEVENT
BEGIN:VEVENT
UID:E5F03216-4619-44A1-A21C-5EA724CB9432-31-1392_homereminder@200.badminton
 ners.net
DTSTAMP:20260420T072432Z
SUMMARY:Thuismatch ingevuld? (Brasschaat 6G (105) - Waverse 2G (103))
DESCRIPTION:Je hebt 36 uur na aanvang om een thuismatch op Badmintonvlaande
 ren in te vullen. Match info: Brasschaat 6G (105) - Waverse 2G (103) - Lin
 k: https://www.badmintonvlaanderen.be/sport/teammatch.aspx?id=E5F03216-461
 9-44A1-A21C-5EA724CB9432&match=1392
DTSTART;TZID=Europe/Brussels:20230502T070000
DTEND;TZID=Europe/Brussels:20230502T070000
END:VEVENT
BEGIN:VEVENT
UID:E5F03216-4619-44A1-A21C-5EA724CB9432-31-1397_awayreminder@200.badminton
 ners.net
DTSTAMP:20260420T072432Z
SUMMARY:Uitmatch bevestigd? (Spinshuttle 6G (106) - Brasschaat 6G (105))
DESCRIPTION:Je hebt 72 uur na aanvang om een uitmatch op Badmintonvlaandere
 n in te vullen. Match info: Spinshuttle 6G (106) - Brasschaat 6G (105) - L
 ink: https://www.badmintonvlaanderen.be/sport/teammatch.aspx?id=E5F03216-4
 619-44A1-A21C-5EA724CB9432&match=1397
DTSTART;TZID=Europe/Brussels:20221007T200000
DTEND;TZID=Europe/Brussels:20221007T200000
END:VEVENT
BEGIN:VEVENT
UID:E5F03216-4619-44A1-A21C-5EA724CB9432-31-1401_awayreminder@200.badminton
 ners.net
DTSTAMP:20260420T072432Z
SUMMARY:Uitmatch bevestigd? (Opslag 3G (104) - Brasschaat 6G (105))
DESCRIPTION:Je hebt 72 uur na aanvang om een uitmatch op Badmintonvlaandere
 n in te vullen. Match info: Opslag 3G (104) - Brasschaat 6G (105) - Link: 
 https://www.badmintonvlaanderen.be/sport/teammatch.aspx?id=E5F03216-4619-4
 4A1-A21C-5EA724CB9432&match=1401
DTSTART;TZID=Europe/Brussels:20221123T191500
DTEND;TZID=Europe/Brussels:20221123T191500
END:VEVENT
BEGIN:VEVENT
UID:E5F03216-4619-44A1-A21C-5EA724CB9432-31-1399_awayreminder@200.badminton
 ners.net
DTSTAMP:20260420T072432Z
SUMMARY:Uitmatch bevestigd? (Waverse 2G (103) - Brasschaat 6G (105))
DESCRIPTION:Je hebt 72 uur na aanvang om een uitmatch op Badmintonvlaandere
 n in te vullen. Match info: Waverse 2G (103) - Brasschaat 6G (105) - Link:
  https://www.badmintonvlaanderen.be/sport/teammatch.aspx?id=E5F03216-4619-
 44A1-A21C-5EA724CB9432&match=1399
DTSTART;TZID=Europe/Brussels:20221207T140000
DTEND;TZID=Europe/Brussels:20221207T140000
END:VEVENT
BEGIN:VEVENT
UID:E5F03216-4619-44A1-A21C-5EA724CB9432-31-1400_awayreminder@200.badminton
 ners.net
DTSTAMP:20260420T072432Z
SUMMARY:Uitmatch bevestigd? (Poona 3G (99) - Brasschaat 6G (105))
DESCRIPTION:Je hebt 72 uur na aanvang om een uitmatch op Badmintonvlaandere
 n in te vullen. Match info: Poona 3G (99) - Brasschaat 6G (105) - Link: ht
 tps://www.badmintonvlaanderen.be/sport/teammatch.aspx?id=E5F03216-4619-44A
 1-A21C-5EA724CB9432&match=1400
DTSTART;TZID=Europe/Brussels:20230209T200000
DTEND;TZID=Europe/Brussels:20230209T200000
END:VEVENT
BEGIN:VEVENT
UID:E5F03216-4619-44A1-A21C-5EA724CB9432-31-1398_awayreminder@200.badminton
 ners.net
DTSTAMP:20260420T072432Z
SUMMARY:Uitmatch bevestigd? (Klein Boom 8G (108) - Brasschaat 6G (105))
DESCRIPTION:Je hebt 72 uur na aanvang om een uitmatch op Badmintonvlaandere
 n in te vullen. Match info: Klein Boom 8G (108) - Brasschaat 6G (105) - Li
 nk: https://www.badmintonvlaanderen.be/sport/teammatch.aspx?id=E5F03216-46
 19-44A1-A21C-5EA724CB9432&match=1398
DTSTART;TZID=Europe/Brussels:20230301T190000
DTEND;TZID=Europe/Brussels:20230301T190000
END:VEVENT
BEGIN:VEVENT
UID:E5F03216-4619-44A1-A21C-5EA724CB9432-31-1402_awayreminder@200.badminton
 ners.net
DTSTAMP:20260420T072432Z
SUMMARY:Uitmatch bevestigd? (Duffel 1G (106) - Brasschaat 6G (105))
DESCRIPTION:Je hebt 72 uur na aanvang om een uitmatch op Badmintonvlaandere
 n in te vullen. Match info: Duffel 1G (106) - Brasschaat 6G (105) - Link: 
 https://www.badmintonvlaanderen.be/sport/teammatch.aspx?id=E5F03216-4619-4
 4A1-A21C-5EA724CB9432&match=1402
DTSTART;TZID=Europe/Brussels:20230308T200000
DTEND;TZID=Europe/Brussels:20230308T200000
END:VEVENT
BEGIN:VEVENT
UID:E5F03216-4619-44A1-A21C-5EA724CB9432-31-1403_awayreminder@200.badminton
 ners.net
DTSTAMP:20260420T072432Z
SUMMARY:Uitmatch bevestigd? (De Nekker 4G (120) - Brasschaat 6G (105))
DESCRIPTION:Je hebt 72 uur na aanvang om een uitmatch op Badmintonvlaandere
 n in te vullen. Match info: De Nekker 4G (120) - Brasschaat 6G (105) - Lin
 k: https://www.badmintonvlaanderen.be/sport/teammatch.aspx?id=E5F03216-461
 9-44A1-A21C-5EA724CB9432&match=1403
DTSTART;TZID=Europe/Brussels:20230324T203000
DTEND;TZID=Europe/Brussels:20230324T203000
END:VEVENT
END:VCALENDAR