BEGIN:VCALENDAR
VERSION:2.0
PRODID:spatie/icalendar-generator
NAME:klein_boom_8g_108_reminders
X-WR-CALNAME:klein_boom_8g_108_reminders
BEGIN:VTIMEZONE
TZID:Europe/Brussels
BEGIN:DAYLIGHT
DTSTART:20220327T010000
TZOFFSETFROM:+0100
TZOFFSETTO:+0200
END:DAYLIGHT
BEGIN:STANDARD
DTSTART:20221030T030000
TZOFFSETFROM:+0200
TZOFFSETTO:+0100
END:STANDARD
BEGIN:DAYLIGHT
DTSTART:20230326T010000
TZOFFSETFROM:+0100
TZOFFSETTO:+0200
END:DAYLIGHT
END:VTIMEZONE
BEGIN:VTIMEZONE
TZID:UTC
BEGIN:STANDARD
DTSTART:20250724T055216
TZOFFSETFROM:+0000
TZOFFSETTO:+0000
END:STANDARD
END:VTIMEZONE
BEGIN:VEVENT
UID:E5F03216-4619-44A1-A21C-5EA724CB9432-31-1391_homereminder@204.badminton
 ners.net
DTSTAMP:20260420T055216Z
SUMMARY:Thuismatch ingevuld? (Klein Boom 8G (108) - Waverse 2G (103))
DESCRIPTION:Je hebt 36 uur na aanvang om een thuismatch op Badmintonvlaande
 ren in te vullen. Match info: Klein Boom 8G (108) - Waverse 2G (103) - Lin
 k: https://www.badmintonvlaanderen.be/sport/teammatch.aspx?id=E5F03216-461
 9-44A1-A21C-5EA724CB9432&match=1391
DTSTART;TZID=Europe/Brussels:20221011T070000
DTEND;TZID=Europe/Brussels:20221011T070000
END:VEVENT
BEGIN:VEVENT
UID:E5F03216-4619-44A1-A21C-5EA724CB9432-31-1426_homereminder@204.badminton
 ners.net
DTSTAMP:20260420T055216Z
SUMMARY:Thuismatch ingevuld? (Klein Boom 8G (108) - De Nekker 4G (120))
DESCRIPTION:Je hebt 36 uur na aanvang om een thuismatch op Badmintonvlaande
 ren in te vullen. Match info: Klein Boom 8G (108) - De Nekker 4G (120) - L
 ink: https://www.badmintonvlaanderen.be/sport/teammatch.aspx?id=E5F03216-4
 619-44A1-A21C-5EA724CB9432&match=1426
DTSTART;TZID=Europe/Brussels:20221025T070000
DTEND;TZID=Europe/Brussels:20221025T070000
END:VEVENT
BEGIN:VEVENT
UID:E5F03216-4619-44A1-A21C-5EA724CB9432-31-1419_homereminder@204.badminton
 ners.net
DTSTAMP:20260420T055216Z
SUMMARY:Thuismatch ingevuld? (Klein Boom 8G (108) - Duffel 1G (106))
DESCRIPTION:Je hebt 36 uur na aanvang om een thuismatch op Badmintonvlaande
 ren in te vullen. Match info: Klein Boom 8G (108) - Duffel 1G (106) - Link
 : https://www.badmintonvlaanderen.be/sport/teammatch.aspx?id=E5F03216-4619
 -44A1-A21C-5EA724CB9432&match=1419
DTSTART;TZID=Europe/Brussels:20221108T070000
DTEND;TZID=Europe/Brussels:20221108T070000
END:VEVENT
BEGIN:VEVENT
UID:E5F03216-4619-44A1-A21C-5EA724CB9432-31-1405_homereminder@204.badminton
 ners.net
DTSTAMP:20260420T055216Z
SUMMARY:Thuismatch ingevuld? (Klein Boom 8G (108) - Poona 3G (99))
DESCRIPTION:Je hebt 36 uur na aanvang om een thuismatch op Badmintonvlaande
 ren in te vullen. Match info: Klein Boom 8G (108) - Poona 3G (99) - Link: 
 https://www.badmintonvlaanderen.be/sport/teammatch.aspx?id=E5F03216-4619-4
 4A1-A21C-5EA724CB9432&match=1405
DTSTART;TZID=Europe/Brussels:20221206T070000
DTEND;TZID=Europe/Brussels:20221206T070000
END:VEVENT
BEGIN:VEVENT
UID:E5F03216-4619-44A1-A21C-5EA724CB9432-31-1376_homereminder@204.badminton
 ners.net
DTSTAMP:20260420T055216Z
SUMMARY:Thuismatch ingevuld? (Klein Boom 8G (108) - Spinshuttle 6G (106))
DESCRIPTION:Je hebt 36 uur na aanvang om een thuismatch op Badmintonvlaande
 ren in te vullen. Match info: Klein Boom 8G (108) - Spinshuttle 6G (106) -
  Link: https://www.badmintonvlaanderen.be/sport/teammatch.aspx?id=E5F03216
 -4619-44A1-A21C-5EA724CB9432&match=1376
DTSTART;TZID=Europe/Brussels:20230117T070000
DTEND;TZID=Europe/Brussels:20230117T070000
END:VEVENT
BEGIN:VEVENT
UID:E5F03216-4619-44A1-A21C-5EA724CB9432-31-1398_homereminder@204.badminton
 ners.net
DTSTAMP:20260420T055216Z
SUMMARY:Thuismatch ingevuld? (Klein Boom 8G (108) - Brasschaat 6G (105))
DESCRIPTION:Je hebt 36 uur na aanvang om een thuismatch op Badmintonvlaande
 ren in te vullen. Match info: Klein Boom 8G (108) - Brasschaat 6G (105) - 
 Link: https://www.badmintonvlaanderen.be/sport/teammatch.aspx?id=E5F03216-
 4619-44A1-A21C-5EA724CB9432&match=1398
DTSTART;TZID=Europe/Brussels:20230228T070000
DTEND;TZID=Europe/Brussels:20230228T070000
END:VEVENT
BEGIN:VEVENT
UID:E5F03216-4619-44A1-A21C-5EA724CB9432-31-1412_homereminder@204.badminton
 ners.net
DTSTAMP:20260420T055216Z
SUMMARY:Thuismatch ingevuld? (Klein Boom 8G (108) - Opslag 3G (104))
DESCRIPTION:Je hebt 36 uur na aanvang om een thuismatch op Badmintonvlaande
 ren in te vullen. Match info: Klein Boom 8G (108) - Opslag 3G (104) - Link
 : https://www.badmintonvlaanderen.be/sport/teammatch.aspx?id=E5F03216-4619
 -44A1-A21C-5EA724CB9432&match=1412
DTSTART;TZID=Europe/Brussels:20230328T070000
DTEND;TZID=Europe/Brussels:20230328T070000
END:VEVENT
BEGIN:VEVENT
UID:E5F03216-4619-44A1-A21C-5EA724CB9432-31-1385_awayreminder@204.badminton
 ners.net
DTSTAMP:20260420T055216Z
SUMMARY:Uitmatch bevestigd? (Brasschaat 6G (105) - Klein Boom 8G (108))
DESCRIPTION:Je hebt 72 uur na aanvang om een uitmatch op Badmintonvlaandere
 n in te vullen. Match info: Brasschaat 6G (105) - Klein Boom 8G (108) - Li
 nk: https://www.badmintonvlaanderen.be/sport/teammatch.aspx?id=E5F03216-46
 19-44A1-A21C-5EA724CB9432&match=1385
DTSTART;TZID=Europe/Brussels:20221005T190000
DTEND;TZID=Europe/Brussels:20221005T190000
END:VEVENT
BEGIN:VEVENT
UID:E5F03216-4619-44A1-A21C-5EA724CB9432-31-1383_awayreminder@204.badminton
 ners.net
DTSTAMP:20260420T055216Z
SUMMARY:Uitmatch bevestigd? (Spinshuttle 6G (106) - Klein Boom 8G (108))
DESCRIPTION:Je hebt 72 uur na aanvang om een uitmatch op Badmintonvlaandere
 n in te vullen. Match info: Spinshuttle 6G (106) - Klein Boom 8G (108) - L
 ink: https://www.badmintonvlaanderen.be/sport/teammatch.aspx?id=E5F03216-4
 619-44A1-A21C-5EA724CB9432&match=1383
DTSTART;TZID=Europe/Brussels:20221118T200000
DTEND;TZID=Europe/Brussels:20221118T200000
END:VEVENT
BEGIN:VEVENT
UID:E5F03216-4619-44A1-A21C-5EA724CB9432-31-1387_awayreminder@204.badminton
 ners.net
DTSTAMP:20260420T055216Z
SUMMARY:Uitmatch bevestigd? (Opslag 3G (104) - Klein Boom 8G (108))
DESCRIPTION:Je hebt 72 uur na aanvang om een uitmatch op Badmintonvlaandere
 n in te vullen. Match info: Opslag 3G (104) - Klein Boom 8G (108) - Link: 
 https://www.badmintonvlaanderen.be/sport/teammatch.aspx?id=E5F03216-4619-4
 4A1-A21C-5EA724CB9432&match=1387
DTSTART;TZID=Europe/Brussels:20221221T191500
DTEND;TZID=Europe/Brussels:20221221T191500
END:VEVENT
BEGIN:VEVENT
UID:E5F03216-4619-44A1-A21C-5EA724CB9432-31-1384_awayreminder@204.badminton
 ners.net
DTSTAMP:20260420T055216Z
SUMMARY:Uitmatch bevestigd? (Waverse 2G (103) - Klein Boom 8G (108))
DESCRIPTION:Je hebt 72 uur na aanvang om een uitmatch op Badmintonvlaandere
 n in te vullen. Match info: Waverse 2G (103) - Klein Boom 8G (108) - Link:
  https://www.badmintonvlaanderen.be/sport/teammatch.aspx?id=E5F03216-4619-
 44A1-A21C-5EA724CB9432&match=1384
DTSTART;TZID=Europe/Brussels:20230201T140000
DTEND;TZID=Europe/Brussels:20230201T140000
END:VEVENT
BEGIN:VEVENT
UID:E5F03216-4619-44A1-A21C-5EA724CB9432-31-1388_awayreminder@204.badminton
 ners.net
DTSTAMP:20260420T055216Z
SUMMARY:Uitmatch bevestigd? (Duffel 1G (106) - Klein Boom 8G (108))
DESCRIPTION:Je hebt 72 uur na aanvang om een uitmatch op Badmintonvlaandere
 n in te vullen. Match info: Duffel 1G (106) - Klein Boom 8G (108) - Link: 
 https://www.badmintonvlaanderen.be/sport/teammatch.aspx?id=E5F03216-4619-4
 4A1-A21C-5EA724CB9432&match=1388
DTSTART;TZID=Europe/Brussels:20230215T200000
DTEND;TZID=Europe/Brussels:20230215T200000
END:VEVENT
BEGIN:VEVENT
UID:E5F03216-4619-44A1-A21C-5EA724CB9432-31-1386_awayreminder@204.badminton
 ners.net
DTSTAMP:20260420T055216Z
SUMMARY:Uitmatch bevestigd? (Poona 3G (99) - Klein Boom 8G (108))
DESCRIPTION:Je hebt 72 uur na aanvang om een uitmatch op Badmintonvlaandere
 n in te vullen. Match info: Poona 3G (99) - Klein Boom 8G (108) - Link: ht
 tps://www.badmintonvlaanderen.be/sport/teammatch.aspx?id=E5F03216-4619-44A
 1-A21C-5EA724CB9432&match=1386
DTSTART;TZID=Europe/Brussels:20230309T200000
DTEND;TZID=Europe/Brussels:20230309T200000
END:VEVENT
BEGIN:VEVENT
UID:E5F03216-4619-44A1-A21C-5EA724CB9432-31-1389_awayreminder@204.badminton
 ners.net
DTSTAMP:20260420T055216Z
SUMMARY:Uitmatch bevestigd? (De Nekker 4G (120) - Klein Boom 8G (108))
DESCRIPTION:Je hebt 72 uur na aanvang om een uitmatch op Badmintonvlaandere
 n in te vullen. Match info: De Nekker 4G (120) - Klein Boom 8G (108) - Lin
 k: https://www.badmintonvlaanderen.be/sport/teammatch.aspx?id=E5F03216-461
 9-44A1-A21C-5EA724CB9432&match=1389
DTSTART;TZID=Europe/Brussels:20230421T203000
DTEND;TZID=Europe/Brussels:20230421T203000
END:VEVENT
END:VCALENDAR