BEGIN:VCALENDAR
VERSION:2.0
PRODID:spatie/icalendar-generator
NAME:de_nekker_4g_120_reminders
X-WR-CALNAME:de_nekker_4g_120_reminders
BEGIN:VTIMEZONE
TZID:Europe/Brussels
BEGIN:DAYLIGHT
DTSTART:20220327T010000
TZOFFSETFROM:+0100
TZOFFSETTO:+0200
END:DAYLIGHT
BEGIN:STANDARD
DTSTART:20221030T030000
TZOFFSETFROM:+0200
TZOFFSETTO:+0100
END:STANDARD
BEGIN:DAYLIGHT
DTSTART:20230326T010000
TZOFFSETFROM:+0100
TZOFFSETTO:+0200
END:DAYLIGHT
END:VTIMEZONE
BEGIN:VTIMEZONE
TZID:UTC
BEGIN:STANDARD
DTSTART:20250724T055213
TZOFFSETFROM:+0000
TZOFFSETTO:+0000
END:STANDARD
END:VTIMEZONE
BEGIN:VEVENT
UID:E5F03216-4619-44A1-A21C-5EA724CB9432-31-1417_homereminder@213.badminton
 ners.net
DTSTAMP:20260420T055213Z
SUMMARY:Thuismatch ingevuld? (De Nekker 4G (120) - Opslag 3G (104))
DESCRIPTION:Je hebt 36 uur na aanvang om een thuismatch op Badmintonvlaande
 ren in te vullen. Match info: De Nekker 4G (120) - Opslag 3G (104) - Link:
  https://www.badmintonvlaanderen.be/sport/teammatch.aspx?id=E5F03216-4619-
 44A1-A21C-5EA724CB9432&match=1417
DTSTART;TZID=Europe/Brussels:20221006T083000
DTEND;TZID=Europe/Brussels:20221006T083000
END:VEVENT
BEGIN:VEVENT
UID:E5F03216-4619-44A1-A21C-5EA724CB9432-31-1410_homereminder@213.badminton
 ners.net
DTSTAMP:20260420T055213Z
SUMMARY:Thuismatch ingevuld? (De Nekker 4G (120) - Poona 3G (99))
DESCRIPTION:Je hebt 36 uur na aanvang om een thuismatch op Badmintonvlaande
 ren in te vullen. Match info: De Nekker 4G (120) - Poona 3G (99) - Link: h
 ttps://www.badmintonvlaanderen.be/sport/teammatch.aspx?id=E5F03216-4619-44
 A1-A21C-5EA724CB9432&match=1410
DTSTART;TZID=Europe/Brussels:20221117T083000
DTEND;TZID=Europe/Brussels:20221117T083000
END:VEVENT
BEGIN:VEVENT
UID:E5F03216-4619-44A1-A21C-5EA724CB9432-31-1424_homereminder@213.badminton
 ners.net
DTSTAMP:20260420T055213Z
SUMMARY:Thuismatch ingevuld? (De Nekker 4G (120) - Duffel 1G (106))
DESCRIPTION:Je hebt 36 uur na aanvang om een thuismatch op Badmintonvlaande
 ren in te vullen. Match info: De Nekker 4G (120) - Duffel 1G (106) - Link:
  https://www.badmintonvlaanderen.be/sport/teammatch.aspx?id=E5F03216-4619-
 44A1-A21C-5EA724CB9432&match=1424
DTSTART;TZID=Europe/Brussels:20221201T083000
DTEND;TZID=Europe/Brussels:20221201T083000
END:VEVENT
BEGIN:VEVENT
UID:E5F03216-4619-44A1-A21C-5EA724CB9432-31-1396_homereminder@213.badminton
 ners.net
DTSTAMP:20260420T055213Z
SUMMARY:Thuismatch ingevuld? (De Nekker 4G (120) - Waverse 2G (103))
DESCRIPTION:Je hebt 36 uur na aanvang om een thuismatch op Badmintonvlaande
 ren in te vullen. Match info: De Nekker 4G (120) - Waverse 2G (103) - Link
 : https://www.badmintonvlaanderen.be/sport/teammatch.aspx?id=E5F03216-4619
 -44A1-A21C-5EA724CB9432&match=1396
DTSTART;TZID=Europe/Brussels:20230223T083000
DTEND;TZID=Europe/Brussels:20230223T083000
END:VEVENT
BEGIN:VEVENT
UID:E5F03216-4619-44A1-A21C-5EA724CB9432-31-1382_homereminder@213.badminton
 ners.net
DTSTAMP:20260420T055213Z
SUMMARY:Thuismatch ingevuld? (De Nekker 4G (120) - Spinshuttle 6G (106))
DESCRIPTION:Je hebt 36 uur na aanvang om een thuismatch op Badmintonvlaande
 ren in te vullen. Match info: De Nekker 4G (120) - Spinshuttle 6G (106) - 
 Link: https://www.badmintonvlaanderen.be/sport/teammatch.aspx?id=E5F03216-
 4619-44A1-A21C-5EA724CB9432&match=1382
DTSTART;TZID=Europe/Brussels:20230302T083000
DTEND;TZID=Europe/Brussels:20230302T083000
END:VEVENT
BEGIN:VEVENT
UID:E5F03216-4619-44A1-A21C-5EA724CB9432-31-1403_homereminder@213.badminton
 ners.net
DTSTAMP:20260420T055213Z
SUMMARY:Thuismatch ingevuld? (De Nekker 4G (120) - Brasschaat 6G (105))
DESCRIPTION:Je hebt 36 uur na aanvang om een thuismatch op Badmintonvlaande
 ren in te vullen. Match info: De Nekker 4G (120) - Brasschaat 6G (105) - L
 ink: https://www.badmintonvlaanderen.be/sport/teammatch.aspx?id=E5F03216-4
 619-44A1-A21C-5EA724CB9432&match=1403
DTSTART;TZID=Europe/Brussels:20230323T083000
DTEND;TZID=Europe/Brussels:20230323T083000
END:VEVENT
BEGIN:VEVENT
UID:E5F03216-4619-44A1-A21C-5EA724CB9432-31-1389_homereminder@213.badminton
 ners.net
DTSTAMP:20260420T055213Z
SUMMARY:Thuismatch ingevuld? (De Nekker 4G (120) - Klein Boom 8G (108))
DESCRIPTION:Je hebt 36 uur na aanvang om een thuismatch op Badmintonvlaande
 ren in te vullen. Match info: De Nekker 4G (120) - Klein Boom 8G (108) - L
 ink: https://www.badmintonvlaanderen.be/sport/teammatch.aspx?id=E5F03216-4
 619-44A1-A21C-5EA724CB9432&match=1389
DTSTART;TZID=Europe/Brussels:20230420T083000
DTEND;TZID=Europe/Brussels:20230420T083000
END:VEVENT
BEGIN:VEVENT
UID:E5F03216-4619-44A1-A21C-5EA724CB9432-31-1425_awayreminder@213.badminton
 ners.net
DTSTAMP:20260420T055213Z
SUMMARY:Uitmatch bevestigd? (Spinshuttle 6G (106) - De Nekker 4G (120))
DESCRIPTION:Je hebt 72 uur na aanvang om een uitmatch op Badmintonvlaandere
 n in te vullen. Match info: Spinshuttle 6G (106) - De Nekker 4G (120) - Li
 nk: https://www.badmintonvlaanderen.be/sport/teammatch.aspx?id=E5F03216-46
 19-44A1-A21C-5EA724CB9432&match=1425
DTSTART;TZID=Europe/Brussels:20220909T200000
DTEND;TZID=Europe/Brussels:20220909T200000
END:VEVENT
BEGIN:VEVENT
UID:E5F03216-4619-44A1-A21C-5EA724CB9432-31-1427_awayreminder@213.badminton
 ners.net
DTSTAMP:20260420T055213Z
SUMMARY:Uitmatch bevestigd? (Waverse 2G (103) - De Nekker 4G (120))
DESCRIPTION:Je hebt 72 uur na aanvang om een uitmatch op Badmintonvlaandere
 n in te vullen. Match info: Waverse 2G (103) - De Nekker 4G (120) - Link: 
 https://www.badmintonvlaanderen.be/sport/teammatch.aspx?id=E5F03216-4619-4
 4A1-A21C-5EA724CB9432&match=1427
DTSTART;TZID=Europe/Brussels:20220928T140000
DTEND;TZID=Europe/Brussels:20220928T140000
END:VEVENT
BEGIN:VEVENT
UID:E5F03216-4619-44A1-A21C-5EA724CB9432-31-1426_awayreminder@213.badminton
 ners.net
DTSTAMP:20260420T055213Z
SUMMARY:Uitmatch bevestigd? (Klein Boom 8G (108) - De Nekker 4G (120))
DESCRIPTION:Je hebt 72 uur na aanvang om een uitmatch op Badmintonvlaandere
 n in te vullen. Match info: Klein Boom 8G (108) - De Nekker 4G (120) - Lin
 k: https://www.badmintonvlaanderen.be/sport/teammatch.aspx?id=E5F03216-461
 9-44A1-A21C-5EA724CB9432&match=1426
DTSTART;TZID=Europe/Brussels:20221026T190000
DTEND;TZID=Europe/Brussels:20221026T190000
END:VEVENT
BEGIN:VEVENT
UID:E5F03216-4619-44A1-A21C-5EA724CB9432-31-1428_awayreminder@213.badminton
 ners.net
DTSTAMP:20260420T055213Z
SUMMARY:Uitmatch bevestigd? (Brasschaat 6G (105) - De Nekker 4G (120))
DESCRIPTION:Je hebt 72 uur na aanvang om een uitmatch op Badmintonvlaandere
 n in te vullen. Match info: Brasschaat 6G (105) - De Nekker 4G (120) - Lin
 k: https://www.badmintonvlaanderen.be/sport/teammatch.aspx?id=E5F03216-461
 9-44A1-A21C-5EA724CB9432&match=1428
DTSTART;TZID=Europe/Brussels:20221221T190000
DTEND;TZID=Europe/Brussels:20221221T190000
END:VEVENT
BEGIN:VEVENT
UID:E5F03216-4619-44A1-A21C-5EA724CB9432-31-1429_awayreminder@213.badminton
 ners.net
DTSTAMP:20260420T055213Z
SUMMARY:Uitmatch bevestigd? (Poona 3G (99) - De Nekker 4G (120))
DESCRIPTION:Je hebt 72 uur na aanvang om een uitmatch op Badmintonvlaandere
 n in te vullen. Match info: Poona 3G (99) - De Nekker 4G (120) - Link: htt
 ps://www.badmintonvlaanderen.be/sport/teammatch.aspx?id=E5F03216-4619-44A1
 -A21C-5EA724CB9432&match=1429
DTSTART;TZID=Europe/Brussels:20230112T200000
DTEND;TZID=Europe/Brussels:20230112T200000
END:VEVENT
BEGIN:VEVENT
UID:E5F03216-4619-44A1-A21C-5EA724CB9432-31-1430_awayreminder@213.badminton
 ners.net
DTSTAMP:20260420T055213Z
SUMMARY:Uitmatch bevestigd? (Opslag 3G (104) - De Nekker 4G (120))
DESCRIPTION:Je hebt 72 uur na aanvang om een uitmatch op Badmintonvlaandere
 n in te vullen. Match info: Opslag 3G (104) - De Nekker 4G (120) - Link: h
 ttps://www.badmintonvlaanderen.be/sport/teammatch.aspx?id=E5F03216-4619-44
 A1-A21C-5EA724CB9432&match=1430
DTSTART;TZID=Europe/Brussels:20230201T191500
DTEND;TZID=Europe/Brussels:20230201T191500
END:VEVENT
BEGIN:VEVENT
UID:E5F03216-4619-44A1-A21C-5EA724CB9432-31-1431_awayreminder@213.badminton
 ners.net
DTSTAMP:20260420T055213Z
SUMMARY:Uitmatch bevestigd? (Duffel 1G (106) - De Nekker 4G (120))
DESCRIPTION:Je hebt 72 uur na aanvang om een uitmatch op Badmintonvlaandere
 n in te vullen. Match info: Duffel 1G (106) - De Nekker 4G (120) - Link: h
 ttps://www.badmintonvlaanderen.be/sport/teammatch.aspx?id=E5F03216-4619-44
 A1-A21C-5EA724CB9432&match=1431
DTSTART;TZID=Europe/Brussels:20230315T200000
DTEND;TZID=Europe/Brussels:20230315T200000
END:VEVENT
END:VCALENDAR