BEGIN:VCALENDAR
VERSION:2.0
PRODID:spatie/icalendar-generator
NAME:bacss_3g_103_reminders
X-WR-CALNAME:bacss_3g_103_reminders
BEGIN:VTIMEZONE
TZID:Europe/Brussels
BEGIN:DAYLIGHT
DTSTART:20220327T010000
TZOFFSETFROM:+0100
TZOFFSETTO:+0200
END:DAYLIGHT
BEGIN:STANDARD
DTSTART:20221030T030000
TZOFFSETFROM:+0200
TZOFFSETTO:+0100
END:STANDARD
BEGIN:DAYLIGHT
DTSTART:20230326T010000
TZOFFSETFROM:+0100
TZOFFSETTO:+0200
END:DAYLIGHT
END:VTIMEZONE
BEGIN:VTIMEZONE
TZID:UTC
BEGIN:STANDARD
DTSTART:20250724T072435
TZOFFSETFROM:+0000
TZOFFSETTO:+0000
END:STANDARD
END:VTIMEZONE
BEGIN:VEVENT
UID:E5F03216-4619-44A1-A21C-5EA724CB9432-32-1481_homereminder@180.badminton
 ners.net
DTSTAMP:20260420T072435Z
SUMMARY:Thuismatch ingevuld? (Bacss 3G (103) - Olve 4G (109))
DESCRIPTION:Je hebt 36 uur na aanvang om een thuismatch op Badmintonvlaande
 ren in te vullen. Match info: Bacss 3G (103) - Olve 4G (109) - Link: https
 ://www.badmintonvlaanderen.be/sport/teammatch.aspx?id=E5F03216-4619-44A1-A
 21C-5EA724CB9432&match=1481
DTSTART;TZID=Europe/Brussels:20221023T081500
DTEND;TZID=Europe/Brussels:20221023T081500
END:VEVENT
BEGIN:VEVENT
UID:E5F03216-4619-44A1-A21C-5EA724CB9432-32-1488_homereminder@180.badminton
 ners.net
DTSTAMP:20260420T072435Z
SUMMARY:Thuismatch ingevuld? (Bacss 3G (103) - Klein Boom 7G (105))
DESCRIPTION:Je hebt 36 uur na aanvang om een thuismatch op Badmintonvlaande
 ren in te vullen. Match info: Bacss 3G (103) - Klein Boom 7G (105) - Link:
  https://www.badmintonvlaanderen.be/sport/teammatch.aspx?id=E5F03216-4619-
 44A1-A21C-5EA724CB9432&match=1488
DTSTART;TZID=Europe/Brussels:20221106T081500
DTEND;TZID=Europe/Brussels:20221106T081500
END:VEVENT
BEGIN:VEVENT
UID:E5F03216-4619-44A1-A21C-5EA724CB9432-32-1474_homereminder@180.badminton
 ners.net
DTSTAMP:20260420T072435Z
SUMMARY:Thuismatch ingevuld? (Bacss 3G (103) - Spinshuttle 5G (105))
DESCRIPTION:Je hebt 36 uur na aanvang om een thuismatch op Badmintonvlaande
 ren in te vullen. Match info: Bacss 3G (103) - Spinshuttle 5G (105) - Link
 : https://www.badmintonvlaanderen.be/sport/teammatch.aspx?id=E5F03216-4619
 -44A1-A21C-5EA724CB9432&match=1474
DTSTART;TZID=Europe/Brussels:20221204T081500
DTEND;TZID=Europe/Brussels:20221204T081500
END:VEVENT
BEGIN:VEVENT
UID:E5F03216-4619-44A1-A21C-5EA724CB9432-32-1453_homereminder@180.badminton
 ners.net
DTSTAMP:20260420T072435Z
SUMMARY:Thuismatch ingevuld? (Bacss 3G (103) - Waverse 3G (109))
DESCRIPTION:Je hebt 36 uur na aanvang om een thuismatch op Badmintonvlaande
 ren in te vullen. Match info: Bacss 3G (103) - Waverse 3G (109) - Link: ht
 tps://www.badmintonvlaanderen.be/sport/teammatch.aspx?id=E5F03216-4619-44A
 1-A21C-5EA724CB9432&match=1453
DTSTART;TZID=Europe/Brussels:20230129T081500
DTEND;TZID=Europe/Brussels:20230129T081500
END:VEVENT
BEGIN:VEVENT
UID:E5F03216-4619-44A1-A21C-5EA724CB9432-32-1446_homereminder@180.badminton
 ners.net
DTSTAMP:20260420T072435Z
SUMMARY:Thuismatch ingevuld? (Bacss 3G (103) - Berlaar 3G (118))
DESCRIPTION:Je hebt 36 uur na aanvang om een thuismatch op Badmintonvlaande
 ren in te vullen. Match info: Bacss 3G (103) - Berlaar 3G (118) - Link: ht
 tps://www.badmintonvlaanderen.be/sport/teammatch.aspx?id=E5F03216-4619-44A
 1-A21C-5EA724CB9432&match=1446
DTSTART;TZID=Europe/Brussels:20230212T081500
DTEND;TZID=Europe/Brussels:20230212T081500
END:VEVENT
BEGIN:VEVENT
UID:E5F03216-4619-44A1-A21C-5EA724CB9432-32-1460_homereminder@180.badminton
 ners.net
DTSTAMP:20260420T072435Z
SUMMARY:Thuismatch ingevuld? (Bacss 3G (103) - Plumula 3G (104))
DESCRIPTION:Je hebt 36 uur na aanvang om een thuismatch op Badmintonvlaande
 ren in te vullen. Match info: Bacss 3G (103) - Plumula 3G (104) - Link: ht
 tps://www.badmintonvlaanderen.be/sport/teammatch.aspx?id=E5F03216-4619-44A
 1-A21C-5EA724CB9432&match=1460
DTSTART;TZID=Europe/Brussels:20230226T081500
DTEND;TZID=Europe/Brussels:20230226T081500
END:VEVENT
BEGIN:VEVENT
UID:E5F03216-4619-44A1-A21C-5EA724CB9432-32-1467_homereminder@180.badminton
 ners.net
DTSTAMP:20260420T072435Z
SUMMARY:Thuismatch ingevuld? (Bacss 3G (103) - Rita Serveert 2G (102))
DESCRIPTION:Je hebt 36 uur na aanvang om een thuismatch op Badmintonvlaande
 ren in te vullen. Match info: Bacss 3G (103) - Rita Serveert 2G (102) - Li
 nk: https://www.badmintonvlaanderen.be/sport/teammatch.aspx?id=E5F03216-46
 19-44A1-A21C-5EA724CB9432&match=1467
DTSTART;TZID=Europe/Brussels:20230326T091500
DTEND;TZID=Europe/Brussels:20230326T091500
END:VEVENT
BEGIN:VEVENT
UID:E5F03216-4619-44A1-A21C-5EA724CB9432-32-1489_awayreminder@180.badminton
 ners.net
DTSTAMP:20260420T072435Z
SUMMARY:Uitmatch bevestigd? (Berlaar 3G (118) - Bacss 3G (103))
DESCRIPTION:Je hebt 72 uur na aanvang om een uitmatch op Badmintonvlaandere
 n in te vullen. Match info: Berlaar 3G (118) - Bacss 3G (103) - Link: http
 s://www.badmintonvlaanderen.be/sport/teammatch.aspx?id=E5F03216-4619-44A1-
 A21C-5EA724CB9432&match=1489
DTSTART;TZID=Europe/Brussels:20220914T093000
DTEND;TZID=Europe/Brussels:20220914T093000
END:VEVENT
BEGIN:VEVENT
UID:E5F03216-4619-44A1-A21C-5EA724CB9432-32-1490_awayreminder@180.badminton
 ners.net
DTSTAMP:20260420T072435Z
SUMMARY:Uitmatch bevestigd? (Waverse 3G (109) - Bacss 3G (103))
DESCRIPTION:Je hebt 72 uur na aanvang om een uitmatch op Badmintonvlaandere
 n in te vullen. Match info: Waverse 3G (109) - Bacss 3G (103) - Link: http
 s://www.badmintonvlaanderen.be/sport/teammatch.aspx?id=E5F03216-4619-44A1-
 A21C-5EA724CB9432&match=1490
DTSTART;TZID=Europe/Brussels:20221012T140000
DTEND;TZID=Europe/Brussels:20221012T140000
END:VEVENT
BEGIN:VEVENT
UID:E5F03216-4619-44A1-A21C-5EA724CB9432-32-1491_awayreminder@180.badminton
 ners.net
DTSTAMP:20260420T072435Z
SUMMARY:Uitmatch bevestigd? (Plumula 3G (104) - Bacss 3G (103))
DESCRIPTION:Je hebt 72 uur na aanvang om een uitmatch op Badmintonvlaandere
 n in te vullen. Match info: Plumula 3G (104) - Bacss 3G (103) - Link: http
 s://www.badmintonvlaanderen.be/sport/teammatch.aspx?id=E5F03216-4619-44A1-
 A21C-5EA724CB9432&match=1491
DTSTART;TZID=Europe/Brussels:20221123T173000
DTEND;TZID=Europe/Brussels:20221123T173000
END:VEVENT
BEGIN:VEVENT
UID:E5F03216-4619-44A1-A21C-5EA724CB9432-32-1492_awayreminder@180.badminton
 ners.net
DTSTAMP:20260420T072435Z
SUMMARY:Uitmatch bevestigd? (Rita Serveert 2G (102) - Bacss 3G (103))
DESCRIPTION:Je hebt 72 uur na aanvang om een uitmatch op Badmintonvlaandere
 n in te vullen. Match info: Rita Serveert 2G (102) - Bacss 3G (103) - Link
 : https://www.badmintonvlaanderen.be/sport/teammatch.aspx?id=E5F03216-4619
 -44A1-A21C-5EA724CB9432&match=1492
DTSTART;TZID=Europe/Brussels:20221221T190000
DTEND;TZID=Europe/Brussels:20221221T190000
END:VEVENT
BEGIN:VEVENT
UID:E5F03216-4619-44A1-A21C-5EA724CB9432-32-1493_awayreminder@180.badminton
 ners.net
DTSTAMP:20260420T072435Z
SUMMARY:Uitmatch bevestigd? (Spinshuttle 5G (105) - Bacss 3G (103))
DESCRIPTION:Je hebt 72 uur na aanvang om een uitmatch op Badmintonvlaandere
 n in te vullen. Match info: Spinshuttle 5G (105) - Bacss 3G (103) - Link: 
 https://www.badmintonvlaanderen.be/sport/teammatch.aspx?id=E5F03216-4619-4
 4A1-A21C-5EA724CB9432&match=1493
DTSTART;TZID=Europe/Brussels:20230113T200000
DTEND;TZID=Europe/Brussels:20230113T200000
END:VEVENT
BEGIN:VEVENT
UID:E5F03216-4619-44A1-A21C-5EA724CB9432-32-1495_awayreminder@180.badminton
 ners.net
DTSTAMP:20260420T072435Z
SUMMARY:Uitmatch bevestigd? (Klein Boom 7G (105) - Bacss 3G (103))
DESCRIPTION:Je hebt 72 uur na aanvang om een uitmatch op Badmintonvlaandere
 n in te vullen. Match info: Klein Boom 7G (105) - Bacss 3G (103) - Link: h
 ttps://www.badmintonvlaanderen.be/sport/teammatch.aspx?id=E5F03216-4619-44
 A1-A21C-5EA724CB9432&match=1495
DTSTART;TZID=Europe/Brussels:20230309T200000
DTEND;TZID=Europe/Brussels:20230309T200000
END:VEVENT
BEGIN:VEVENT
UID:E5F03216-4619-44A1-A21C-5EA724CB9432-32-1494_awayreminder@180.badminton
 ners.net
DTSTAMP:20260420T072435Z
SUMMARY:Uitmatch bevestigd? (Olve 4G (109) - Bacss 3G (103))
DESCRIPTION:Je hebt 72 uur na aanvang om een uitmatch op Badmintonvlaandere
 n in te vullen. Match info: Olve 4G (109) - Bacss 3G (103) - Link: https:/
 /www.badmintonvlaanderen.be/sport/teammatch.aspx?id=E5F03216-4619-44A1-A21
 C-5EA724CB9432&match=1494
DTSTART;TZID=Europe/Brussels:20230425T103000
DTEND;TZID=Europe/Brussels:20230425T103000
END:VEVENT
END:VCALENDAR