BEGIN:VCALENDAR
VERSION:2.0
PRODID:spatie/icalendar-generator
NAME:waverse_3g_109_reminders
X-WR-CALNAME:waverse_3g_109_reminders
BEGIN:VTIMEZONE
TZID:Europe/Brussels
BEGIN:DAYLIGHT
DTSTART:20220327T010000
TZOFFSETFROM:+0100
TZOFFSETTO:+0200
END:DAYLIGHT
BEGIN:STANDARD
DTSTART:20221030T030000
TZOFFSETFROM:+0200
TZOFFSETTO:+0100
END:STANDARD
BEGIN:DAYLIGHT
DTSTART:20230326T010000
TZOFFSETFROM:+0100
TZOFFSETTO:+0200
END:DAYLIGHT
END:VTIMEZONE
BEGIN:VTIMEZONE
TZID:UTC
BEGIN:STANDARD
DTSTART:20250724T072407
TZOFFSETFROM:+0000
TZOFFSETTO:+0000
END:STANDARD
END:VTIMEZONE
BEGIN:VEVENT
UID:E5F03216-4619-44A1-A21C-5EA724CB9432-32-1483_homereminder@185.badminton
 ners.net
DTSTAMP:20260420T072407Z
SUMMARY:Thuismatch ingevuld? (Waverse 3G (109) - Klein Boom 7G (105))
DESCRIPTION:Je hebt 36 uur na aanvang om een thuismatch op Badmintonvlaande
 ren in te vullen. Match info: Waverse 3G (109) - Klein Boom 7G (105) - Lin
 k: https://www.badmintonvlaanderen.be/sport/teammatch.aspx?id=E5F03216-461
 9-44A1-A21C-5EA724CB9432&match=1483
DTSTART;TZID=Europe/Brussels:20220913T020000
DTEND;TZID=Europe/Brussels:20220913T020000
END:VEVENT
BEGIN:VEVENT
UID:E5F03216-4619-44A1-A21C-5EA724CB9432-32-1490_homereminder@185.badminton
 ners.net
DTSTAMP:20260420T072407Z
SUMMARY:Thuismatch ingevuld? (Waverse 3G (109) - Bacss 3G (103))
DESCRIPTION:Je hebt 36 uur na aanvang om een thuismatch op Badmintonvlaande
 ren in te vullen. Match info: Waverse 3G (109) - Bacss 3G (103) - Link: ht
 tps://www.badmintonvlaanderen.be/sport/teammatch.aspx?id=E5F03216-4619-44A
 1-A21C-5EA724CB9432&match=1490
DTSTART;TZID=Europe/Brussels:20221011T020000
DTEND;TZID=Europe/Brussels:20221011T020000
END:VEVENT
BEGIN:VEVENT
UID:E5F03216-4619-44A1-A21C-5EA724CB9432-32-1455_homereminder@185.badminton
 ners.net
DTSTAMP:20260420T072407Z
SUMMARY:Thuismatch ingevuld? (Waverse 3G (109) - Plumula 3G (104))
DESCRIPTION:Je hebt 36 uur na aanvang om een thuismatch op Badmintonvlaande
 ren in te vullen. Match info: Waverse 3G (109) - Plumula 3G (104) - Link: 
 https://www.badmintonvlaanderen.be/sport/teammatch.aspx?id=E5F03216-4619-4
 4A1-A21C-5EA724CB9432&match=1455
DTSTART;TZID=Europe/Brussels:20221025T020000
DTEND;TZID=Europe/Brussels:20221025T020000
END:VEVENT
BEGIN:VEVENT
UID:E5F03216-4619-44A1-A21C-5EA724CB9432-32-1469_homereminder@185.badminton
 ners.net
DTSTAMP:20260420T072407Z
SUMMARY:Thuismatch ingevuld? (Waverse 3G (109) - Spinshuttle 5G (105))
DESCRIPTION:Je hebt 36 uur na aanvang om een thuismatch op Badmintonvlaande
 ren in te vullen. Match info: Waverse 3G (109) - Spinshuttle 5G (105) - Li
 nk: https://www.badmintonvlaanderen.be/sport/teammatch.aspx?id=E5F03216-46
 19-44A1-A21C-5EA724CB9432&match=1469
DTSTART;TZID=Europe/Brussels:20221206T020000
DTEND;TZID=Europe/Brussels:20221206T020000
END:VEVENT
BEGIN:VEVENT
UID:E5F03216-4619-44A1-A21C-5EA724CB9432-32-1440_homereminder@185.badminton
 ners.net
DTSTAMP:20260420T072407Z
SUMMARY:Thuismatch ingevuld? (Waverse 3G (109) - Berlaar 3G (118))
DESCRIPTION:Je hebt 36 uur na aanvang om een thuismatch op Badmintonvlaande
 ren in te vullen. Match info: Waverse 3G (109) - Berlaar 3G (118) - Link: 
 https://www.badmintonvlaanderen.be/sport/teammatch.aspx?id=E5F03216-4619-4
 4A1-A21C-5EA724CB9432&match=1440
DTSTART;TZID=Europe/Brussels:20230117T020000
DTEND;TZID=Europe/Brussels:20230117T020000
END:VEVENT
BEGIN:VEVENT
UID:E5F03216-4619-44A1-A21C-5EA724CB9432-32-1462_homereminder@185.badminton
 ners.net
DTSTAMP:20260420T072407Z
SUMMARY:Thuismatch ingevuld? (Waverse 3G (109) - Rita Serveert 2G (102))
DESCRIPTION:Je hebt 36 uur na aanvang om een thuismatch op Badmintonvlaande
 ren in te vullen. Match info: Waverse 3G (109) - Rita Serveert 2G (102) - 
 Link: https://www.badmintonvlaanderen.be/sport/teammatch.aspx?id=E5F03216-
 4619-44A1-A21C-5EA724CB9432&match=1462
DTSTART;TZID=Europe/Brussels:20230131T020000
DTEND;TZID=Europe/Brussels:20230131T020000
END:VEVENT
BEGIN:VEVENT
UID:E5F03216-4619-44A1-A21C-5EA724CB9432-32-1476_homereminder@185.badminton
 ners.net
DTSTAMP:20260420T072407Z
SUMMARY:Thuismatch ingevuld? (Waverse 3G (109) - Olve 4G (109))
DESCRIPTION:Je hebt 36 uur na aanvang om een thuismatch op Badmintonvlaande
 ren in te vullen. Match info: Waverse 3G (109) - Olve 4G (109) - Link: htt
 ps://www.badmintonvlaanderen.be/sport/teammatch.aspx?id=E5F03216-4619-44A1
 -A21C-5EA724CB9432&match=1476
DTSTART;TZID=Europe/Brussels:20230328T020000
DTEND;TZID=Europe/Brussels:20230328T020000
END:VEVENT
BEGIN:VEVENT
UID:E5F03216-4619-44A1-A21C-5EA724CB9432-32-1449_awayreminder@185.badminton
 ners.net
DTSTAMP:20260420T072407Z
SUMMARY:Uitmatch bevestigd? (Rita Serveert 2G (102) - Waverse 3G (109))
DESCRIPTION:Je hebt 72 uur na aanvang om een uitmatch op Badmintonvlaandere
 n in te vullen. Match info: Rita Serveert 2G (102) - Waverse 3G (109) - Li
 nk: https://www.badmintonvlaanderen.be/sport/teammatch.aspx?id=E5F03216-46
 19-44A1-A21C-5EA724CB9432&match=1449
DTSTART;TZID=Europe/Brussels:20221012T190000
DTEND;TZID=Europe/Brussels:20221012T190000
END:VEVENT
BEGIN:VEVENT
UID:E5F03216-4619-44A1-A21C-5EA724CB9432-32-1451_awayreminder@185.badminton
 ners.net
DTSTAMP:20260420T072407Z
SUMMARY:Uitmatch bevestigd? (Olve 4G (109) - Waverse 3G (109))
DESCRIPTION:Je hebt 72 uur na aanvang om een uitmatch op Badmintonvlaandere
 n in te vullen. Match info: Olve 4G (109) - Waverse 3G (109) - Link: https
 ://www.badmintonvlaanderen.be/sport/teammatch.aspx?id=E5F03216-4619-44A1-A
 21C-5EA724CB9432&match=1451
DTSTART;TZID=Europe/Brussels:20221220T103000
DTEND;TZID=Europe/Brussels:20221220T103000
END:VEVENT
BEGIN:VEVENT
UID:E5F03216-4619-44A1-A21C-5EA724CB9432-32-1447_awayreminder@185.badminton
 ners.net
DTSTAMP:20260420T072407Z
SUMMARY:Uitmatch bevestigd? (Berlaar 3G (118) - Waverse 3G (109))
DESCRIPTION:Je hebt 72 uur na aanvang om een uitmatch op Badmintonvlaandere
 n in te vullen. Match info: Berlaar 3G (118) - Waverse 3G (109) - Link: ht
 tps://www.badmintonvlaanderen.be/sport/teammatch.aspx?id=E5F03216-4619-44A
 1-A21C-5EA724CB9432&match=1447
DTSTART;TZID=Europe/Brussels:20221221T100000
DTEND;TZID=Europe/Brussels:20221221T100000
END:VEVENT
BEGIN:VEVENT
UID:E5F03216-4619-44A1-A21C-5EA724CB9432-32-1453_awayreminder@185.badminton
 ners.net
DTSTAMP:20260420T072407Z
SUMMARY:Uitmatch bevestigd? (Bacss 3G (103) - Waverse 3G (109))
DESCRIPTION:Je hebt 72 uur na aanvang om een uitmatch op Badmintonvlaandere
 n in te vullen. Match info: Bacss 3G (103) - Waverse 3G (109) - Link: http
 s://www.badmintonvlaanderen.be/sport/teammatch.aspx?id=E5F03216-4619-44A1-
 A21C-5EA724CB9432&match=1453
DTSTART;TZID=Europe/Brussels:20230130T201500
DTEND;TZID=Europe/Brussels:20230130T201500
END:VEVENT
BEGIN:VEVENT
UID:E5F03216-4619-44A1-A21C-5EA724CB9432-32-1452_awayreminder@185.badminton
 ners.net
DTSTAMP:20260420T072407Z
SUMMARY:Uitmatch bevestigd? (Klein Boom 7G (105) - Waverse 3G (109))
DESCRIPTION:Je hebt 72 uur na aanvang om een uitmatch op Badmintonvlaandere
 n in te vullen. Match info: Klein Boom 7G (105) - Waverse 3G (109) - Link:
  https://www.badmintonvlaanderen.be/sport/teammatch.aspx?id=E5F03216-4619-
 44A1-A21C-5EA724CB9432&match=1452
DTSTART;TZID=Europe/Brussels:20230209T200000
DTEND;TZID=Europe/Brussels:20230209T200000
END:VEVENT
BEGIN:VEVENT
UID:E5F03216-4619-44A1-A21C-5EA724CB9432-32-1450_awayreminder@185.badminton
 ners.net
DTSTAMP:20260420T072407Z
SUMMARY:Uitmatch bevestigd? (Spinshuttle 5G (105) - Waverse 3G (109))
DESCRIPTION:Je hebt 72 uur na aanvang om een uitmatch op Badmintonvlaandere
 n in te vullen. Match info: Spinshuttle 5G (105) - Waverse 3G (109) - Link
 : https://www.badmintonvlaanderen.be/sport/teammatch.aspx?id=E5F03216-4619
 -44A1-A21C-5EA724CB9432&match=1450
DTSTART;TZID=Europe/Brussels:20230310T200000
DTEND;TZID=Europe/Brussels:20230310T200000
END:VEVENT
BEGIN:VEVENT
UID:E5F03216-4619-44A1-A21C-5EA724CB9432-32-1448_awayreminder@185.badminton
 ners.net
DTSTAMP:20260420T072407Z
SUMMARY:Uitmatch bevestigd? (Plumula 3G (104) - Waverse 3G (109))
DESCRIPTION:Je hebt 72 uur na aanvang om een uitmatch op Badmintonvlaandere
 n in te vullen. Match info: Plumula 3G (104) - Waverse 3G (109) - Link: ht
 tps://www.badmintonvlaanderen.be/sport/teammatch.aspx?id=E5F03216-4619-44A
 1-A21C-5EA724CB9432&match=1448
DTSTART;TZID=Europe/Brussels:20230405T173000
DTEND;TZID=Europe/Brussels:20230405T173000
END:VEVENT
END:VCALENDAR