BEGIN:VCALENDAR
VERSION:2.0
PRODID:spatie/icalendar-generator
NAME:berlaar_3g_118_reminders
X-WR-CALNAME:berlaar_3g_118_reminders
BEGIN:VTIMEZONE
TZID:Europe/Brussels
BEGIN:DAYLIGHT
DTSTART:20220327T010000
TZOFFSETFROM:+0100
TZOFFSETTO:+0200
END:DAYLIGHT
BEGIN:STANDARD
DTSTART:20221030T030000
TZOFFSETFROM:+0200
TZOFFSETTO:+0100
END:STANDARD
BEGIN:DAYLIGHT
DTSTART:20230326T010000
TZOFFSETFROM:+0100
TZOFFSETTO:+0200
END:DAYLIGHT
END:VTIMEZONE
BEGIN:VTIMEZONE
TZID:UTC
BEGIN:STANDARD
DTSTART:20250724T055217
TZOFFSETFROM:+0000
TZOFFSETTO:+0000
END:STANDARD
END:VTIMEZONE
BEGIN:VEVENT
UID:E5F03216-4619-44A1-A21C-5EA724CB9432-32-1489_homereminder@188.badminton
 ners.net
DTSTAMP:20260420T055217Z
SUMMARY:Thuismatch ingevuld? (Berlaar 3G (118) - Bacss 3G (103))
DESCRIPTION:Je hebt 36 uur na aanvang om een thuismatch op Badmintonvlaande
 ren in te vullen. Match info: Berlaar 3G (118) - Bacss 3G (103) - Link: ht
 tps://www.badmintonvlaanderen.be/sport/teammatch.aspx?id=E5F03216-4619-44A
 1-A21C-5EA724CB9432&match=1489
DTSTART;TZID=Europe/Brussels:20220912T213000
DTEND;TZID=Europe/Brussels:20220912T213000
END:VEVENT
BEGIN:VEVENT
UID:E5F03216-4619-44A1-A21C-5EA724CB9432-32-1461_homereminder@188.badminton
 ners.net
DTSTAMP:20260420T055217Z
SUMMARY:Thuismatch ingevuld? (Berlaar 3G (118) - Rita Serveert 2G (102))
DESCRIPTION:Je hebt 36 uur na aanvang om een thuismatch op Badmintonvlaande
 ren in te vullen. Match info: Berlaar 3G (118) - Rita Serveert 2G (102) - 
 Link: https://www.badmintonvlaanderen.be/sport/teammatch.aspx?id=E5F03216-
 4619-44A1-A21C-5EA724CB9432&match=1461
DTSTART;TZID=Europe/Brussels:20221024T213000
DTEND;TZID=Europe/Brussels:20221024T213000
END:VEVENT
BEGIN:VEVENT
UID:E5F03216-4619-44A1-A21C-5EA724CB9432-32-1475_homereminder@188.badminton
 ners.net
DTSTAMP:20260420T055217Z
SUMMARY:Thuismatch ingevuld? (Berlaar 3G (118) - Olve 4G (109))
DESCRIPTION:Je hebt 36 uur na aanvang om een thuismatch op Badmintonvlaande
 ren in te vullen. Match info: Berlaar 3G (118) - Olve 4G (109) - Link: htt
 ps://www.badmintonvlaanderen.be/sport/teammatch.aspx?id=E5F03216-4619-44A1
 -A21C-5EA724CB9432&match=1475
DTSTART;TZID=Europe/Brussels:20221205T213000
DTEND;TZID=Europe/Brussels:20221205T213000
END:VEVENT
BEGIN:VEVENT
UID:E5F03216-4619-44A1-A21C-5EA724CB9432-32-1447_homereminder@188.badminton
 ners.net
DTSTAMP:20260420T055217Z
SUMMARY:Thuismatch ingevuld? (Berlaar 3G (118) - Waverse 3G (109))
DESCRIPTION:Je hebt 36 uur na aanvang om een thuismatch op Badmintonvlaande
 ren in te vullen. Match info: Berlaar 3G (118) - Waverse 3G (109) - Link: 
 https://www.badmintonvlaanderen.be/sport/teammatch.aspx?id=E5F03216-4619-4
 4A1-A21C-5EA724CB9432&match=1447
DTSTART;TZID=Europe/Brussels:20221219T220000
DTEND;TZID=Europe/Brussels:20221219T220000
END:VEVENT
BEGIN:VEVENT
UID:E5F03216-4619-44A1-A21C-5EA724CB9432-32-1454_homereminder@188.badminton
 ners.net
DTSTAMP:20260420T055217Z
SUMMARY:Thuismatch ingevuld? (Berlaar 3G (118) - Plumula 3G (104))
DESCRIPTION:Je hebt 36 uur na aanvang om een thuismatch op Badmintonvlaande
 ren in te vullen. Match info: Berlaar 3G (118) - Plumula 3G (104) - Link: 
 https://www.badmintonvlaanderen.be/sport/teammatch.aspx?id=E5F03216-4619-4
 4A1-A21C-5EA724CB9432&match=1454
DTSTART;TZID=Europe/Brussels:20230130T213000
DTEND;TZID=Europe/Brussels:20230130T213000
END:VEVENT
BEGIN:VEVENT
UID:E5F03216-4619-44A1-A21C-5EA724CB9432-32-1468_homereminder@188.badminton
 ners.net
DTSTAMP:20260420T055217Z
SUMMARY:Thuismatch ingevuld? (Berlaar 3G (118) - Spinshuttle 5G (105))
DESCRIPTION:Je hebt 36 uur na aanvang om een thuismatch op Badmintonvlaande
 ren in te vullen. Match info: Berlaar 3G (118) - Spinshuttle 5G (105) - Li
 nk: https://www.badmintonvlaanderen.be/sport/teammatch.aspx?id=E5F03216-46
 19-44A1-A21C-5EA724CB9432&match=1468
DTSTART;TZID=Europe/Brussels:20230227T213000
DTEND;TZID=Europe/Brussels:20230227T213000
END:VEVENT
BEGIN:VEVENT
UID:E5F03216-4619-44A1-A21C-5EA724CB9432-32-1482_homereminder@188.badminton
 ners.net
DTSTAMP:20260420T055217Z
SUMMARY:Thuismatch ingevuld? (Berlaar 3G (118) - Klein Boom 7G (105))
DESCRIPTION:Je hebt 36 uur na aanvang om een thuismatch op Badmintonvlaande
 ren in te vullen. Match info: Berlaar 3G (118) - Klein Boom 7G (105) - Lin
 k: https://www.badmintonvlaanderen.be/sport/teammatch.aspx?id=E5F03216-461
 9-44A1-A21C-5EA724CB9432&match=1482
DTSTART;TZID=Europe/Brussels:20230327T213000
DTEND;TZID=Europe/Brussels:20230327T213000
END:VEVENT
BEGIN:VEVENT
UID:E5F03216-4619-44A1-A21C-5EA724CB9432-32-1441_awayreminder@188.badminton
 ners.net
DTSTAMP:20260420T055217Z
SUMMARY:Uitmatch bevestigd? (Plumula 3G (104) - Berlaar 3G (118))
DESCRIPTION:Je hebt 72 uur na aanvang om een uitmatch op Badmintonvlaandere
 n in te vullen. Match info: Plumula 3G (104) - Berlaar 3G (118) - Link: ht
 tps://www.badmintonvlaanderen.be/sport/teammatch.aspx?id=E5F03216-4619-44A
 1-A21C-5EA724CB9432&match=1441
DTSTART;TZID=Europe/Brussels:20221012T173000
DTEND;TZID=Europe/Brussels:20221012T173000
END:VEVENT
BEGIN:VEVENT
UID:E5F03216-4619-44A1-A21C-5EA724CB9432-32-1443_awayreminder@188.badminton
 ners.net
DTSTAMP:20260420T055217Z
SUMMARY:Uitmatch bevestigd? (Spinshuttle 5G (105) - Berlaar 3G (118))
DESCRIPTION:Je hebt 72 uur na aanvang om een uitmatch op Badmintonvlaandere
 n in te vullen. Match info: Spinshuttle 5G (105) - Berlaar 3G (118) - Link
 : https://www.badmintonvlaanderen.be/sport/teammatch.aspx?id=E5F03216-4619
 -44A1-A21C-5EA724CB9432&match=1443
DTSTART;TZID=Europe/Brussels:20221118T200000
DTEND;TZID=Europe/Brussels:20221118T200000
END:VEVENT
BEGIN:VEVENT
UID:E5F03216-4619-44A1-A21C-5EA724CB9432-32-1445_awayreminder@188.badminton
 ners.net
DTSTAMP:20260420T055217Z
SUMMARY:Uitmatch bevestigd? (Klein Boom 7G (105) - Berlaar 3G (118))
DESCRIPTION:Je hebt 72 uur na aanvang om een uitmatch op Badmintonvlaandere
 n in te vullen. Match info: Klein Boom 7G (105) - Berlaar 3G (118) - Link:
  https://www.badmintonvlaanderen.be/sport/teammatch.aspx?id=E5F03216-4619-
 44A1-A21C-5EA724CB9432&match=1445
DTSTART;TZID=Europe/Brussels:20221215T200000
DTEND;TZID=Europe/Brussels:20221215T200000
END:VEVENT
BEGIN:VEVENT
UID:E5F03216-4619-44A1-A21C-5EA724CB9432-32-1440_awayreminder@188.badminton
 ners.net
DTSTAMP:20260420T055217Z
SUMMARY:Uitmatch bevestigd? (Waverse 3G (109) - Berlaar 3G (118))
DESCRIPTION:Je hebt 72 uur na aanvang om een uitmatch op Badmintonvlaandere
 n in te vullen. Match info: Waverse 3G (109) - Berlaar 3G (118) - Link: ht
 tps://www.badmintonvlaanderen.be/sport/teammatch.aspx?id=E5F03216-4619-44A
 1-A21C-5EA724CB9432&match=1440
DTSTART;TZID=Europe/Brussels:20230118T140000
DTEND;TZID=Europe/Brussels:20230118T140000
END:VEVENT
BEGIN:VEVENT
UID:E5F03216-4619-44A1-A21C-5EA724CB9432-32-1446_awayreminder@188.badminton
 ners.net
DTSTAMP:20260420T055217Z
SUMMARY:Uitmatch bevestigd? (Bacss 3G (103) - Berlaar 3G (118))
DESCRIPTION:Je hebt 72 uur na aanvang om een uitmatch op Badmintonvlaandere
 n in te vullen. Match info: Bacss 3G (103) - Berlaar 3G (118) - Link: http
 s://www.badmintonvlaanderen.be/sport/teammatch.aspx?id=E5F03216-4619-44A1-
 A21C-5EA724CB9432&match=1446
DTSTART;TZID=Europe/Brussels:20230213T201500
DTEND;TZID=Europe/Brussels:20230213T201500
END:VEVENT
BEGIN:VEVENT
UID:E5F03216-4619-44A1-A21C-5EA724CB9432-32-1444_awayreminder@188.badminton
 ners.net
DTSTAMP:20260420T055217Z
SUMMARY:Uitmatch bevestigd? (Olve 4G (109) - Berlaar 3G (118))
DESCRIPTION:Je hebt 72 uur na aanvang om een uitmatch op Badmintonvlaandere
 n in te vullen. Match info: Olve 4G (109) - Berlaar 3G (118) - Link: https
 ://www.badmintonvlaanderen.be/sport/teammatch.aspx?id=E5F03216-4619-44A1-A
 21C-5EA724CB9432&match=1444
DTSTART;TZID=Europe/Brussels:20230314T103000
DTEND;TZID=Europe/Brussels:20230314T103000
END:VEVENT
BEGIN:VEVENT
UID:E5F03216-4619-44A1-A21C-5EA724CB9432-32-1442_awayreminder@188.badminton
 ners.net
DTSTAMP:20260420T055217Z
SUMMARY:Uitmatch bevestigd? (Rita Serveert 2G (102) - Berlaar 3G (118))
DESCRIPTION:Je hebt 72 uur na aanvang om een uitmatch op Badmintonvlaandere
 n in te vullen. Match info: Rita Serveert 2G (102) - Berlaar 3G (118) - Li
 nk: https://www.badmintonvlaanderen.be/sport/teammatch.aspx?id=E5F03216-46
 19-44A1-A21C-5EA724CB9432&match=1442
DTSTART;TZID=Europe/Brussels:20230426T190000
DTEND;TZID=Europe/Brussels:20230426T190000
END:VEVENT
END:VCALENDAR