BEGIN:VCALENDAR
VERSION:2.0
PRODID:spatie/icalendar-generator
NAME:plumula_3g_104_reminders
X-WR-CALNAME:plumula_3g_104_reminders
BEGIN:VTIMEZONE
TZID:Europe/Brussels
BEGIN:DAYLIGHT
DTSTART:20220327T010000
TZOFFSETFROM:+0100
TZOFFSETTO:+0200
END:DAYLIGHT
BEGIN:STANDARD
DTSTART:20221030T030000
TZOFFSETFROM:+0200
TZOFFSETTO:+0100
END:STANDARD
BEGIN:DAYLIGHT
DTSTART:20230326T010000
TZOFFSETFROM:+0100
TZOFFSETTO:+0200
END:DAYLIGHT
END:VTIMEZONE
BEGIN:VTIMEZONE
TZID:UTC
BEGIN:STANDARD
DTSTART:20250724T055132
TZOFFSETFROM:+0000
TZOFFSETTO:+0000
END:STANDARD
END:VTIMEZONE
BEGIN:VEVENT
UID:E5F03216-4619-44A1-A21C-5EA724CB9432-32-1441_homereminder@191.badminton
 ners.net
DTSTAMP:20260420T055132Z
SUMMARY:Thuismatch ingevuld? (Plumula 3G (104) - Berlaar 3G (118))
DESCRIPTION:Je hebt 36 uur na aanvang om een thuismatch op Badmintonvlaande
 ren in te vullen. Match info: Plumula 3G (104) - Berlaar 3G (118) - Link: 
 https://www.badmintonvlaanderen.be/sport/teammatch.aspx?id=E5F03216-4619-4
 4A1-A21C-5EA724CB9432&match=1441
DTSTART;TZID=Europe/Brussels:20221011T053000
DTEND;TZID=Europe/Brussels:20221011T053000
END:VEVENT
BEGIN:VEVENT
UID:E5F03216-4619-44A1-A21C-5EA724CB9432-32-1491_homereminder@191.badminton
 ners.net
DTSTAMP:20260420T055132Z
SUMMARY:Thuismatch ingevuld? (Plumula 3G (104) - Bacss 3G (103))
DESCRIPTION:Je hebt 36 uur na aanvang om een thuismatch op Badmintonvlaande
 ren in te vullen. Match info: Plumula 3G (104) - Bacss 3G (103) - Link: ht
 tps://www.badmintonvlaanderen.be/sport/teammatch.aspx?id=E5F03216-4619-44A
 1-A21C-5EA724CB9432&match=1491
DTSTART;TZID=Europe/Brussels:20221122T053000
DTEND;TZID=Europe/Brussels:20221122T053000
END:VEVENT
BEGIN:VEVENT
UID:E5F03216-4619-44A1-A21C-5EA724CB9432-32-1463_homereminder@191.badminton
 ners.net
DTSTAMP:20260420T055132Z
SUMMARY:Thuismatch ingevuld? (Plumula 3G (104) - Rita Serveert 2G (102))
DESCRIPTION:Je hebt 36 uur na aanvang om een thuismatch op Badmintonvlaande
 ren in te vullen. Match info: Plumula 3G (104) - Rita Serveert 2G (102) - 
 Link: https://www.badmintonvlaanderen.be/sport/teammatch.aspx?id=E5F03216-
 4619-44A1-A21C-5EA724CB9432&match=1463
DTSTART;TZID=Europe/Brussels:20221206T053000
DTEND;TZID=Europe/Brussels:20221206T053000
END:VEVENT
BEGIN:VEVENT
UID:E5F03216-4619-44A1-A21C-5EA724CB9432-32-1484_homereminder@191.badminton
 ners.net
DTSTAMP:20260420T055132Z
SUMMARY:Thuismatch ingevuld? (Plumula 3G (104) - Klein Boom 7G (105))
DESCRIPTION:Je hebt 36 uur na aanvang om een thuismatch op Badmintonvlaande
 ren in te vullen. Match info: Plumula 3G (104) - Klein Boom 7G (105) - Lin
 k: https://www.badmintonvlaanderen.be/sport/teammatch.aspx?id=E5F03216-461
 9-44A1-A21C-5EA724CB9432&match=1484
DTSTART;TZID=Europe/Brussels:20230117T053000
DTEND;TZID=Europe/Brussels:20230117T053000
END:VEVENT
BEGIN:VEVENT
UID:E5F03216-4619-44A1-A21C-5EA724CB9432-32-1477_homereminder@191.badminton
 ners.net
DTSTAMP:20260420T055132Z
SUMMARY:Thuismatch ingevuld? (Plumula 3G (104) - Olve 4G (109))
DESCRIPTION:Je hebt 36 uur na aanvang om een thuismatch op Badmintonvlaande
 ren in te vullen. Match info: Plumula 3G (104) - Olve 4G (109) - Link: htt
 ps://www.badmintonvlaanderen.be/sport/teammatch.aspx?id=E5F03216-4619-44A1
 -A21C-5EA724CB9432&match=1477
DTSTART;TZID=Europe/Brussels:20230214T053000
DTEND;TZID=Europe/Brussels:20230214T053000
END:VEVENT
BEGIN:VEVENT
UID:E5F03216-4619-44A1-A21C-5EA724CB9432-32-1470_homereminder@191.badminton
 ners.net
DTSTAMP:20260420T055132Z
SUMMARY:Thuismatch ingevuld? (Plumula 3G (104) - Spinshuttle 5G (105))
DESCRIPTION:Je hebt 36 uur na aanvang om een thuismatch op Badmintonvlaande
 ren in te vullen. Match info: Plumula 3G (104) - Spinshuttle 5G (105) - Li
 nk: https://www.badmintonvlaanderen.be/sport/teammatch.aspx?id=E5F03216-46
 19-44A1-A21C-5EA724CB9432&match=1470
DTSTART;TZID=Europe/Brussels:20230328T053000
DTEND;TZID=Europe/Brussels:20230328T053000
END:VEVENT
BEGIN:VEVENT
UID:E5F03216-4619-44A1-A21C-5EA724CB9432-32-1448_homereminder@191.badminton
 ners.net
DTSTAMP:20260420T055132Z
SUMMARY:Thuismatch ingevuld? (Plumula 3G (104) - Waverse 3G (109))
DESCRIPTION:Je hebt 36 uur na aanvang om een thuismatch op Badmintonvlaande
 ren in te vullen. Match info: Plumula 3G (104) - Waverse 3G (109) - Link: 
 https://www.badmintonvlaanderen.be/sport/teammatch.aspx?id=E5F03216-4619-4
 4A1-A21C-5EA724CB9432&match=1448
DTSTART;TZID=Europe/Brussels:20230404T053000
DTEND;TZID=Europe/Brussels:20230404T053000
END:VEVENT
BEGIN:VEVENT
UID:E5F03216-4619-44A1-A21C-5EA724CB9432-32-1459_awayreminder@191.badminton
 ners.net
DTSTAMP:20260420T055132Z
SUMMARY:Uitmatch bevestigd? (Klein Boom 7G (105) - Plumula 3G (104))
DESCRIPTION:Je hebt 72 uur na aanvang om een uitmatch op Badmintonvlaandere
 n in te vullen. Match info: Klein Boom 7G (105) - Plumula 3G (104) - Link:
  https://www.badmintonvlaanderen.be/sport/teammatch.aspx?id=E5F03216-4619-
 44A1-A21C-5EA724CB9432&match=1459
DTSTART;TZID=Europe/Brussels:20220922T200000
DTEND;TZID=Europe/Brussels:20220922T200000
END:VEVENT
BEGIN:VEVENT
UID:E5F03216-4619-44A1-A21C-5EA724CB9432-32-1455_awayreminder@191.badminton
 ners.net
DTSTAMP:20260420T055132Z
SUMMARY:Uitmatch bevestigd? (Waverse 3G (109) - Plumula 3G (104))
DESCRIPTION:Je hebt 72 uur na aanvang om een uitmatch op Badmintonvlaandere
 n in te vullen. Match info: Waverse 3G (109) - Plumula 3G (104) - Link: ht
 tps://www.badmintonvlaanderen.be/sport/teammatch.aspx?id=E5F03216-4619-44A
 1-A21C-5EA724CB9432&match=1455
DTSTART;TZID=Europe/Brussels:20221026T140000
DTEND;TZID=Europe/Brussels:20221026T140000
END:VEVENT
BEGIN:VEVENT
UID:E5F03216-4619-44A1-A21C-5EA724CB9432-32-1458_awayreminder@191.badminton
 ners.net
DTSTAMP:20260420T055132Z
SUMMARY:Uitmatch bevestigd? (Olve 4G (109) - Plumula 3G (104))
DESCRIPTION:Je hebt 72 uur na aanvang om een uitmatch op Badmintonvlaandere
 n in te vullen. Match info: Olve 4G (109) - Plumula 3G (104) - Link: https
 ://www.badmintonvlaanderen.be/sport/teammatch.aspx?id=E5F03216-4619-44A1-A
 21C-5EA724CB9432&match=1458
DTSTART;TZID=Europe/Brussels:20221206T103000
DTEND;TZID=Europe/Brussels:20221206T103000
END:VEVENT
BEGIN:VEVENT
UID:E5F03216-4619-44A1-A21C-5EA724CB9432-32-1457_awayreminder@191.badminton
 ners.net
DTSTAMP:20260420T055132Z
SUMMARY:Uitmatch bevestigd? (Spinshuttle 5G (105) - Plumula 3G (104))
DESCRIPTION:Je hebt 72 uur na aanvang om een uitmatch op Badmintonvlaandere
 n in te vullen. Match info: Spinshuttle 5G (105) - Plumula 3G (104) - Link
 : https://www.badmintonvlaanderen.be/sport/teammatch.aspx?id=E5F03216-4619
 -44A1-A21C-5EA724CB9432&match=1457
DTSTART;TZID=Europe/Brussels:20221216T200000
DTEND;TZID=Europe/Brussels:20221216T200000
END:VEVENT
BEGIN:VEVENT
UID:E5F03216-4619-44A1-A21C-5EA724CB9432-32-1454_awayreminder@191.badminton
 ners.net
DTSTAMP:20260420T055132Z
SUMMARY:Uitmatch bevestigd? (Berlaar 3G (118) - Plumula 3G (104))
DESCRIPTION:Je hebt 72 uur na aanvang om een uitmatch op Badmintonvlaandere
 n in te vullen. Match info: Berlaar 3G (118) - Plumula 3G (104) - Link: ht
 tps://www.badmintonvlaanderen.be/sport/teammatch.aspx?id=E5F03216-4619-44A
 1-A21C-5EA724CB9432&match=1454
DTSTART;TZID=Europe/Brussels:20230201T093000
DTEND;TZID=Europe/Brussels:20230201T093000
END:VEVENT
BEGIN:VEVENT
UID:E5F03216-4619-44A1-A21C-5EA724CB9432-32-1460_awayreminder@191.badminton
 ners.net
DTSTAMP:20260420T055132Z
SUMMARY:Uitmatch bevestigd? (Bacss 3G (103) - Plumula 3G (104))
DESCRIPTION:Je hebt 72 uur na aanvang om een uitmatch op Badmintonvlaandere
 n in te vullen. Match info: Bacss 3G (103) - Plumula 3G (104) - Link: http
 s://www.badmintonvlaanderen.be/sport/teammatch.aspx?id=E5F03216-4619-44A1-
 A21C-5EA724CB9432&match=1460
DTSTART;TZID=Europe/Brussels:20230227T201500
DTEND;TZID=Europe/Brussels:20230227T201500
END:VEVENT
BEGIN:VEVENT
UID:E5F03216-4619-44A1-A21C-5EA724CB9432-32-1456_awayreminder@191.badminton
 ners.net
DTSTAMP:20260420T055132Z
SUMMARY:Uitmatch bevestigd? (Rita Serveert 2G (102) - Plumula 3G (104))
DESCRIPTION:Je hebt 72 uur na aanvang om een uitmatch op Badmintonvlaandere
 n in te vullen. Match info: Rita Serveert 2G (102) - Plumula 3G (104) - Li
 nk: https://www.badmintonvlaanderen.be/sport/teammatch.aspx?id=E5F03216-46
 19-44A1-A21C-5EA724CB9432&match=1456
DTSTART;TZID=Europe/Brussels:20230315T190000
DTEND;TZID=Europe/Brussels:20230315T190000
END:VEVENT
END:VCALENDAR