BEGIN:VCALENDAR
VERSION:2.0
PRODID:spatie/icalendar-generator
NAME:rita_serveert_2g_102_reminders
X-WR-CALNAME:rita_serveert_2g_102_reminders
BEGIN:VTIMEZONE
TZID:Europe/Brussels
BEGIN:DAYLIGHT
DTSTART:20220327T010000
TZOFFSETFROM:+0100
TZOFFSETTO:+0200
END:DAYLIGHT
BEGIN:STANDARD
DTSTART:20221030T030000
TZOFFSETFROM:+0200
TZOFFSETTO:+0100
END:STANDARD
BEGIN:DAYLIGHT
DTSTART:20230326T010000
TZOFFSETFROM:+0100
TZOFFSETTO:+0200
END:DAYLIGHT
END:VTIMEZONE
BEGIN:VTIMEZONE
TZID:UTC
BEGIN:STANDARD
DTSTART:20250724T055128
TZOFFSETFROM:+0000
TZOFFSETTO:+0000
END:STANDARD
END:VTIMEZONE
BEGIN:VEVENT
UID:E5F03216-4619-44A1-A21C-5EA724CB9432-32-1449_homereminder@196.badminton
 ners.net
DTSTAMP:20260420T055128Z
SUMMARY:Thuismatch ingevuld? (Rita Serveert 2G (102) - Waverse 3G (109))
DESCRIPTION:Je hebt 36 uur na aanvang om een thuismatch op Badmintonvlaande
 ren in te vullen. Match info: Rita Serveert 2G (102) - Waverse 3G (109) - 
 Link: https://www.badmintonvlaanderen.be/sport/teammatch.aspx?id=E5F03216-
 4619-44A1-A21C-5EA724CB9432&match=1449
DTSTART;TZID=Europe/Brussels:20221011T070000
DTEND;TZID=Europe/Brussels:20221011T070000
END:VEVENT
BEGIN:VEVENT
UID:E5F03216-4619-44A1-A21C-5EA724CB9432-32-1485_homereminder@196.badminton
 ners.net
DTSTAMP:20260420T055128Z
SUMMARY:Thuismatch ingevuld? (Rita Serveert 2G (102) - Klein Boom 7G (105))
DESCRIPTION:Je hebt 36 uur na aanvang om een thuismatch op Badmintonvlaande
 ren in te vullen. Match info: Rita Serveert 2G (102) - Klein Boom 7G (105)
  - Link: https://www.badmintonvlaanderen.be/sport/teammatch.aspx?id=E5F032
 16-4619-44A1-A21C-5EA724CB9432&match=1485
DTSTART;TZID=Europe/Brussels:20221108T070000
DTEND;TZID=Europe/Brussels:20221108T070000
END:VEVENT
BEGIN:VEVENT
UID:E5F03216-4619-44A1-A21C-5EA724CB9432-32-1471_homereminder@196.badminton
 ners.net
DTSTAMP:20260420T055128Z
SUMMARY:Thuismatch ingevuld? (Rita Serveert 2G (102) - Spinshuttle 5G (105)
 )
DESCRIPTION:Je hebt 36 uur na aanvang om een thuismatch op Badmintonvlaande
 ren in te vullen. Match info: Rita Serveert 2G (102) - Spinshuttle 5G (105
 ) - Link: https://www.badmintonvlaanderen.be/sport/teammatch.aspx?id=E5F03
 216-4619-44A1-A21C-5EA724CB9432&match=1471
DTSTART;TZID=Europe/Brussels:20221122T070000
DTEND;TZID=Europe/Brussels:20221122T070000
END:VEVENT
BEGIN:VEVENT
UID:E5F03216-4619-44A1-A21C-5EA724CB9432-32-1492_homereminder@196.badminton
 ners.net
DTSTAMP:20260420T055128Z
SUMMARY:Thuismatch ingevuld? (Rita Serveert 2G (102) - Bacss 3G (103))
DESCRIPTION:Je hebt 36 uur na aanvang om een thuismatch op Badmintonvlaande
 ren in te vullen. Match info: Rita Serveert 2G (102) - Bacss 3G (103) - Li
 nk: https://www.badmintonvlaanderen.be/sport/teammatch.aspx?id=E5F03216-46
 19-44A1-A21C-5EA724CB9432&match=1492
DTSTART;TZID=Europe/Brussels:20221220T070000
DTEND;TZID=Europe/Brussels:20221220T070000
END:VEVENT
BEGIN:VEVENT
UID:E5F03216-4619-44A1-A21C-5EA724CB9432-32-1478_homereminder@196.badminton
 ners.net
DTSTAMP:20260420T055128Z
SUMMARY:Thuismatch ingevuld? (Rita Serveert 2G (102) - Olve 4G (109))
DESCRIPTION:Je hebt 36 uur na aanvang om een thuismatch op Badmintonvlaande
 ren in te vullen. Match info: Rita Serveert 2G (102) - Olve 4G (109) - Lin
 k: https://www.badmintonvlaanderen.be/sport/teammatch.aspx?id=E5F03216-461
 9-44A1-A21C-5EA724CB9432&match=1478
DTSTART;TZID=Europe/Brussels:20230117T070000
DTEND;TZID=Europe/Brussels:20230117T070000
END:VEVENT
BEGIN:VEVENT
UID:E5F03216-4619-44A1-A21C-5EA724CB9432-32-1456_homereminder@196.badminton
 ners.net
DTSTAMP:20260420T055128Z
SUMMARY:Thuismatch ingevuld? (Rita Serveert 2G (102) - Plumula 3G (104))
DESCRIPTION:Je hebt 36 uur na aanvang om een thuismatch op Badmintonvlaande
 ren in te vullen. Match info: Rita Serveert 2G (102) - Plumula 3G (104) - 
 Link: https://www.badmintonvlaanderen.be/sport/teammatch.aspx?id=E5F03216-
 4619-44A1-A21C-5EA724CB9432&match=1456
DTSTART;TZID=Europe/Brussels:20230314T070000
DTEND;TZID=Europe/Brussels:20230314T070000
END:VEVENT
BEGIN:VEVENT
UID:E5F03216-4619-44A1-A21C-5EA724CB9432-32-1442_homereminder@196.badminton
 ners.net
DTSTAMP:20260420T055128Z
SUMMARY:Thuismatch ingevuld? (Rita Serveert 2G (102) - Berlaar 3G (118))
DESCRIPTION:Je hebt 36 uur na aanvang om een thuismatch op Badmintonvlaande
 ren in te vullen. Match info: Rita Serveert 2G (102) - Berlaar 3G (118) - 
 Link: https://www.badmintonvlaanderen.be/sport/teammatch.aspx?id=E5F03216-
 4619-44A1-A21C-5EA724CB9432&match=1442
DTSTART;TZID=Europe/Brussels:20230425T070000
DTEND;TZID=Europe/Brussels:20230425T070000
END:VEVENT
BEGIN:VEVENT
UID:E5F03216-4619-44A1-A21C-5EA724CB9432-32-1465_awayreminder@196.badminton
 ners.net
DTSTAMP:20260420T055128Z
SUMMARY:Uitmatch bevestigd? (Olve 4G (109) - Rita Serveert 2G (102))
DESCRIPTION:Je hebt 72 uur na aanvang om een uitmatch op Badmintonvlaandere
 n in te vullen. Match info: Olve 4G (109) - Rita Serveert 2G (102) - Link:
  https://www.badmintonvlaanderen.be/sport/teammatch.aspx?id=E5F03216-4619-
 44A1-A21C-5EA724CB9432&match=1465
DTSTART;TZID=Europe/Brussels:20221011T103000
DTEND;TZID=Europe/Brussels:20221011T103000
END:VEVENT
BEGIN:VEVENT
UID:E5F03216-4619-44A1-A21C-5EA724CB9432-32-1461_awayreminder@196.badminton
 ners.net
DTSTAMP:20260420T055128Z
SUMMARY:Uitmatch bevestigd? (Berlaar 3G (118) - Rita Serveert 2G (102))
DESCRIPTION:Je hebt 72 uur na aanvang om een uitmatch op Badmintonvlaandere
 n in te vullen. Match info: Berlaar 3G (118) - Rita Serveert 2G (102) - Li
 nk: https://www.badmintonvlaanderen.be/sport/teammatch.aspx?id=E5F03216-46
 19-44A1-A21C-5EA724CB9432&match=1461
DTSTART;TZID=Europe/Brussels:20221026T093000
DTEND;TZID=Europe/Brussels:20221026T093000
END:VEVENT
BEGIN:VEVENT
UID:E5F03216-4619-44A1-A21C-5EA724CB9432-32-1463_awayreminder@196.badminton
 ners.net
DTSTAMP:20260420T055128Z
SUMMARY:Uitmatch bevestigd? (Plumula 3G (104) - Rita Serveert 2G (102))
DESCRIPTION:Je hebt 72 uur na aanvang om een uitmatch op Badmintonvlaandere
 n in te vullen. Match info: Plumula 3G (104) - Rita Serveert 2G (102) - Li
 nk: https://www.badmintonvlaanderen.be/sport/teammatch.aspx?id=E5F03216-46
 19-44A1-A21C-5EA724CB9432&match=1463
DTSTART;TZID=Europe/Brussels:20221207T173000
DTEND;TZID=Europe/Brussels:20221207T173000
END:VEVENT
BEGIN:VEVENT
UID:E5F03216-4619-44A1-A21C-5EA724CB9432-32-1466_awayreminder@196.badminton
 ners.net
DTSTAMP:20260420T055128Z
SUMMARY:Uitmatch bevestigd? (Klein Boom 7G (105) - Rita Serveert 2G (102))
DESCRIPTION:Je hebt 72 uur na aanvang om een uitmatch op Badmintonvlaandere
 n in te vullen. Match info: Klein Boom 7G (105) - Rita Serveert 2G (102) -
  Link: https://www.badmintonvlaanderen.be/sport/teammatch.aspx?id=E5F03216
 -4619-44A1-A21C-5EA724CB9432&match=1466
DTSTART;TZID=Europe/Brussels:20230126T200000
DTEND;TZID=Europe/Brussels:20230126T200000
END:VEVENT
BEGIN:VEVENT
UID:E5F03216-4619-44A1-A21C-5EA724CB9432-32-1462_awayreminder@196.badminton
 ners.net
DTSTAMP:20260420T055128Z
SUMMARY:Uitmatch bevestigd? (Waverse 3G (109) - Rita Serveert 2G (102))
DESCRIPTION:Je hebt 72 uur na aanvang om een uitmatch op Badmintonvlaandere
 n in te vullen. Match info: Waverse 3G (109) - Rita Serveert 2G (102) - Li
 nk: https://www.badmintonvlaanderen.be/sport/teammatch.aspx?id=E5F03216-46
 19-44A1-A21C-5EA724CB9432&match=1462
DTSTART;TZID=Europe/Brussels:20230201T140000
DTEND;TZID=Europe/Brussels:20230201T140000
END:VEVENT
BEGIN:VEVENT
UID:E5F03216-4619-44A1-A21C-5EA724CB9432-32-1464_awayreminder@196.badminton
 ners.net
DTSTAMP:20260420T055128Z
SUMMARY:Uitmatch bevestigd? (Spinshuttle 5G (105) - Rita Serveert 2G (102))
DESCRIPTION:Je hebt 72 uur na aanvang om een uitmatch op Badmintonvlaandere
 n in te vullen. Match info: Spinshuttle 5G (105) - Rita Serveert 2G (102) 
 - Link: https://www.badmintonvlaanderen.be/sport/teammatch.aspx?id=E5F0321
 6-4619-44A1-A21C-5EA724CB9432&match=1464
DTSTART;TZID=Europe/Brussels:20230210T200000
DTEND;TZID=Europe/Brussels:20230210T200000
END:VEVENT
BEGIN:VEVENT
UID:E5F03216-4619-44A1-A21C-5EA724CB9432-32-1467_awayreminder@196.badminton
 ners.net
DTSTAMP:20260420T055128Z
SUMMARY:Uitmatch bevestigd? (Bacss 3G (103) - Rita Serveert 2G (102))
DESCRIPTION:Je hebt 72 uur na aanvang om een uitmatch op Badmintonvlaandere
 n in te vullen. Match info: Bacss 3G (103) - Rita Serveert 2G (102) - Link
 : https://www.badmintonvlaanderen.be/sport/teammatch.aspx?id=E5F03216-4619
 -44A1-A21C-5EA724CB9432&match=1467
DTSTART;TZID=Europe/Brussels:20230327T211500
DTEND;TZID=Europe/Brussels:20230327T211500
END:VEVENT
END:VCALENDAR