BEGIN:VCALENDAR
VERSION:2.0
PRODID:spatie/icalendar-generator
NAME:spinshuttle_5g_105_reminders
X-WR-CALNAME:spinshuttle_5g_105_reminders
BEGIN:VTIMEZONE
TZID:Europe/Brussels
BEGIN:DAYLIGHT
DTSTART:20220327T010000
TZOFFSETFROM:+0100
TZOFFSETTO:+0200
END:DAYLIGHT
BEGIN:STANDARD
DTSTART:20221030T030000
TZOFFSETFROM:+0200
TZOFFSETTO:+0100
END:STANDARD
BEGIN:DAYLIGHT
DTSTART:20230326T010000
TZOFFSETFROM:+0100
TZOFFSETTO:+0200
END:DAYLIGHT
END:VTIMEZONE
BEGIN:VTIMEZONE
TZID:UTC
BEGIN:STANDARD
DTSTART:20250724T055131
TZOFFSETFROM:+0000
TZOFFSETTO:+0000
END:STANDARD
END:VTIMEZONE
BEGIN:VEVENT
UID:E5F03216-4619-44A1-A21C-5EA724CB9432-32-1479_homereminder@202.badminton
 ners.net
DTSTAMP:20260420T055131Z
SUMMARY:Thuismatch ingevuld? (Spinshuttle 5G (105) - Olve 4G (109))
DESCRIPTION:Je hebt 36 uur na aanvang om een thuismatch op Badmintonvlaande
 ren in te vullen. Match info: Spinshuttle 5G (105) - Olve 4G (109) - Link:
  https://www.badmintonvlaanderen.be/sport/teammatch.aspx?id=E5F03216-4619-
 44A1-A21C-5EA724CB9432&match=1479
DTSTART;TZID=Europe/Brussels:20221006T080000
DTEND;TZID=Europe/Brussels:20221006T080000
END:VEVENT
BEGIN:VEVENT
UID:E5F03216-4619-44A1-A21C-5EA724CB9432-32-1443_homereminder@202.badminton
 ners.net
DTSTAMP:20260420T055131Z
SUMMARY:Thuismatch ingevuld? (Spinshuttle 5G (105) - Berlaar 3G (118))
DESCRIPTION:Je hebt 36 uur na aanvang om een thuismatch op Badmintonvlaande
 ren in te vullen. Match info: Spinshuttle 5G (105) - Berlaar 3G (118) - Li
 nk: https://www.badmintonvlaanderen.be/sport/teammatch.aspx?id=E5F03216-46
 19-44A1-A21C-5EA724CB9432&match=1443
DTSTART;TZID=Europe/Brussels:20221117T080000
DTEND;TZID=Europe/Brussels:20221117T080000
END:VEVENT
BEGIN:VEVENT
UID:E5F03216-4619-44A1-A21C-5EA724CB9432-32-1457_homereminder@202.badminton
 ners.net
DTSTAMP:20260420T055131Z
SUMMARY:Thuismatch ingevuld? (Spinshuttle 5G (105) - Plumula 3G (104))
DESCRIPTION:Je hebt 36 uur na aanvang om een thuismatch op Badmintonvlaande
 ren in te vullen. Match info: Spinshuttle 5G (105) - Plumula 3G (104) - Li
 nk: https://www.badmintonvlaanderen.be/sport/teammatch.aspx?id=E5F03216-46
 19-44A1-A21C-5EA724CB9432&match=1457
DTSTART;TZID=Europe/Brussels:20221215T080000
DTEND;TZID=Europe/Brussels:20221215T080000
END:VEVENT
BEGIN:VEVENT
UID:E5F03216-4619-44A1-A21C-5EA724CB9432-32-1493_homereminder@202.badminton
 ners.net
DTSTAMP:20260420T055131Z
SUMMARY:Thuismatch ingevuld? (Spinshuttle 5G (105) - Bacss 3G (103))
DESCRIPTION:Je hebt 36 uur na aanvang om een thuismatch op Badmintonvlaande
 ren in te vullen. Match info: Spinshuttle 5G (105) - Bacss 3G (103) - Link
 : https://www.badmintonvlaanderen.be/sport/teammatch.aspx?id=E5F03216-4619
 -44A1-A21C-5EA724CB9432&match=1493
DTSTART;TZID=Europe/Brussels:20230112T080000
DTEND;TZID=Europe/Brussels:20230112T080000
END:VEVENT
BEGIN:VEVENT
UID:E5F03216-4619-44A1-A21C-5EA724CB9432-32-1464_homereminder@202.badminton
 ners.net
DTSTAMP:20260420T055131Z
SUMMARY:Thuismatch ingevuld? (Spinshuttle 5G (105) - Rita Serveert 2G (102)
 )
DESCRIPTION:Je hebt 36 uur na aanvang om een thuismatch op Badmintonvlaande
 ren in te vullen. Match info: Spinshuttle 5G (105) - Rita Serveert 2G (102
 ) - Link: https://www.badmintonvlaanderen.be/sport/teammatch.aspx?id=E5F03
 216-4619-44A1-A21C-5EA724CB9432&match=1464
DTSTART;TZID=Europe/Brussels:20230209T080000
DTEND;TZID=Europe/Brussels:20230209T080000
END:VEVENT
BEGIN:VEVENT
UID:E5F03216-4619-44A1-A21C-5EA724CB9432-32-1450_homereminder@202.badminton
 ners.net
DTSTAMP:20260420T055131Z
SUMMARY:Thuismatch ingevuld? (Spinshuttle 5G (105) - Waverse 3G (109))
DESCRIPTION:Je hebt 36 uur na aanvang om een thuismatch op Badmintonvlaande
 ren in te vullen. Match info: Spinshuttle 5G (105) - Waverse 3G (109) - Li
 nk: https://www.badmintonvlaanderen.be/sport/teammatch.aspx?id=E5F03216-46
 19-44A1-A21C-5EA724CB9432&match=1450
DTSTART;TZID=Europe/Brussels:20230309T080000
DTEND;TZID=Europe/Brussels:20230309T080000
END:VEVENT
BEGIN:VEVENT
UID:E5F03216-4619-44A1-A21C-5EA724CB9432-32-1486_homereminder@202.badminton
 ners.net
DTSTAMP:20260420T055131Z
SUMMARY:Thuismatch ingevuld? (Spinshuttle 5G (105) - Klein Boom 7G (105))
DESCRIPTION:Je hebt 36 uur na aanvang om een thuismatch op Badmintonvlaande
 ren in te vullen. Match info: Spinshuttle 5G (105) - Klein Boom 7G (105) -
  Link: https://www.badmintonvlaanderen.be/sport/teammatch.aspx?id=E5F03216
 -4619-44A1-A21C-5EA724CB9432&match=1486
DTSTART;TZID=Europe/Brussels:20230420T080000
DTEND;TZID=Europe/Brussels:20230420T080000
END:VEVENT
BEGIN:VEVENT
UID:E5F03216-4619-44A1-A21C-5EA724CB9432-32-1473_awayreminder@202.badminton
 ners.net
DTSTAMP:20260420T055131Z
SUMMARY:Uitmatch bevestigd? (Klein Boom 7G (105) - Spinshuttle 5G (105))
DESCRIPTION:Je hebt 72 uur na aanvang om een uitmatch op Badmintonvlaandere
 n in te vullen. Match info: Klein Boom 7G (105) - Spinshuttle 5G (105) - L
 ink: https://www.badmintonvlaanderen.be/sport/teammatch.aspx?id=E5F03216-4
 619-44A1-A21C-5EA724CB9432&match=1473
DTSTART;TZID=Europe/Brussels:20221020T200000
DTEND;TZID=Europe/Brussels:20221020T200000
END:VEVENT
BEGIN:VEVENT
UID:E5F03216-4619-44A1-A21C-5EA724CB9432-32-1471_awayreminder@202.badminton
 ners.net
DTSTAMP:20260420T055131Z
SUMMARY:Uitmatch bevestigd? (Rita Serveert 2G (102) - Spinshuttle 5G (105))
DESCRIPTION:Je hebt 72 uur na aanvang om een uitmatch op Badmintonvlaandere
 n in te vullen. Match info: Rita Serveert 2G (102) - Spinshuttle 5G (105) 
 - Link: https://www.badmintonvlaanderen.be/sport/teammatch.aspx?id=E5F0321
 6-4619-44A1-A21C-5EA724CB9432&match=1471
DTSTART;TZID=Europe/Brussels:20221123T190000
DTEND;TZID=Europe/Brussels:20221123T190000
END:VEVENT
BEGIN:VEVENT
UID:E5F03216-4619-44A1-A21C-5EA724CB9432-32-1474_awayreminder@202.badminton
 ners.net
DTSTAMP:20260420T055131Z
SUMMARY:Uitmatch bevestigd? (Bacss 3G (103) - Spinshuttle 5G (105))
DESCRIPTION:Je hebt 72 uur na aanvang om een uitmatch op Badmintonvlaandere
 n in te vullen. Match info: Bacss 3G (103) - Spinshuttle 5G (105) - Link: 
 https://www.badmintonvlaanderen.be/sport/teammatch.aspx?id=E5F03216-4619-4
 4A1-A21C-5EA724CB9432&match=1474
DTSTART;TZID=Europe/Brussels:20221205T201500
DTEND;TZID=Europe/Brussels:20221205T201500
END:VEVENT
BEGIN:VEVENT
UID:E5F03216-4619-44A1-A21C-5EA724CB9432-32-1469_awayreminder@202.badminton
 ners.net
DTSTAMP:20260420T055131Z
SUMMARY:Uitmatch bevestigd? (Waverse 3G (109) - Spinshuttle 5G (105))
DESCRIPTION:Je hebt 72 uur na aanvang om een uitmatch op Badmintonvlaandere
 n in te vullen. Match info: Waverse 3G (109) - Spinshuttle 5G (105) - Link
 : https://www.badmintonvlaanderen.be/sport/teammatch.aspx?id=E5F03216-4619
 -44A1-A21C-5EA724CB9432&match=1469
DTSTART;TZID=Europe/Brussels:20221207T140000
DTEND;TZID=Europe/Brussels:20221207T140000
END:VEVENT
BEGIN:VEVENT
UID:E5F03216-4619-44A1-A21C-5EA724CB9432-32-1472_awayreminder@202.badminton
 ners.net
DTSTAMP:20260420T055131Z
SUMMARY:Uitmatch bevestigd? (Olve 4G (109) - Spinshuttle 5G (105))
DESCRIPTION:Je hebt 72 uur na aanvang om een uitmatch op Badmintonvlaandere
 n in te vullen. Match info: Olve 4G (109) - Spinshuttle 5G (105) - Link: h
 ttps://www.badmintonvlaanderen.be/sport/teammatch.aspx?id=E5F03216-4619-44
 A1-A21C-5EA724CB9432&match=1472
DTSTART;TZID=Europe/Brussels:20230131T103000
DTEND;TZID=Europe/Brussels:20230131T103000
END:VEVENT
BEGIN:VEVENT
UID:E5F03216-4619-44A1-A21C-5EA724CB9432-32-1468_awayreminder@202.badminton
 ners.net
DTSTAMP:20260420T055131Z
SUMMARY:Uitmatch bevestigd? (Berlaar 3G (118) - Spinshuttle 5G (105))
DESCRIPTION:Je hebt 72 uur na aanvang om een uitmatch op Badmintonvlaandere
 n in te vullen. Match info: Berlaar 3G (118) - Spinshuttle 5G (105) - Link
 : https://www.badmintonvlaanderen.be/sport/teammatch.aspx?id=E5F03216-4619
 -44A1-A21C-5EA724CB9432&match=1468
DTSTART;TZID=Europe/Brussels:20230301T093000
DTEND;TZID=Europe/Brussels:20230301T093000
END:VEVENT
BEGIN:VEVENT
UID:E5F03216-4619-44A1-A21C-5EA724CB9432-32-1470_awayreminder@202.badminton
 ners.net
DTSTAMP:20260420T055131Z
SUMMARY:Uitmatch bevestigd? (Plumula 3G (104) - Spinshuttle 5G (105))
DESCRIPTION:Je hebt 72 uur na aanvang om een uitmatch op Badmintonvlaandere
 n in te vullen. Match info: Plumula 3G (104) - Spinshuttle 5G (105) - Link
 : https://www.badmintonvlaanderen.be/sport/teammatch.aspx?id=E5F03216-4619
 -44A1-A21C-5EA724CB9432&match=1470
DTSTART;TZID=Europe/Brussels:20230329T173000
DTEND;TZID=Europe/Brussels:20230329T173000
END:VEVENT
END:VCALENDAR