BEGIN:VCALENDAR
VERSION:2.0
PRODID:spatie/icalendar-generator
NAME:olve_4g_109_reminders
X-WR-CALNAME:olve_4g_109_reminders
BEGIN:VTIMEZONE
TZID:Europe/Brussels
BEGIN:DAYLIGHT
DTSTART:20220327T010000
TZOFFSETFROM:+0100
TZOFFSETTO:+0200
END:DAYLIGHT
BEGIN:STANDARD
DTSTART:20221030T030000
TZOFFSETFROM:+0200
TZOFFSETTO:+0100
END:STANDARD
BEGIN:DAYLIGHT
DTSTART:20230326T010000
TZOFFSETFROM:+0100
TZOFFSETTO:+0200
END:DAYLIGHT
END:VTIMEZONE
BEGIN:VTIMEZONE
TZID:UTC
BEGIN:STANDARD
DTSTART:20250724T055125
TZOFFSETFROM:+0000
TZOFFSETTO:+0000
END:STANDARD
END:VTIMEZONE
BEGIN:VEVENT
UID:E5F03216-4619-44A1-A21C-5EA724CB9432-32-1465_homereminder@206.badminton
 ners.net
DTSTAMP:20260420T055125Z
SUMMARY:Thuismatch ingevuld? (Olve 4G (109) - Rita Serveert 2G (102))
DESCRIPTION:Je hebt 36 uur na aanvang om een thuismatch op Badmintonvlaande
 ren in te vullen. Match info: Olve 4G (109) - Rita Serveert 2G (102) - Lin
 k: https://www.badmintonvlaanderen.be/sport/teammatch.aspx?id=E5F03216-461
 9-44A1-A21C-5EA724CB9432&match=1465
DTSTART;TZID=Europe/Brussels:20221009T223000
DTEND;TZID=Europe/Brussels:20221009T223000
END:VEVENT
BEGIN:VEVENT
UID:E5F03216-4619-44A1-A21C-5EA724CB9432-32-1487_homereminder@206.badminton
 ners.net
DTSTAMP:20260420T055125Z
SUMMARY:Thuismatch ingevuld? (Olve 4G (109) - Klein Boom 7G (105))
DESCRIPTION:Je hebt 36 uur na aanvang om een thuismatch op Badmintonvlaande
 ren in te vullen. Match info: Olve 4G (109) - Klein Boom 7G (105) - Link: 
 https://www.badmintonvlaanderen.be/sport/teammatch.aspx?id=E5F03216-4619-4
 4A1-A21C-5EA724CB9432&match=1487
DTSTART;TZID=Europe/Brussels:20221120T223000
DTEND;TZID=Europe/Brussels:20221120T223000
END:VEVENT
BEGIN:VEVENT
UID:E5F03216-4619-44A1-A21C-5EA724CB9432-32-1458_homereminder@206.badminton
 ners.net
DTSTAMP:20260420T055125Z
SUMMARY:Thuismatch ingevuld? (Olve 4G (109) - Plumula 3G (104))
DESCRIPTION:Je hebt 36 uur na aanvang om een thuismatch op Badmintonvlaande
 ren in te vullen. Match info: Olve 4G (109) - Plumula 3G (104) - Link: htt
 ps://www.badmintonvlaanderen.be/sport/teammatch.aspx?id=E5F03216-4619-44A1
 -A21C-5EA724CB9432&match=1458
DTSTART;TZID=Europe/Brussels:20221204T223000
DTEND;TZID=Europe/Brussels:20221204T223000
END:VEVENT
BEGIN:VEVENT
UID:E5F03216-4619-44A1-A21C-5EA724CB9432-32-1451_homereminder@206.badminton
 ners.net
DTSTAMP:20260420T055125Z
SUMMARY:Thuismatch ingevuld? (Olve 4G (109) - Waverse 3G (109))
DESCRIPTION:Je hebt 36 uur na aanvang om een thuismatch op Badmintonvlaande
 ren in te vullen. Match info: Olve 4G (109) - Waverse 3G (109) - Link: htt
 ps://www.badmintonvlaanderen.be/sport/teammatch.aspx?id=E5F03216-4619-44A1
 -A21C-5EA724CB9432&match=1451
DTSTART;TZID=Europe/Brussels:20221218T223000
DTEND;TZID=Europe/Brussels:20221218T223000
END:VEVENT
BEGIN:VEVENT
UID:E5F03216-4619-44A1-A21C-5EA724CB9432-32-1472_homereminder@206.badminton
 ners.net
DTSTAMP:20260420T055125Z
SUMMARY:Thuismatch ingevuld? (Olve 4G (109) - Spinshuttle 5G (105))
DESCRIPTION:Je hebt 36 uur na aanvang om een thuismatch op Badmintonvlaande
 ren in te vullen. Match info: Olve 4G (109) - Spinshuttle 5G (105) - Link:
  https://www.badmintonvlaanderen.be/sport/teammatch.aspx?id=E5F03216-4619-
 44A1-A21C-5EA724CB9432&match=1472
DTSTART;TZID=Europe/Brussels:20230129T223000
DTEND;TZID=Europe/Brussels:20230129T223000
END:VEVENT
BEGIN:VEVENT
UID:E5F03216-4619-44A1-A21C-5EA724CB9432-32-1444_homereminder@206.badminton
 ners.net
DTSTAMP:20260420T055125Z
SUMMARY:Thuismatch ingevuld? (Olve 4G (109) - Berlaar 3G (118))
DESCRIPTION:Je hebt 36 uur na aanvang om een thuismatch op Badmintonvlaande
 ren in te vullen. Match info: Olve 4G (109) - Berlaar 3G (118) - Link: htt
 ps://www.badmintonvlaanderen.be/sport/teammatch.aspx?id=E5F03216-4619-44A1
 -A21C-5EA724CB9432&match=1444
DTSTART;TZID=Europe/Brussels:20230312T223000
DTEND;TZID=Europe/Brussels:20230312T223000
END:VEVENT
BEGIN:VEVENT
UID:E5F03216-4619-44A1-A21C-5EA724CB9432-32-1494_homereminder@206.badminton
 ners.net
DTSTAMP:20260420T055125Z
SUMMARY:Thuismatch ingevuld? (Olve 4G (109) - Bacss 3G (103))
DESCRIPTION:Je hebt 36 uur na aanvang om een thuismatch op Badmintonvlaande
 ren in te vullen. Match info: Olve 4G (109) - Bacss 3G (103) - Link: https
 ://www.badmintonvlaanderen.be/sport/teammatch.aspx?id=E5F03216-4619-44A1-A
 21C-5EA724CB9432&match=1494
DTSTART;TZID=Europe/Brussels:20230423T223000
DTEND;TZID=Europe/Brussels:20230423T223000
END:VEVENT
BEGIN:VEVENT
UID:E5F03216-4619-44A1-A21C-5EA724CB9432-32-1479_awayreminder@206.badminton
 ners.net
DTSTAMP:20260420T055125Z
SUMMARY:Uitmatch bevestigd? (Spinshuttle 5G (105) - Olve 4G (109))
DESCRIPTION:Je hebt 72 uur na aanvang om een uitmatch op Badmintonvlaandere
 n in te vullen. Match info: Spinshuttle 5G (105) - Olve 4G (109) - Link: h
 ttps://www.badmintonvlaanderen.be/sport/teammatch.aspx?id=E5F03216-4619-44
 A1-A21C-5EA724CB9432&match=1479
DTSTART;TZID=Europe/Brussels:20221007T200000
DTEND;TZID=Europe/Brussels:20221007T200000
END:VEVENT
BEGIN:VEVENT
UID:E5F03216-4619-44A1-A21C-5EA724CB9432-32-1481_awayreminder@206.badminton
 ners.net
DTSTAMP:20260420T055125Z
SUMMARY:Uitmatch bevestigd? (Bacss 3G (103) - Olve 4G (109))
DESCRIPTION:Je hebt 72 uur na aanvang om een uitmatch op Badmintonvlaandere
 n in te vullen. Match info: Bacss 3G (103) - Olve 4G (109) - Link: https:/
 /www.badmintonvlaanderen.be/sport/teammatch.aspx?id=E5F03216-4619-44A1-A21
 C-5EA724CB9432&match=1481
DTSTART;TZID=Europe/Brussels:20221024T201500
DTEND;TZID=Europe/Brussels:20221024T201500
END:VEVENT
BEGIN:VEVENT
UID:E5F03216-4619-44A1-A21C-5EA724CB9432-32-1475_awayreminder@206.badminton
 ners.net
DTSTAMP:20260420T055125Z
SUMMARY:Uitmatch bevestigd? (Berlaar 3G (118) - Olve 4G (109))
DESCRIPTION:Je hebt 72 uur na aanvang om een uitmatch op Badmintonvlaandere
 n in te vullen. Match info: Berlaar 3G (118) - Olve 4G (109) - Link: https
 ://www.badmintonvlaanderen.be/sport/teammatch.aspx?id=E5F03216-4619-44A1-A
 21C-5EA724CB9432&match=1475
DTSTART;TZID=Europe/Brussels:20221207T093000
DTEND;TZID=Europe/Brussels:20221207T093000
END:VEVENT
BEGIN:VEVENT
UID:E5F03216-4619-44A1-A21C-5EA724CB9432-32-1478_awayreminder@206.badminton
 ners.net
DTSTAMP:20260420T055125Z
SUMMARY:Uitmatch bevestigd? (Rita Serveert 2G (102) - Olve 4G (109))
DESCRIPTION:Je hebt 72 uur na aanvang om een uitmatch op Badmintonvlaandere
 n in te vullen. Match info: Rita Serveert 2G (102) - Olve 4G (109) - Link:
  https://www.badmintonvlaanderen.be/sport/teammatch.aspx?id=E5F03216-4619-
 44A1-A21C-5EA724CB9432&match=1478
DTSTART;TZID=Europe/Brussels:20230118T190000
DTEND;TZID=Europe/Brussels:20230118T190000
END:VEVENT
BEGIN:VEVENT
UID:E5F03216-4619-44A1-A21C-5EA724CB9432-32-1477_awayreminder@206.badminton
 ners.net
DTSTAMP:20260420T055125Z
SUMMARY:Uitmatch bevestigd? (Plumula 3G (104) - Olve 4G (109))
DESCRIPTION:Je hebt 72 uur na aanvang om een uitmatch op Badmintonvlaandere
 n in te vullen. Match info: Plumula 3G (104) - Olve 4G (109) - Link: https
 ://www.badmintonvlaanderen.be/sport/teammatch.aspx?id=E5F03216-4619-44A1-A
 21C-5EA724CB9432&match=1477
DTSTART;TZID=Europe/Brussels:20230215T173000
DTEND;TZID=Europe/Brussels:20230215T173000
END:VEVENT
BEGIN:VEVENT
UID:E5F03216-4619-44A1-A21C-5EA724CB9432-32-1480_awayreminder@206.badminton
 ners.net
DTSTAMP:20260420T055125Z
SUMMARY:Uitmatch bevestigd? (Klein Boom 7G (105) - Olve 4G (109))
DESCRIPTION:Je hebt 72 uur na aanvang om een uitmatch op Badmintonvlaandere
 n in te vullen. Match info: Klein Boom 7G (105) - Olve 4G (109) - Link: ht
 tps://www.badmintonvlaanderen.be/sport/teammatch.aspx?id=E5F03216-4619-44A
 1-A21C-5EA724CB9432&match=1480
DTSTART;TZID=Europe/Brussels:20230223T200000
DTEND;TZID=Europe/Brussels:20230223T200000
END:VEVENT
BEGIN:VEVENT
UID:E5F03216-4619-44A1-A21C-5EA724CB9432-32-1476_awayreminder@206.badminton
 ners.net
DTSTAMP:20260420T055125Z
SUMMARY:Uitmatch bevestigd? (Waverse 3G (109) - Olve 4G (109))
DESCRIPTION:Je hebt 72 uur na aanvang om een uitmatch op Badmintonvlaandere
 n in te vullen. Match info: Waverse 3G (109) - Olve 4G (109) - Link: https
 ://www.badmintonvlaanderen.be/sport/teammatch.aspx?id=E5F03216-4619-44A1-A
 21C-5EA724CB9432&match=1476
DTSTART;TZID=Europe/Brussels:20230329T140000
DTEND;TZID=Europe/Brussels:20230329T140000
END:VEVENT
END:VCALENDAR