BEGIN:VCALENDAR
VERSION:2.0
PRODID:spatie/icalendar-generator
NAME:berlaar_1h_71_reminders
X-WR-CALNAME:berlaar_1h_71_reminders
BEGIN:VTIMEZONE
TZID:Europe/Brussels
BEGIN:DAYLIGHT
DTSTART:20220327T010000
TZOFFSETFROM:+0100
TZOFFSETTO:+0200
END:DAYLIGHT
BEGIN:STANDARD
DTSTART:20221030T030000
TZOFFSETFROM:+0200
TZOFFSETTO:+0100
END:STANDARD
BEGIN:DAYLIGHT
DTSTART:20230326T010000
TZOFFSETFROM:+0100
TZOFFSETTO:+0200
END:DAYLIGHT
BEGIN:STANDARD
DTSTART:20231029T030000
TZOFFSETFROM:+0200
TZOFFSETTO:+0100
END:STANDARD
END:VTIMEZONE
BEGIN:VTIMEZONE
TZID:UTC
BEGIN:STANDARD
DTSTART:20250724T055129
TZOFFSETFROM:+0000
TZOFFSETTO:+0000
END:STANDARD
END:VTIMEZONE
BEGIN:VEVENT
UID:E5F03216-4619-44A1-A21C-5EA724CB9432-6-281_homereminder@68.badmintonner
 s.net
DTSTAMP:20260420T055129Z
SUMMARY:Thuismatch ingevuld? (Berlaar 1H (71) - Spinshuttle 2H (67))
DESCRIPTION:Je hebt 36 uur na aanvang om een thuismatch op Badmintonvlaande
 ren in te vullen. Match info: Berlaar 1H (71) - Spinshuttle 2H (67) - Link
 : https://www.badmintonvlaanderen.be/sport/teammatch.aspx?id=E5F03216-4619
 -44A1-A21C-5EA724CB9432&match=281
DTSTART;TZID=Europe/Brussels:20221017T220000
DTEND;TZID=Europe/Brussels:20221017T220000
END:VEVENT
BEGIN:VEVENT
UID:E5F03216-4619-44A1-A21C-5EA724CB9432-6-262_homereminder@68.badmintonner
 s.net
DTSTAMP:20260420T055129Z
SUMMARY:Thuismatch ingevuld? (Berlaar 1H (71) - Duffel 2H (71))
DESCRIPTION:Je hebt 36 uur na aanvang om een thuismatch op Badmintonvlaande
 ren in te vullen. Match info: Berlaar 1H (71) - Duffel 2H (71) - Link: htt
 ps://www.badmintonvlaanderen.be/sport/teammatch.aspx?id=E5F03216-4619-44A1
 -A21C-5EA724CB9432&match=262
DTSTART;TZID=Europe/Brussels:20221031T220000
DTEND;TZID=Europe/Brussels:20221031T220000
END:VEVENT
BEGIN:VEVENT
UID:E5F03216-4619-44A1-A21C-5EA724CB9432-6-250_homereminder@68.badmintonner
 s.net
DTSTAMP:20260420T055129Z
SUMMARY:Thuismatch ingevuld? (Berlaar 1H (71) - Rita Serveert 3H (57))
DESCRIPTION:Je hebt 36 uur na aanvang om een thuismatch op Badmintonvlaande
 ren in te vullen. Match info: Berlaar 1H (71) - Rita Serveert 3H (57) - Li
 nk: https://www.badmintonvlaanderen.be/sport/teammatch.aspx?id=E5F03216-46
 19-44A1-A21C-5EA724CB9432&match=250
DTSTART;TZID=Europe/Brussels:20221212T220000
DTEND;TZID=Europe/Brussels:20221212T220000
END:VEVENT
BEGIN:VEVENT
UID:E5F03216-4619-44A1-A21C-5EA724CB9432-6-256_homereminder@68.badmintonner
 s.net
DTSTAMP:20260420T055129Z
SUMMARY:Thuismatch ingevuld? (Berlaar 1H (71) - Merksplas 2H (60))
DESCRIPTION:Je hebt 36 uur na aanvang om een thuismatch op Badmintonvlaande
 ren in te vullen. Match info: Berlaar 1H (71) - Merksplas 2H (60) - Link: 
 https://www.badmintonvlaanderen.be/sport/teammatch.aspx?id=E5F03216-4619-4
 4A1-A21C-5EA724CB9432&match=256
DTSTART;TZID=Europe/Brussels:20230123T220000
DTEND;TZID=Europe/Brussels:20230123T220000
END:VEVENT
BEGIN:VEVENT
UID:E5F03216-4619-44A1-A21C-5EA724CB9432-6-244_homereminder@68.badmintonner
 s.net
DTSTAMP:20260420T055129Z
SUMMARY:Thuismatch ingevuld? (Berlaar 1H (71) - Klein Boom 2H (58))
DESCRIPTION:Je hebt 36 uur na aanvang om een thuismatch op Badmintonvlaande
 ren in te vullen. Match info: Berlaar 1H (71) - Klein Boom 2H (58) - Link:
  https://www.badmintonvlaanderen.be/sport/teammatch.aspx?id=E5F03216-4619-
 44A1-A21C-5EA724CB9432&match=244
DTSTART;TZID=Europe/Brussels:20230206T220000
DTEND;TZID=Europe/Brussels:20230206T220000
END:VEVENT
BEGIN:VEVENT
UID:E5F03216-4619-44A1-A21C-5EA724CB9432-6-268_homereminder@68.badmintonner
 s.net
DTSTAMP:20260420T055129Z
SUMMARY:Thuismatch ingevuld? (Berlaar 1H (71) - Plumula 2H (59))
DESCRIPTION:Je hebt 36 uur na aanvang om een thuismatch op Badmintonvlaande
 ren in te vullen. Match info: Berlaar 1H (71) - Plumula 2H (59) - Link: ht
 tps://www.badmintonvlaanderen.be/sport/teammatch.aspx?id=E5F03216-4619-44A
 1-A21C-5EA724CB9432&match=268
DTSTART;TZID=Europe/Brussels:20230306T220000
DTEND;TZID=Europe/Brussels:20230306T220000
END:VEVENT
BEGIN:VEVENT
UID:E5F03216-4619-44A1-A21C-5EA724CB9432-6-272_awayreminder@68.badmintonner
 s.net
DTSTAMP:20260420T055129Z
SUMMARY:Uitmatch bevestigd? (Merksplas 2H (60) - Berlaar 1H (71))
DESCRIPTION:Je hebt 72 uur na aanvang om een uitmatch op Badmintonvlaandere
 n in te vullen. Match info: Merksplas 2H (60) - Berlaar 1H (71) - Link: ht
 tps://www.badmintonvlaanderen.be/sport/teammatch.aspx?id=E5F03216-4619-44A
 1-A21C-5EA724CB9432&match=272
DTSTART;TZID=Europe/Brussels:20220921T100000
DTEND;TZID=Europe/Brussels:20220921T100000
END:VEVENT
BEGIN:VEVENT
UID:E5F03216-4619-44A1-A21C-5EA724CB9432-6-274_awayreminder@68.badmintonner
 s.net
DTSTAMP:20260420T055129Z
SUMMARY:Uitmatch bevestigd? (Plumula 2H (59) - Berlaar 1H (71))
DESCRIPTION:Je hebt 72 uur na aanvang om een uitmatch op Badmintonvlaandere
 n in te vullen. Match info: Plumula 2H (59) - Berlaar 1H (71) - Link: http
 s://www.badmintonvlaanderen.be/sport/teammatch.aspx?id=E5F03216-4619-44A1-
 A21C-5EA724CB9432&match=274
DTSTART;TZID=Europe/Brussels:20221116T173000
DTEND;TZID=Europe/Brussels:20221116T173000
END:VEVENT
BEGIN:VEVENT
UID:E5F03216-4619-44A1-A21C-5EA724CB9432-6-270_awayreminder@68.badmintonner
 s.net
DTSTAMP:20260420T055129Z
SUMMARY:Uitmatch bevestigd? (Klein Boom 2H (58) - Berlaar 1H (71))
DESCRIPTION:Je hebt 72 uur na aanvang om een uitmatch op Badmintonvlaandere
 n in te vullen. Match info: Klein Boom 2H (58) - Berlaar 1H (71) - Link: h
 ttps://www.badmintonvlaanderen.be/sport/teammatch.aspx?id=E5F03216-4619-44
 A1-A21C-5EA724CB9432&match=270
DTSTART;TZID=Europe/Brussels:20221124T200000
DTEND;TZID=Europe/Brussels:20221124T200000
END:VEVENT
BEGIN:VEVENT
UID:E5F03216-4619-44A1-A21C-5EA724CB9432-6-273_awayreminder@68.badmintonner
 s.net
DTSTAMP:20260420T055129Z
SUMMARY:Uitmatch bevestigd? (Duffel 2H (71) - Berlaar 1H (71))
DESCRIPTION:Je hebt 72 uur na aanvang om een uitmatch op Badmintonvlaandere
 n in te vullen. Match info: Duffel 2H (71) - Berlaar 1H (71) - Link: https
 ://www.badmintonvlaanderen.be/sport/teammatch.aspx?id=E5F03216-4619-44A1-A
 21C-5EA724CB9432&match=273
DTSTART;TZID=Europe/Brussels:20230222T200000
DTEND;TZID=Europe/Brussels:20230222T200000
END:VEVENT
BEGIN:VEVENT
UID:E5F03216-4619-44A1-A21C-5EA724CB9432-6-275_awayreminder@68.badmintonner
 s.net
DTSTAMP:20260420T055129Z
SUMMARY:Uitmatch bevestigd? (Spinshuttle 2H (67) - Berlaar 1H (71))
DESCRIPTION:Je hebt 72 uur na aanvang om een uitmatch op Badmintonvlaandere
 n in te vullen. Match info: Spinshuttle 2H (67) - Berlaar 1H (71) - Link: 
 https://www.badmintonvlaanderen.be/sport/teammatch.aspx?id=E5F03216-4619-4
 4A1-A21C-5EA724CB9432&match=275
DTSTART;TZID=Europe/Brussels:20230331T200000
DTEND;TZID=Europe/Brussels:20230331T200000
END:VEVENT
BEGIN:VEVENT
UID:E5F03216-4619-44A1-A21C-5EA724CB9432-6-271_awayreminder@68.badmintonner
 s.net
DTSTAMP:20260420T055129Z
SUMMARY:Uitmatch bevestigd? (Rita Serveert 3H (57) - Berlaar 1H (71))
DESCRIPTION:Je hebt 72 uur na aanvang om een uitmatch op Badmintonvlaandere
 n in te vullen. Match info: Rita Serveert 3H (57) - Berlaar 1H (71) - Link
 : https://www.badmintonvlaanderen.be/sport/teammatch.aspx?id=E5F03216-4619
 -44A1-A21C-5EA724CB9432&match=271
DTSTART;TZID=Europe/Brussels:20230503T190000
DTEND;TZID=Europe/Brussels:20230503T190000
END:VEVENT
END:VCALENDAR