BEGIN:VCALENDAR
VERSION:2.0
PRODID:spatie/icalendar-generator
NAME:duffel_2h_71_reminders
X-WR-CALNAME:duffel_2h_71_reminders
BEGIN:VTIMEZONE
TZID:Europe/Brussels
BEGIN:DAYLIGHT
DTSTART:20220327T010000
TZOFFSETFROM:+0100
TZOFFSETTO:+0200
END:DAYLIGHT
BEGIN:STANDARD
DTSTART:20221030T030000
TZOFFSETFROM:+0200
TZOFFSETTO:+0100
END:STANDARD
BEGIN:DAYLIGHT
DTSTART:20230326T010000
TZOFFSETFROM:+0100
TZOFFSETTO:+0200
END:DAYLIGHT
END:VTIMEZONE
BEGIN:VTIMEZONE
TZID:UTC
BEGIN:STANDARD
DTSTART:20250724T055130
TZOFFSETFROM:+0000
TZOFFSETTO:+0000
END:STANDARD
END:VTIMEZONE
BEGIN:VEVENT
UID:E5F03216-4619-44A1-A21C-5EA724CB9432-6-267_homereminder@77.badmintonner
 s.net
DTSTAMP:20260420T055130Z
SUMMARY:Thuismatch ingevuld? (Duffel 2H (71) - Plumula 2H (59))
DESCRIPTION:Je hebt 36 uur na aanvang om een thuismatch op Badmintonvlaande
 ren in te vullen. Match info: Duffel 2H (71) - Plumula 2H (59) - Link: htt
 ps://www.badmintonvlaanderen.be/sport/teammatch.aspx?id=E5F03216-4619-44A1
 -A21C-5EA724CB9432&match=267
DTSTART;TZID=Europe/Brussels:20220920T080000
DTEND;TZID=Europe/Brussels:20220920T080000
END:VEVENT
BEGIN:VEVENT
UID:E5F03216-4619-44A1-A21C-5EA724CB9432-6-279_homereminder@77.badmintonner
 s.net
DTSTAMP:20260420T055130Z
SUMMARY:Thuismatch ingevuld? (Duffel 2H (71) - Spinshuttle 2H (67))
DESCRIPTION:Je hebt 36 uur na aanvang om een thuismatch op Badmintonvlaande
 ren in te vullen. Match info: Duffel 2H (71) - Spinshuttle 2H (67) - Link:
  https://www.badmintonvlaanderen.be/sport/teammatch.aspx?id=E5F03216-4619-
 44A1-A21C-5EA724CB9432&match=279
DTSTART;TZID=Europe/Brussels:20221115T080000
DTEND;TZID=Europe/Brussels:20221115T080000
END:VEVENT
BEGIN:VEVENT
UID:E5F03216-4619-44A1-A21C-5EA724CB9432-6-248_homereminder@77.badmintonner
 s.net
DTSTAMP:20260420T055130Z
SUMMARY:Thuismatch ingevuld? (Duffel 2H (71) - Rita Serveert 3H (57))
DESCRIPTION:Je hebt 36 uur na aanvang om een thuismatch op Badmintonvlaande
 ren in te vullen. Match info: Duffel 2H (71) - Rita Serveert 3H (57) - Lin
 k: https://www.badmintonvlaanderen.be/sport/teammatch.aspx?id=E5F03216-461
 9-44A1-A21C-5EA724CB9432&match=248
DTSTART;TZID=Europe/Brussels:20221206T080000
DTEND;TZID=Europe/Brussels:20221206T080000
END:VEVENT
BEGIN:VEVENT
UID:E5F03216-4619-44A1-A21C-5EA724CB9432-6-273_homereminder@77.badmintonner
 s.net
DTSTAMP:20260420T055130Z
SUMMARY:Thuismatch ingevuld? (Duffel 2H (71) - Berlaar 1H (71))
DESCRIPTION:Je hebt 36 uur na aanvang om een thuismatch op Badmintonvlaande
 ren in te vullen. Match info: Duffel 2H (71) - Berlaar 1H (71) - Link: htt
 ps://www.badmintonvlaanderen.be/sport/teammatch.aspx?id=E5F03216-4619-44A1
 -A21C-5EA724CB9432&match=273
DTSTART;TZID=Europe/Brussels:20230221T080000
DTEND;TZID=Europe/Brussels:20230221T080000
END:VEVENT
BEGIN:VEVENT
UID:E5F03216-4619-44A1-A21C-5EA724CB9432-6-242_homereminder@77.badmintonner
 s.net
DTSTAMP:20260420T055130Z
SUMMARY:Thuismatch ingevuld? (Duffel 2H (71) - Klein Boom 2H (58))
DESCRIPTION:Je hebt 36 uur na aanvang om een thuismatch op Badmintonvlaande
 ren in te vullen. Match info: Duffel 2H (71) - Klein Boom 2H (58) - Link: 
 https://www.badmintonvlaanderen.be/sport/teammatch.aspx?id=E5F03216-4619-4
 4A1-A21C-5EA724CB9432&match=242
DTSTART;TZID=Europe/Brussels:20230321T080000
DTEND;TZID=Europe/Brussels:20230321T080000
END:VEVENT
BEGIN:VEVENT
UID:E5F03216-4619-44A1-A21C-5EA724CB9432-6-254_homereminder@77.badmintonner
 s.net
DTSTAMP:20260420T055130Z
SUMMARY:Thuismatch ingevuld? (Duffel 2H (71) - Merksplas 2H (60))
DESCRIPTION:Je hebt 36 uur na aanvang om een thuismatch op Badmintonvlaande
 ren in te vullen. Match info: Duffel 2H (71) - Merksplas 2H (60) - Link: h
 ttps://www.badmintonvlaanderen.be/sport/teammatch.aspx?id=E5F03216-4619-44
 A1-A21C-5EA724CB9432&match=254
DTSTART;TZID=Europe/Brussels:20230418T080000
DTEND;TZID=Europe/Brussels:20230418T080000
END:VEVENT
BEGIN:VEVENT
UID:E5F03216-4619-44A1-A21C-5EA724CB9432-6-258_awayreminder@77.badmintonner
 s.net
DTSTAMP:20260420T055130Z
SUMMARY:Uitmatch bevestigd? (Klein Boom 2H (58) - Duffel 2H (71))
DESCRIPTION:Je hebt 72 uur na aanvang om een uitmatch op Badmintonvlaandere
 n in te vullen. Match info: Klein Boom 2H (58) - Duffel 2H (71) - Link: ht
 tps://www.badmintonvlaanderen.be/sport/teammatch.aspx?id=E5F03216-4619-44A
 1-A21C-5EA724CB9432&match=258
DTSTART;TZID=Europe/Brussels:20221013T200000
DTEND;TZID=Europe/Brussels:20221013T200000
END:VEVENT
BEGIN:VEVENT
UID:E5F03216-4619-44A1-A21C-5EA724CB9432-6-262_awayreminder@77.badmintonner
 s.net
DTSTAMP:20260420T055130Z
SUMMARY:Uitmatch bevestigd? (Berlaar 1H (71) - Duffel 2H (71))
DESCRIPTION:Je hebt 72 uur na aanvang om een uitmatch op Badmintonvlaandere
 n in te vullen. Match info: Berlaar 1H (71) - Duffel 2H (71) - Link: https
 ://www.badmintonvlaanderen.be/sport/teammatch.aspx?id=E5F03216-4619-44A1-A
 21C-5EA724CB9432&match=262
DTSTART;TZID=Europe/Brussels:20221102T100000
DTEND;TZID=Europe/Brussels:20221102T100000
END:VEVENT
BEGIN:VEVENT
UID:E5F03216-4619-44A1-A21C-5EA724CB9432-6-260_awayreminder@77.badmintonner
 s.net
DTSTAMP:20260420T055130Z
SUMMARY:Uitmatch bevestigd? (Merksplas 2H (60) - Duffel 2H (71))
DESCRIPTION:Je hebt 72 uur na aanvang om een uitmatch op Badmintonvlaandere
 n in te vullen. Match info: Merksplas 2H (60) - Duffel 2H (71) - Link: htt
 ps://www.badmintonvlaanderen.be/sport/teammatch.aspx?id=E5F03216-4619-44A1
 -A21C-5EA724CB9432&match=260
DTSTART;TZID=Europe/Brussels:20221130T100000
DTEND;TZID=Europe/Brussels:20221130T100000
END:VEVENT
BEGIN:VEVENT
UID:E5F03216-4619-44A1-A21C-5EA724CB9432-6-261_awayreminder@77.badmintonner
 s.net
DTSTAMP:20260420T055130Z
SUMMARY:Uitmatch bevestigd? (Plumula 2H (59) - Duffel 2H (71))
DESCRIPTION:Je hebt 72 uur na aanvang om een uitmatch op Badmintonvlaandere
 n in te vullen. Match info: Plumula 2H (59) - Duffel 2H (71) - Link: https
 ://www.badmintonvlaanderen.be/sport/teammatch.aspx?id=E5F03216-4619-44A1-A
 21C-5EA724CB9432&match=261
DTSTART;TZID=Europe/Brussels:20230125T173000
DTEND;TZID=Europe/Brussels:20230125T173000
END:VEVENT
BEGIN:VEVENT
UID:E5F03216-4619-44A1-A21C-5EA724CB9432-6-263_awayreminder@77.badmintonner
 s.net
DTSTAMP:20260420T055130Z
SUMMARY:Uitmatch bevestigd? (Spinshuttle 2H (67) - Duffel 2H (71))
DESCRIPTION:Je hebt 72 uur na aanvang om een uitmatch op Badmintonvlaandere
 n in te vullen. Match info: Spinshuttle 2H (67) - Duffel 2H (71) - Link: h
 ttps://www.badmintonvlaanderen.be/sport/teammatch.aspx?id=E5F03216-4619-44
 A1-A21C-5EA724CB9432&match=263
DTSTART;TZID=Europe/Brussels:20230303T200000
DTEND;TZID=Europe/Brussels:20230303T200000
END:VEVENT
BEGIN:VEVENT
UID:E5F03216-4619-44A1-A21C-5EA724CB9432-6-259_awayreminder@77.badmintonner
 s.net
DTSTAMP:20260420T055130Z
SUMMARY:Uitmatch bevestigd? (Rita Serveert 3H (57) - Duffel 2H (71))
DESCRIPTION:Je hebt 72 uur na aanvang om een uitmatch op Badmintonvlaandere
 n in te vullen. Match info: Rita Serveert 3H (57) - Duffel 2H (71) - Link:
  https://www.badmintonvlaanderen.be/sport/teammatch.aspx?id=E5F03216-4619-
 44A1-A21C-5EA724CB9432&match=259
DTSTART;TZID=Europe/Brussels:20230405T190000
DTEND;TZID=Europe/Brussels:20230405T190000
END:VEVENT
END:VCALENDAR