BEGIN:VCALENDAR
VERSION:2.0
PRODID:spatie/icalendar-generator
NAME:spinshuttle_2h_67_reminders
X-WR-CALNAME:spinshuttle_2h_67_reminders
BEGIN:VTIMEZONE
TZID:Europe/Brussels
BEGIN:DAYLIGHT
DTSTART:20220327T010000
TZOFFSETFROM:+0100
TZOFFSETTO:+0200
END:DAYLIGHT
BEGIN:STANDARD
DTSTART:20221030T030000
TZOFFSETFROM:+0200
TZOFFSETTO:+0100
END:STANDARD
BEGIN:DAYLIGHT
DTSTART:20230326T010000
TZOFFSETFROM:+0100
TZOFFSETTO:+0200
END:DAYLIGHT
BEGIN:STANDARD
DTSTART:20231029T030000
TZOFFSETFROM:+0200
TZOFFSETTO:+0100
END:STANDARD
END:VTIMEZONE
BEGIN:VTIMEZONE
TZID:UTC
BEGIN:STANDARD
DTSTART:20250724T055130
TZOFFSETFROM:+0000
TZOFFSETTO:+0000
END:STANDARD
END:VTIMEZONE
BEGIN:VEVENT
UID:E5F03216-4619-44A1-A21C-5EA724CB9432-6-269_homereminder@80.badmintonner
 s.net
DTSTAMP:20260420T055130Z
SUMMARY:Thuismatch ingevuld? (Spinshuttle 2H (67) - Plumula 2H (59))
DESCRIPTION:Je hebt 36 uur na aanvang om een thuismatch op Badmintonvlaande
 ren in te vullen. Match info: Spinshuttle 2H (67) - Plumula 2H (59) - Link
 : https://www.badmintonvlaanderen.be/sport/teammatch.aspx?id=E5F03216-4619
 -44A1-A21C-5EA724CB9432&match=269
DTSTART;TZID=Europe/Brussels:20221013T080000
DTEND;TZID=Europe/Brussels:20221013T080000
END:VEVENT
BEGIN:VEVENT
UID:E5F03216-4619-44A1-A21C-5EA724CB9432-6-257_homereminder@80.badmintonner
 s.net
DTSTAMP:20260420T055130Z
SUMMARY:Thuismatch ingevuld? (Spinshuttle 2H (67) - Merksplas 2H (60))
DESCRIPTION:Je hebt 36 uur na aanvang om een thuismatch op Badmintonvlaande
 ren in te vullen. Match info: Spinshuttle 2H (67) - Merksplas 2H (60) - Li
 nk: https://www.badmintonvlaanderen.be/sport/teammatch.aspx?id=E5F03216-46
 19-44A1-A21C-5EA724CB9432&match=257
DTSTART;TZID=Europe/Brussels:20221027T080000
DTEND;TZID=Europe/Brussels:20221027T080000
END:VEVENT
BEGIN:VEVENT
UID:E5F03216-4619-44A1-A21C-5EA724CB9432-6-245_homereminder@80.badmintonner
 s.net
DTSTAMP:20260420T055130Z
SUMMARY:Thuismatch ingevuld? (Spinshuttle 2H (67) - Klein Boom 2H (58))
DESCRIPTION:Je hebt 36 uur na aanvang om een thuismatch op Badmintonvlaande
 ren in te vullen. Match info: Spinshuttle 2H (67) - Klein Boom 2H (58) - L
 ink: https://www.badmintonvlaanderen.be/sport/teammatch.aspx?id=E5F03216-4
 619-44A1-A21C-5EA724CB9432&match=245
DTSTART;TZID=Europe/Brussels:20221208T080000
DTEND;TZID=Europe/Brussels:20221208T080000
END:VEVENT
BEGIN:VEVENT
UID:E5F03216-4619-44A1-A21C-5EA724CB9432-6-251_homereminder@80.badmintonner
 s.net
DTSTAMP:20260420T055130Z
SUMMARY:Thuismatch ingevuld? (Spinshuttle 2H (67) - Rita Serveert 3H (57))
DESCRIPTION:Je hebt 36 uur na aanvang om een thuismatch op Badmintonvlaande
 ren in te vullen. Match info: Spinshuttle 2H (67) - Rita Serveert 3H (57) 
 - Link: https://www.badmintonvlaanderen.be/sport/teammatch.aspx?id=E5F0321
 6-4619-44A1-A21C-5EA724CB9432&match=251
DTSTART;TZID=Europe/Brussels:20230119T080000
DTEND;TZID=Europe/Brussels:20230119T080000
END:VEVENT
BEGIN:VEVENT
UID:E5F03216-4619-44A1-A21C-5EA724CB9432-6-263_homereminder@80.badmintonner
 s.net
DTSTAMP:20260420T055130Z
SUMMARY:Thuismatch ingevuld? (Spinshuttle 2H (67) - Duffel 2H (71))
DESCRIPTION:Je hebt 36 uur na aanvang om een thuismatch op Badmintonvlaande
 ren in te vullen. Match info: Spinshuttle 2H (67) - Duffel 2H (71) - Link:
  https://www.badmintonvlaanderen.be/sport/teammatch.aspx?id=E5F03216-4619-
 44A1-A21C-5EA724CB9432&match=263
DTSTART;TZID=Europe/Brussels:20230302T080000
DTEND;TZID=Europe/Brussels:20230302T080000
END:VEVENT
BEGIN:VEVENT
UID:E5F03216-4619-44A1-A21C-5EA724CB9432-6-275_homereminder@80.badmintonner
 s.net
DTSTAMP:20260420T055130Z
SUMMARY:Thuismatch ingevuld? (Spinshuttle 2H (67) - Berlaar 1H (71))
DESCRIPTION:Je hebt 36 uur na aanvang om een thuismatch op Badmintonvlaande
 ren in te vullen. Match info: Spinshuttle 2H (67) - Berlaar 1H (71) - Link
 : https://www.badmintonvlaanderen.be/sport/teammatch.aspx?id=E5F03216-4619
 -44A1-A21C-5EA724CB9432&match=275
DTSTART;TZID=Europe/Brussels:20230330T080000
DTEND;TZID=Europe/Brussels:20230330T080000
END:VEVENT
BEGIN:VEVENT
UID:E5F03216-4619-44A1-A21C-5EA724CB9432-6-281_awayreminder@80.badmintonner
 s.net
DTSTAMP:20260420T055130Z
SUMMARY:Uitmatch bevestigd? (Berlaar 1H (71) - Spinshuttle 2H (67))
DESCRIPTION:Je hebt 72 uur na aanvang om een uitmatch op Badmintonvlaandere
 n in te vullen. Match info: Berlaar 1H (71) - Spinshuttle 2H (67) - Link: 
 https://www.badmintonvlaanderen.be/sport/teammatch.aspx?id=E5F03216-4619-4
 4A1-A21C-5EA724CB9432&match=281
DTSTART;TZID=Europe/Brussels:20221019T100000
DTEND;TZID=Europe/Brussels:20221019T100000
END:VEVENT
BEGIN:VEVENT
UID:E5F03216-4619-44A1-A21C-5EA724CB9432-6-277_awayreminder@80.badmintonner
 s.net
DTSTAMP:20260420T055130Z
SUMMARY:Uitmatch bevestigd? (Rita Serveert 3H (57) - Spinshuttle 2H (67))
DESCRIPTION:Je hebt 72 uur na aanvang om een uitmatch op Badmintonvlaandere
 n in te vullen. Match info: Rita Serveert 3H (57) - Spinshuttle 2H (67) - 
 Link: https://www.badmintonvlaanderen.be/sport/teammatch.aspx?id=E5F03216-
 4619-44A1-A21C-5EA724CB9432&match=277
DTSTART;TZID=Europe/Brussels:20221026T190000
DTEND;TZID=Europe/Brussels:20221026T190000
END:VEVENT
BEGIN:VEVENT
UID:E5F03216-4619-44A1-A21C-5EA724CB9432-6-279_awayreminder@80.badmintonner
 s.net
DTSTAMP:20260420T055130Z
SUMMARY:Uitmatch bevestigd? (Duffel 2H (71) - Spinshuttle 2H (67))
DESCRIPTION:Je hebt 72 uur na aanvang om een uitmatch op Badmintonvlaandere
 n in te vullen. Match info: Duffel 2H (71) - Spinshuttle 2H (67) - Link: h
 ttps://www.badmintonvlaanderen.be/sport/teammatch.aspx?id=E5F03216-4619-44
 A1-A21C-5EA724CB9432&match=279
DTSTART;TZID=Europe/Brussels:20221116T200000
DTEND;TZID=Europe/Brussels:20221116T200000
END:VEVENT
BEGIN:VEVENT
UID:E5F03216-4619-44A1-A21C-5EA724CB9432-6-278_awayreminder@80.badmintonner
 s.net
DTSTAMP:20260420T055130Z
SUMMARY:Uitmatch bevestigd? (Merksplas 2H (60) - Spinshuttle 2H (67))
DESCRIPTION:Je hebt 72 uur na aanvang om een uitmatch op Badmintonvlaandere
 n in te vullen. Match info: Merksplas 2H (60) - Spinshuttle 2H (67) - Link
 : https://www.badmintonvlaanderen.be/sport/teammatch.aspx?id=E5F03216-4619
 -44A1-A21C-5EA724CB9432&match=278
DTSTART;TZID=Europe/Brussels:20230222T100000
DTEND;TZID=Europe/Brussels:20230222T100000
END:VEVENT
BEGIN:VEVENT
UID:E5F03216-4619-44A1-A21C-5EA724CB9432-6-280_awayreminder@80.badmintonner
 s.net
DTSTAMP:20260420T055130Z
SUMMARY:Uitmatch bevestigd? (Plumula 2H (59) - Spinshuttle 2H (67))
DESCRIPTION:Je hebt 72 uur na aanvang om een uitmatch op Badmintonvlaandere
 n in te vullen. Match info: Plumula 2H (59) - Spinshuttle 2H (67) - Link: 
 https://www.badmintonvlaanderen.be/sport/teammatch.aspx?id=E5F03216-4619-4
 4A1-A21C-5EA724CB9432&match=280
DTSTART;TZID=Europe/Brussels:20230322T173000
DTEND;TZID=Europe/Brussels:20230322T173000
END:VEVENT
BEGIN:VEVENT
UID:E5F03216-4619-44A1-A21C-5EA724CB9432-6-276_awayreminder@80.badmintonner
 s.net
DTSTAMP:20260420T055130Z
SUMMARY:Uitmatch bevestigd? (Klein Boom 2H (58) - Spinshuttle 2H (67))
DESCRIPTION:Je hebt 72 uur na aanvang om een uitmatch op Badmintonvlaandere
 n in te vullen. Match info: Klein Boom 2H (58) - Spinshuttle 2H (67) - Lin
 k: https://www.badmintonvlaanderen.be/sport/teammatch.aspx?id=E5F03216-461
 9-44A1-A21C-5EA724CB9432&match=276
DTSTART;TZID=Europe/Brussels:20230427T200000
DTEND;TZID=Europe/Brussels:20230427T200000
END:VEVENT
END:VCALENDAR