BEGIN:VCALENDAR
VERSION:2.0
PRODID:spatie/icalendar-generator
NAME:plumula_2h_59_reminders
X-WR-CALNAME:plumula_2h_59_reminders
BEGIN:VTIMEZONE
TZID:Europe/Brussels
BEGIN:DAYLIGHT
DTSTART:20220327T010000
TZOFFSETFROM:+0100
TZOFFSETTO:+0200
END:DAYLIGHT
BEGIN:STANDARD
DTSTART:20221030T030000
TZOFFSETFROM:+0200
TZOFFSETTO:+0100
END:STANDARD
BEGIN:DAYLIGHT
DTSTART:20230326T010000
TZOFFSETFROM:+0100
TZOFFSETTO:+0200
END:DAYLIGHT
BEGIN:STANDARD
DTSTART:20231029T030000
TZOFFSETFROM:+0200
TZOFFSETTO:+0100
END:STANDARD
END:VTIMEZONE
BEGIN:VTIMEZONE
TZID:UTC
BEGIN:STANDARD
DTSTART:20250724T072406
TZOFFSETFROM:+0000
TZOFFSETTO:+0000
END:STANDARD
END:VTIMEZONE
BEGIN:VEVENT
UID:E5F03216-4619-44A1-A21C-5EA724CB9432-6-243_homereminder@81.badmintonner
 s.net
DTSTAMP:20260420T072406Z
SUMMARY:Thuismatch ingevuld? (Plumula 2H (59) - Klein Boom 2H (58))
DESCRIPTION:Je hebt 36 uur na aanvang om een thuismatch op Badmintonvlaande
 ren in te vullen. Match info: Plumula 2H (59) - Klein Boom 2H (58) - Link:
  https://www.badmintonvlaanderen.be/sport/teammatch.aspx?id=E5F03216-4619-
 44A1-A21C-5EA724CB9432&match=243
DTSTART;TZID=Europe/Brussels:20221004T053000
DTEND;TZID=Europe/Brussels:20221004T053000
END:VEVENT
BEGIN:VEVENT
UID:E5F03216-4619-44A1-A21C-5EA724CB9432-6-274_homereminder@81.badmintonner
 s.net
DTSTAMP:20260420T072406Z
SUMMARY:Thuismatch ingevuld? (Plumula 2H (59) - Berlaar 1H (71))
DESCRIPTION:Je hebt 36 uur na aanvang om een thuismatch op Badmintonvlaande
 ren in te vullen. Match info: Plumula 2H (59) - Berlaar 1H (71) - Link: ht
 tps://www.badmintonvlaanderen.be/sport/teammatch.aspx?id=E5F03216-4619-44A
 1-A21C-5EA724CB9432&match=274
DTSTART;TZID=Europe/Brussels:20221115T053000
DTEND;TZID=Europe/Brussels:20221115T053000
END:VEVENT
BEGIN:VEVENT
UID:E5F03216-4619-44A1-A21C-5EA724CB9432-6-255_homereminder@81.badmintonner
 s.net
DTSTAMP:20260420T072406Z
SUMMARY:Thuismatch ingevuld? (Plumula 2H (59) - Merksplas 2H (60))
DESCRIPTION:Je hebt 36 uur na aanvang om een thuismatch op Badmintonvlaande
 ren in te vullen. Match info: Plumula 2H (59) - Merksplas 2H (60) - Link: 
 https://www.badmintonvlaanderen.be/sport/teammatch.aspx?id=E5F03216-4619-4
 4A1-A21C-5EA724CB9432&match=255
DTSTART;TZID=Europe/Brussels:20221213T053000
DTEND;TZID=Europe/Brussels:20221213T053000
END:VEVENT
BEGIN:VEVENT
UID:E5F03216-4619-44A1-A21C-5EA724CB9432-6-261_homereminder@81.badmintonner
 s.net
DTSTAMP:20260420T072406Z
SUMMARY:Thuismatch ingevuld? (Plumula 2H (59) - Duffel 2H (71))
DESCRIPTION:Je hebt 36 uur na aanvang om een thuismatch op Badmintonvlaande
 ren in te vullen. Match info: Plumula 2H (59) - Duffel 2H (71) - Link: htt
 ps://www.badmintonvlaanderen.be/sport/teammatch.aspx?id=E5F03216-4619-44A1
 -A21C-5EA724CB9432&match=261
DTSTART;TZID=Europe/Brussels:20230124T053000
DTEND;TZID=Europe/Brussels:20230124T053000
END:VEVENT
BEGIN:VEVENT
UID:E5F03216-4619-44A1-A21C-5EA724CB9432-6-280_homereminder@81.badmintonner
 s.net
DTSTAMP:20260420T072406Z
SUMMARY:Thuismatch ingevuld? (Plumula 2H (59) - Spinshuttle 2H (67))
DESCRIPTION:Je hebt 36 uur na aanvang om een thuismatch op Badmintonvlaande
 ren in te vullen. Match info: Plumula 2H (59) - Spinshuttle 2H (67) - Link
 : https://www.badmintonvlaanderen.be/sport/teammatch.aspx?id=E5F03216-4619
 -44A1-A21C-5EA724CB9432&match=280
DTSTART;TZID=Europe/Brussels:20230321T053000
DTEND;TZID=Europe/Brussels:20230321T053000
END:VEVENT
BEGIN:VEVENT
UID:E5F03216-4619-44A1-A21C-5EA724CB9432-6-249_homereminder@81.badmintonner
 s.net
DTSTAMP:20260420T072406Z
SUMMARY:Thuismatch ingevuld? (Plumula 2H (59) - Rita Serveert 3H (57))
DESCRIPTION:Je hebt 36 uur na aanvang om een thuismatch op Badmintonvlaande
 ren in te vullen. Match info: Plumula 2H (59) - Rita Serveert 3H (57) - Li
 nk: https://www.badmintonvlaanderen.be/sport/teammatch.aspx?id=E5F03216-46
 19-44A1-A21C-5EA724CB9432&match=249
DTSTART;TZID=Europe/Brussels:20230418T053000
DTEND;TZID=Europe/Brussels:20230418T053000
END:VEVENT
BEGIN:VEVENT
UID:E5F03216-4619-44A1-A21C-5EA724CB9432-6-267_awayreminder@81.badmintonner
 s.net
DTSTAMP:20260420T072406Z
SUMMARY:Uitmatch bevestigd? (Duffel 2H (71) - Plumula 2H (59))
DESCRIPTION:Je hebt 72 uur na aanvang om een uitmatch op Badmintonvlaandere
 n in te vullen. Match info: Duffel 2H (71) - Plumula 2H (59) - Link: https
 ://www.badmintonvlaanderen.be/sport/teammatch.aspx?id=E5F03216-4619-44A1-A
 21C-5EA724CB9432&match=267
DTSTART;TZID=Europe/Brussels:20220921T200000
DTEND;TZID=Europe/Brussels:20220921T200000
END:VEVENT
BEGIN:VEVENT
UID:E5F03216-4619-44A1-A21C-5EA724CB9432-6-269_awayreminder@81.badmintonner
 s.net
DTSTAMP:20260420T072406Z
SUMMARY:Uitmatch bevestigd? (Spinshuttle 2H (67) - Plumula 2H (59))
DESCRIPTION:Je hebt 72 uur na aanvang om een uitmatch op Badmintonvlaandere
 n in te vullen. Match info: Spinshuttle 2H (67) - Plumula 2H (59) - Link: 
 https://www.badmintonvlaanderen.be/sport/teammatch.aspx?id=E5F03216-4619-4
 4A1-A21C-5EA724CB9432&match=269
DTSTART;TZID=Europe/Brussels:20221014T200000
DTEND;TZID=Europe/Brussels:20221014T200000
END:VEVENT
BEGIN:VEVENT
UID:E5F03216-4619-44A1-A21C-5EA724CB9432-6-265_awayreminder@81.badmintonner
 s.net
DTSTAMP:20260420T072406Z
SUMMARY:Uitmatch bevestigd? (Rita Serveert 3H (57) - Plumula 2H (59))
DESCRIPTION:Je hebt 72 uur na aanvang om een uitmatch op Badmintonvlaandere
 n in te vullen. Match info: Rita Serveert 3H (57) - Plumula 2H (59) - Link
 : https://www.badmintonvlaanderen.be/sport/teammatch.aspx?id=E5F03216-4619
 -44A1-A21C-5EA724CB9432&match=265
DTSTART;TZID=Europe/Brussels:20221221T190000
DTEND;TZID=Europe/Brussels:20221221T190000
END:VEVENT
BEGIN:VEVENT
UID:E5F03216-4619-44A1-A21C-5EA724CB9432-6-264_awayreminder@81.badmintonner
 s.net
DTSTAMP:20260420T072406Z
SUMMARY:Uitmatch bevestigd? (Klein Boom 2H (58) - Plumula 2H (59))
DESCRIPTION:Je hebt 72 uur na aanvang om een uitmatch op Badmintonvlaandere
 n in te vullen. Match info: Klein Boom 2H (58) - Plumula 2H (59) - Link: h
 ttps://www.badmintonvlaanderen.be/sport/teammatch.aspx?id=E5F03216-4619-44
 A1-A21C-5EA724CB9432&match=264
DTSTART;TZID=Europe/Brussels:20230202T200000
DTEND;TZID=Europe/Brussels:20230202T200000
END:VEVENT
BEGIN:VEVENT
UID:E5F03216-4619-44A1-A21C-5EA724CB9432-6-268_awayreminder@81.badmintonner
 s.net
DTSTAMP:20260420T072406Z
SUMMARY:Uitmatch bevestigd? (Berlaar 1H (71) - Plumula 2H (59))
DESCRIPTION:Je hebt 72 uur na aanvang om een uitmatch op Badmintonvlaandere
 n in te vullen. Match info: Berlaar 1H (71) - Plumula 2H (59) - Link: http
 s://www.badmintonvlaanderen.be/sport/teammatch.aspx?id=E5F03216-4619-44A1-
 A21C-5EA724CB9432&match=268
DTSTART;TZID=Europe/Brussels:20230308T100000
DTEND;TZID=Europe/Brussels:20230308T100000
END:VEVENT
BEGIN:VEVENT
UID:E5F03216-4619-44A1-A21C-5EA724CB9432-6-266_awayreminder@81.badmintonner
 s.net
DTSTAMP:20260420T072406Z
SUMMARY:Uitmatch bevestigd? (Merksplas 2H (60) - Plumula 2H (59))
DESCRIPTION:Je hebt 72 uur na aanvang om een uitmatch op Badmintonvlaandere
 n in te vullen. Match info: Merksplas 2H (60) - Plumula 2H (59) - Link: ht
 tps://www.badmintonvlaanderen.be/sport/teammatch.aspx?id=E5F03216-4619-44A
 1-A21C-5EA724CB9432&match=266
DTSTART;TZID=Europe/Brussels:20230503T100000
DTEND;TZID=Europe/Brussels:20230503T100000
END:VEVENT
END:VCALENDAR