BEGIN:VCALENDAR
VERSION:2.0
PRODID:spatie/icalendar-generator
NAME:rita_serveert_3h_57_reminders
X-WR-CALNAME:rita_serveert_3h_57_reminders
BEGIN:VTIMEZONE
TZID:Europe/Brussels
BEGIN:DAYLIGHT
DTSTART:20220327T010000
TZOFFSETFROM:+0100
TZOFFSETTO:+0200
END:DAYLIGHT
BEGIN:STANDARD
DTSTART:20221030T030000
TZOFFSETFROM:+0200
TZOFFSETTO:+0100
END:STANDARD
BEGIN:DAYLIGHT
DTSTART:20230326T010000
TZOFFSETFROM:+0100
TZOFFSETTO:+0200
END:DAYLIGHT
BEGIN:STANDARD
DTSTART:20231029T030000
TZOFFSETFROM:+0200
TZOFFSETTO:+0100
END:STANDARD
END:VTIMEZONE
BEGIN:VTIMEZONE
TZID:UTC
BEGIN:STANDARD
DTSTART:20250724T055128
TZOFFSETFROM:+0000
TZOFFSETTO:+0000
END:STANDARD
END:VTIMEZONE
BEGIN:VEVENT
UID:E5F03216-4619-44A1-A21C-5EA724CB9432-6-277_homereminder@83.badmintonner
 s.net
DTSTAMP:20260420T055128Z
SUMMARY:Thuismatch ingevuld? (Rita Serveert 3H (57) - Spinshuttle 2H (67))
DESCRIPTION:Je hebt 36 uur na aanvang om een thuismatch op Badmintonvlaande
 ren in te vullen. Match info: Rita Serveert 3H (57) - Spinshuttle 2H (67) 
 - Link: https://www.badmintonvlaanderen.be/sport/teammatch.aspx?id=E5F0321
 6-4619-44A1-A21C-5EA724CB9432&match=277
DTSTART;TZID=Europe/Brussels:20221025T070000
DTEND;TZID=Europe/Brussels:20221025T070000
END:VEVENT
BEGIN:VEVENT
UID:E5F03216-4619-44A1-A21C-5EA724CB9432-6-253_homereminder@83.badmintonner
 s.net
DTSTAMP:20260420T055128Z
SUMMARY:Thuismatch ingevuld? (Rita Serveert 3H (57) - Merksplas 2H (60))
DESCRIPTION:Je hebt 36 uur na aanvang om een thuismatch op Badmintonvlaande
 ren in te vullen. Match info: Rita Serveert 3H (57) - Merksplas 2H (60) - 
 Link: https://www.badmintonvlaanderen.be/sport/teammatch.aspx?id=E5F03216-
 4619-44A1-A21C-5EA724CB9432&match=253
DTSTART;TZID=Europe/Brussels:20221101T070000
DTEND;TZID=Europe/Brussels:20221101T070000
END:VEVENT
BEGIN:VEVENT
UID:E5F03216-4619-44A1-A21C-5EA724CB9432-6-265_homereminder@83.badmintonner
 s.net
DTSTAMP:20260420T055128Z
SUMMARY:Thuismatch ingevuld? (Rita Serveert 3H (57) - Plumula 2H (59))
DESCRIPTION:Je hebt 36 uur na aanvang om een thuismatch op Badmintonvlaande
 ren in te vullen. Match info: Rita Serveert 3H (57) - Plumula 2H (59) - Li
 nk: https://www.badmintonvlaanderen.be/sport/teammatch.aspx?id=E5F03216-46
 19-44A1-A21C-5EA724CB9432&match=265
DTSTART;TZID=Europe/Brussels:20221220T070000
DTEND;TZID=Europe/Brussels:20221220T070000
END:VEVENT
BEGIN:VEVENT
UID:E5F03216-4619-44A1-A21C-5EA724CB9432-6-240_homereminder@83.badmintonner
 s.net
DTSTAMP:20260420T055128Z
SUMMARY:Thuismatch ingevuld? (Rita Serveert 3H (57) - Klein Boom 2H (58))
DESCRIPTION:Je hebt 36 uur na aanvang om een thuismatch op Badmintonvlaande
 ren in te vullen. Match info: Rita Serveert 3H (57) - Klein Boom 2H (58) -
  Link: https://www.badmintonvlaanderen.be/sport/teammatch.aspx?id=E5F03216
 -4619-44A1-A21C-5EA724CB9432&match=240
DTSTART;TZID=Europe/Brussels:20230221T070000
DTEND;TZID=Europe/Brussels:20230221T070000
END:VEVENT
BEGIN:VEVENT
UID:E5F03216-4619-44A1-A21C-5EA724CB9432-6-259_homereminder@83.badmintonner
 s.net
DTSTAMP:20260420T055128Z
SUMMARY:Thuismatch ingevuld? (Rita Serveert 3H (57) - Duffel 2H (71))
DESCRIPTION:Je hebt 36 uur na aanvang om een thuismatch op Badmintonvlaande
 ren in te vullen. Match info: Rita Serveert 3H (57) - Duffel 2H (71) - Lin
 k: https://www.badmintonvlaanderen.be/sport/teammatch.aspx?id=E5F03216-461
 9-44A1-A21C-5EA724CB9432&match=259
DTSTART;TZID=Europe/Brussels:20230404T070000
DTEND;TZID=Europe/Brussels:20230404T070000
END:VEVENT
BEGIN:VEVENT
UID:E5F03216-4619-44A1-A21C-5EA724CB9432-6-271_homereminder@83.badmintonner
 s.net
DTSTAMP:20260420T055128Z
SUMMARY:Thuismatch ingevuld? (Rita Serveert 3H (57) - Berlaar 1H (71))
DESCRIPTION:Je hebt 36 uur na aanvang om een thuismatch op Badmintonvlaande
 ren in te vullen. Match info: Rita Serveert 3H (57) - Berlaar 1H (71) - Li
 nk: https://www.badmintonvlaanderen.be/sport/teammatch.aspx?id=E5F03216-46
 19-44A1-A21C-5EA724CB9432&match=271
DTSTART;TZID=Europe/Brussels:20230502T070000
DTEND;TZID=Europe/Brussels:20230502T070000
END:VEVENT
BEGIN:VEVENT
UID:E5F03216-4619-44A1-A21C-5EA724CB9432-6-246_awayreminder@83.badmintonner
 s.net
DTSTAMP:20260420T055128Z
SUMMARY:Uitmatch bevestigd? (Klein Boom 2H (58) - Rita Serveert 3H (57))
DESCRIPTION:Je hebt 72 uur na aanvang om een uitmatch op Badmintonvlaandere
 n in te vullen. Match info: Klein Boom 2H (58) - Rita Serveert 3H (57) - L
 ink: https://www.badmintonvlaanderen.be/sport/teammatch.aspx?id=E5F03216-4
 619-44A1-A21C-5EA724CB9432&match=246
DTSTART;TZID=Europe/Brussels:20221130T190000
DTEND;TZID=Europe/Brussels:20221130T190000
END:VEVENT
BEGIN:VEVENT
UID:E5F03216-4619-44A1-A21C-5EA724CB9432-6-248_awayreminder@83.badmintonner
 s.net
DTSTAMP:20260420T055128Z
SUMMARY:Uitmatch bevestigd? (Duffel 2H (71) - Rita Serveert 3H (57))
DESCRIPTION:Je hebt 72 uur na aanvang om een uitmatch op Badmintonvlaandere
 n in te vullen. Match info: Duffel 2H (71) - Rita Serveert 3H (57) - Link:
  https://www.badmintonvlaanderen.be/sport/teammatch.aspx?id=E5F03216-4619-
 44A1-A21C-5EA724CB9432&match=248
DTSTART;TZID=Europe/Brussels:20221207T200000
DTEND;TZID=Europe/Brussels:20221207T200000
END:VEVENT
BEGIN:VEVENT
UID:E5F03216-4619-44A1-A21C-5EA724CB9432-6-250_awayreminder@83.badmintonner
 s.net
DTSTAMP:20260420T055128Z
SUMMARY:Uitmatch bevestigd? (Berlaar 1H (71) - Rita Serveert 3H (57))
DESCRIPTION:Je hebt 72 uur na aanvang om een uitmatch op Badmintonvlaandere
 n in te vullen. Match info: Berlaar 1H (71) - Rita Serveert 3H (57) - Link
 : https://www.badmintonvlaanderen.be/sport/teammatch.aspx?id=E5F03216-4619
 -44A1-A21C-5EA724CB9432&match=250
DTSTART;TZID=Europe/Brussels:20221214T100000
DTEND;TZID=Europe/Brussels:20221214T100000
END:VEVENT
BEGIN:VEVENT
UID:E5F03216-4619-44A1-A21C-5EA724CB9432-6-251_awayreminder@83.badmintonner
 s.net
DTSTAMP:20260420T055128Z
SUMMARY:Uitmatch bevestigd? (Spinshuttle 2H (67) - Rita Serveert 3H (57))
DESCRIPTION:Je hebt 72 uur na aanvang om een uitmatch op Badmintonvlaandere
 n in te vullen. Match info: Spinshuttle 2H (67) - Rita Serveert 3H (57) - 
 Link: https://www.badmintonvlaanderen.be/sport/teammatch.aspx?id=E5F03216-
 4619-44A1-A21C-5EA724CB9432&match=251
DTSTART;TZID=Europe/Brussels:20230120T200000
DTEND;TZID=Europe/Brussels:20230120T200000
END:VEVENT
BEGIN:VEVENT
UID:E5F03216-4619-44A1-A21C-5EA724CB9432-6-247_awayreminder@83.badmintonner
 s.net
DTSTAMP:20260420T055128Z
SUMMARY:Uitmatch bevestigd? (Merksplas 2H (60) - Rita Serveert 3H (57))
DESCRIPTION:Je hebt 72 uur na aanvang om een uitmatch op Badmintonvlaandere
 n in te vullen. Match info: Merksplas 2H (60) - Rita Serveert 3H (57) - Li
 nk: https://www.badmintonvlaanderen.be/sport/teammatch.aspx?id=E5F03216-46
 19-44A1-A21C-5EA724CB9432&match=247
DTSTART;TZID=Europe/Brussels:20230322T100000
DTEND;TZID=Europe/Brussels:20230322T100000
END:VEVENT
BEGIN:VEVENT
UID:E5F03216-4619-44A1-A21C-5EA724CB9432-6-249_awayreminder@83.badmintonner
 s.net
DTSTAMP:20260420T055128Z
SUMMARY:Uitmatch bevestigd? (Plumula 2H (59) - Rita Serveert 3H (57))
DESCRIPTION:Je hebt 72 uur na aanvang om een uitmatch op Badmintonvlaandere
 n in te vullen. Match info: Plumula 2H (59) - Rita Serveert 3H (57) - Link
 : https://www.badmintonvlaanderen.be/sport/teammatch.aspx?id=E5F03216-4619
 -44A1-A21C-5EA724CB9432&match=249
DTSTART;TZID=Europe/Brussels:20230419T173000
DTEND;TZID=Europe/Brussels:20230419T173000
END:VEVENT
END:VCALENDAR