BEGIN:VCALENDAR
VERSION:2.0
PRODID:spatie/icalendar-generator
NAME:klein_boom_2h_58_reminders
X-WR-CALNAME:klein_boom_2h_58_reminders
BEGIN:VTIMEZONE
TZID:Europe/Brussels
BEGIN:DAYLIGHT
DTSTART:20220327T010000
TZOFFSETFROM:+0100
TZOFFSETTO:+0200
END:DAYLIGHT
BEGIN:STANDARD
DTSTART:20221030T030000
TZOFFSETFROM:+0200
TZOFFSETTO:+0100
END:STANDARD
BEGIN:DAYLIGHT
DTSTART:20230326T010000
TZOFFSETFROM:+0100
TZOFFSETTO:+0200
END:DAYLIGHT
END:VTIMEZONE
BEGIN:VTIMEZONE
TZID:UTC
BEGIN:STANDARD
DTSTART:20250724T055128
TZOFFSETFROM:+0000
TZOFFSETTO:+0000
END:STANDARD
END:VTIMEZONE
BEGIN:VEVENT
UID:E5F03216-4619-44A1-A21C-5EA724CB9432-6-258_homereminder@86.badmintonner
 s.net
DTSTAMP:20260420T055128Z
SUMMARY:Thuismatch ingevuld? (Klein Boom 2H (58) - Duffel 2H (71))
DESCRIPTION:Je hebt 36 uur na aanvang om een thuismatch op Badmintonvlaande
 ren in te vullen. Match info: Klein Boom 2H (58) - Duffel 2H (71) - Link: 
 https://www.badmintonvlaanderen.be/sport/teammatch.aspx?id=E5F03216-4619-4
 4A1-A21C-5EA724CB9432&match=258
DTSTART;TZID=Europe/Brussels:20221012T080000
DTEND;TZID=Europe/Brussels:20221012T080000
END:VEVENT
BEGIN:VEVENT
UID:E5F03216-4619-44A1-A21C-5EA724CB9432-6-270_homereminder@86.badmintonner
 s.net
DTSTAMP:20260420T055128Z
SUMMARY:Thuismatch ingevuld? (Klein Boom 2H (58) - Berlaar 1H (71))
DESCRIPTION:Je hebt 36 uur na aanvang om een thuismatch op Badmintonvlaande
 ren in te vullen. Match info: Klein Boom 2H (58) - Berlaar 1H (71) - Link:
  https://www.badmintonvlaanderen.be/sport/teammatch.aspx?id=E5F03216-4619-
 44A1-A21C-5EA724CB9432&match=270
DTSTART;TZID=Europe/Brussels:20221123T080000
DTEND;TZID=Europe/Brussels:20221123T080000
END:VEVENT
BEGIN:VEVENT
UID:E5F03216-4619-44A1-A21C-5EA724CB9432-6-246_homereminder@86.badmintonner
 s.net
DTSTAMP:20260420T055128Z
SUMMARY:Thuismatch ingevuld? (Klein Boom 2H (58) - Rita Serveert 3H (57))
DESCRIPTION:Je hebt 36 uur na aanvang om een thuismatch op Badmintonvlaande
 ren in te vullen. Match info: Klein Boom 2H (58) - Rita Serveert 3H (57) -
  Link: https://www.badmintonvlaanderen.be/sport/teammatch.aspx?id=E5F03216
 -4619-44A1-A21C-5EA724CB9432&match=246
DTSTART;TZID=Europe/Brussels:20221129T070000
DTEND;TZID=Europe/Brussels:20221129T070000
END:VEVENT
BEGIN:VEVENT
UID:E5F03216-4619-44A1-A21C-5EA724CB9432-6-264_homereminder@86.badmintonner
 s.net
DTSTAMP:20260420T055128Z
SUMMARY:Thuismatch ingevuld? (Klein Boom 2H (58) - Plumula 2H (59))
DESCRIPTION:Je hebt 36 uur na aanvang om een thuismatch op Badmintonvlaande
 ren in te vullen. Match info: Klein Boom 2H (58) - Plumula 2H (59) - Link:
  https://www.badmintonvlaanderen.be/sport/teammatch.aspx?id=E5F03216-4619-
 44A1-A21C-5EA724CB9432&match=264
DTSTART;TZID=Europe/Brussels:20230201T080000
DTEND;TZID=Europe/Brussels:20230201T080000
END:VEVENT
BEGIN:VEVENT
UID:E5F03216-4619-44A1-A21C-5EA724CB9432-6-252_homereminder@86.badmintonner
 s.net
DTSTAMP:20260420T055128Z
SUMMARY:Thuismatch ingevuld? (Klein Boom 2H (58) - Merksplas 2H (60))
DESCRIPTION:Je hebt 36 uur na aanvang om een thuismatch op Badmintonvlaande
 ren in te vullen. Match info: Klein Boom 2H (58) - Merksplas 2H (60) - Lin
 k: https://www.badmintonvlaanderen.be/sport/teammatch.aspx?id=E5F03216-461
 9-44A1-A21C-5EA724CB9432&match=252
DTSTART;TZID=Europe/Brussels:20230301T080000
DTEND;TZID=Europe/Brussels:20230301T080000
END:VEVENT
BEGIN:VEVENT
UID:E5F03216-4619-44A1-A21C-5EA724CB9432-6-276_homereminder@86.badmintonner
 s.net
DTSTAMP:20260420T055128Z
SUMMARY:Thuismatch ingevuld? (Klein Boom 2H (58) - Spinshuttle 2H (67))
DESCRIPTION:Je hebt 36 uur na aanvang om een thuismatch op Badmintonvlaande
 ren in te vullen. Match info: Klein Boom 2H (58) - Spinshuttle 2H (67) - L
 ink: https://www.badmintonvlaanderen.be/sport/teammatch.aspx?id=E5F03216-4
 619-44A1-A21C-5EA724CB9432&match=276
DTSTART;TZID=Europe/Brussels:20230426T080000
DTEND;TZID=Europe/Brussels:20230426T080000
END:VEVENT
BEGIN:VEVENT
UID:E5F03216-4619-44A1-A21C-5EA724CB9432-6-243_awayreminder@86.badmintonner
 s.net
DTSTAMP:20260420T055128Z
SUMMARY:Uitmatch bevestigd? (Plumula 2H (59) - Klein Boom 2H (58))
DESCRIPTION:Je hebt 72 uur na aanvang om een uitmatch op Badmintonvlaandere
 n in te vullen. Match info: Plumula 2H (59) - Klein Boom 2H (58) - Link: h
 ttps://www.badmintonvlaanderen.be/sport/teammatch.aspx?id=E5F03216-4619-44
 A1-A21C-5EA724CB9432&match=243
DTSTART;TZID=Europe/Brussels:20221005T173000
DTEND;TZID=Europe/Brussels:20221005T173000
END:VEVENT
BEGIN:VEVENT
UID:E5F03216-4619-44A1-A21C-5EA724CB9432-6-241_awayreminder@86.badmintonner
 s.net
DTSTAMP:20260420T055128Z
SUMMARY:Uitmatch bevestigd? (Merksplas 2H (60) - Klein Boom 2H (58))
DESCRIPTION:Je hebt 72 uur na aanvang om een uitmatch op Badmintonvlaandere
 n in te vullen. Match info: Merksplas 2H (60) - Klein Boom 2H (58) - Link:
  https://www.badmintonvlaanderen.be/sport/teammatch.aspx?id=E5F03216-4619-
 44A1-A21C-5EA724CB9432&match=241
DTSTART;TZID=Europe/Brussels:20221116T190000
DTEND;TZID=Europe/Brussels:20221116T190000
END:VEVENT
BEGIN:VEVENT
UID:E5F03216-4619-44A1-A21C-5EA724CB9432-6-245_awayreminder@86.badmintonner
 s.net
DTSTAMP:20260420T055128Z
SUMMARY:Uitmatch bevestigd? (Spinshuttle 2H (67) - Klein Boom 2H (58))
DESCRIPTION:Je hebt 72 uur na aanvang om een uitmatch op Badmintonvlaandere
 n in te vullen. Match info: Spinshuttle 2H (67) - Klein Boom 2H (58) - Lin
 k: https://www.badmintonvlaanderen.be/sport/teammatch.aspx?id=E5F03216-461
 9-44A1-A21C-5EA724CB9432&match=245
DTSTART;TZID=Europe/Brussels:20221209T200000
DTEND;TZID=Europe/Brussels:20221209T200000
END:VEVENT
BEGIN:VEVENT
UID:E5F03216-4619-44A1-A21C-5EA724CB9432-6-244_awayreminder@86.badmintonner
 s.net
DTSTAMP:20260420T055128Z
SUMMARY:Uitmatch bevestigd? (Berlaar 1H (71) - Klein Boom 2H (58))
DESCRIPTION:Je hebt 72 uur na aanvang om een uitmatch op Badmintonvlaandere
 n in te vullen. Match info: Berlaar 1H (71) - Klein Boom 2H (58) - Link: h
 ttps://www.badmintonvlaanderen.be/sport/teammatch.aspx?id=E5F03216-4619-44
 A1-A21C-5EA724CB9432&match=244
DTSTART;TZID=Europe/Brussels:20230208T100000
DTEND;TZID=Europe/Brussels:20230208T100000
END:VEVENT
BEGIN:VEVENT
UID:E5F03216-4619-44A1-A21C-5EA724CB9432-6-240_awayreminder@86.badmintonner
 s.net
DTSTAMP:20260420T055128Z
SUMMARY:Uitmatch bevestigd? (Rita Serveert 3H (57) - Klein Boom 2H (58))
DESCRIPTION:Je hebt 72 uur na aanvang om een uitmatch op Badmintonvlaandere
 n in te vullen. Match info: Rita Serveert 3H (57) - Klein Boom 2H (58) - L
 ink: https://www.badmintonvlaanderen.be/sport/teammatch.aspx?id=E5F03216-4
 619-44A1-A21C-5EA724CB9432&match=240
DTSTART;TZID=Europe/Brussels:20230222T190000
DTEND;TZID=Europe/Brussels:20230222T190000
END:VEVENT
BEGIN:VEVENT
UID:E5F03216-4619-44A1-A21C-5EA724CB9432-6-242_awayreminder@86.badmintonner
 s.net
DTSTAMP:20260420T055128Z
SUMMARY:Uitmatch bevestigd? (Duffel 2H (71) - Klein Boom 2H (58))
DESCRIPTION:Je hebt 72 uur na aanvang om een uitmatch op Badmintonvlaandere
 n in te vullen. Match info: Duffel 2H (71) - Klein Boom 2H (58) - Link: ht
 tps://www.badmintonvlaanderen.be/sport/teammatch.aspx?id=E5F03216-4619-44A
 1-A21C-5EA724CB9432&match=242
DTSTART;TZID=Europe/Brussels:20230322T200000
DTEND;TZID=Europe/Brussels:20230322T200000
END:VEVENT
END:VCALENDAR