BEGIN:VCALENDAR
VERSION:2.0
PRODID:spatie/icalendar-generator
NAME:merksplas_2h_60_reminders
X-WR-CALNAME:merksplas_2h_60_reminders
BEGIN:VTIMEZONE
TZID:Europe/Brussels
BEGIN:DAYLIGHT
DTSTART:20220327T010000
TZOFFSETFROM:+0100
TZOFFSETTO:+0200
END:DAYLIGHT
BEGIN:STANDARD
DTSTART:20221030T030000
TZOFFSETFROM:+0200
TZOFFSETTO:+0100
END:STANDARD
BEGIN:DAYLIGHT
DTSTART:20230326T010000
TZOFFSETFROM:+0100
TZOFFSETTO:+0200
END:DAYLIGHT
BEGIN:STANDARD
DTSTART:20231029T030000
TZOFFSETFROM:+0200
TZOFFSETTO:+0100
END:STANDARD
END:VTIMEZONE
BEGIN:VTIMEZONE
TZID:UTC
BEGIN:STANDARD
DTSTART:20250724T055127
TZOFFSETFROM:+0000
TZOFFSETTO:+0000
END:STANDARD
END:VTIMEZONE
BEGIN:VEVENT
UID:E5F03216-4619-44A1-A21C-5EA724CB9432-6-272_homereminder@87.badmintonner
 s.net
DTSTAMP:20260420T055127Z
SUMMARY:Thuismatch ingevuld? (Merksplas 2H (60) - Berlaar 1H (71))
DESCRIPTION:Je hebt 36 uur na aanvang om een thuismatch op Badmintonvlaande
 ren in te vullen. Match info: Merksplas 2H (60) - Berlaar 1H (71) - Link: 
 https://www.badmintonvlaanderen.be/sport/teammatch.aspx?id=E5F03216-4619-4
 4A1-A21C-5EA724CB9432&match=272
DTSTART;TZID=Europe/Brussels:20220919T220000
DTEND;TZID=Europe/Brussels:20220919T220000
END:VEVENT
BEGIN:VEVENT
UID:E5F03216-4619-44A1-A21C-5EA724CB9432-6-241_homereminder@87.badmintonner
 s.net
DTSTAMP:20260420T055127Z
SUMMARY:Thuismatch ingevuld? (Merksplas 2H (60) - Klein Boom 2H (58))
DESCRIPTION:Je hebt 36 uur na aanvang om een thuismatch op Badmintonvlaande
 ren in te vullen. Match info: Merksplas 2H (60) - Klein Boom 2H (58) - Lin
 k: https://www.badmintonvlaanderen.be/sport/teammatch.aspx?id=E5F03216-461
 9-44A1-A21C-5EA724CB9432&match=241
DTSTART;TZID=Europe/Brussels:20221115T070000
DTEND;TZID=Europe/Brussels:20221115T070000
END:VEVENT
BEGIN:VEVENT
UID:E5F03216-4619-44A1-A21C-5EA724CB9432-6-260_homereminder@87.badmintonner
 s.net
DTSTAMP:20260420T055127Z
SUMMARY:Thuismatch ingevuld? (Merksplas 2H (60) - Duffel 2H (71))
DESCRIPTION:Je hebt 36 uur na aanvang om een thuismatch op Badmintonvlaande
 ren in te vullen. Match info: Merksplas 2H (60) - Duffel 2H (71) - Link: h
 ttps://www.badmintonvlaanderen.be/sport/teammatch.aspx?id=E5F03216-4619-44
 A1-A21C-5EA724CB9432&match=260
DTSTART;TZID=Europe/Brussels:20221128T220000
DTEND;TZID=Europe/Brussels:20221128T220000
END:VEVENT
BEGIN:VEVENT
UID:E5F03216-4619-44A1-A21C-5EA724CB9432-6-278_homereminder@87.badmintonner
 s.net
DTSTAMP:20260420T055127Z
SUMMARY:Thuismatch ingevuld? (Merksplas 2H (60) - Spinshuttle 2H (67))
DESCRIPTION:Je hebt 36 uur na aanvang om een thuismatch op Badmintonvlaande
 ren in te vullen. Match info: Merksplas 2H (60) - Spinshuttle 2H (67) - Li
 nk: https://www.badmintonvlaanderen.be/sport/teammatch.aspx?id=E5F03216-46
 19-44A1-A21C-5EA724CB9432&match=278
DTSTART;TZID=Europe/Brussels:20230220T220000
DTEND;TZID=Europe/Brussels:20230220T220000
END:VEVENT
BEGIN:VEVENT
UID:E5F03216-4619-44A1-A21C-5EA724CB9432-6-247_homereminder@87.badmintonner
 s.net
DTSTAMP:20260420T055127Z
SUMMARY:Thuismatch ingevuld? (Merksplas 2H (60) - Rita Serveert 3H (57))
DESCRIPTION:Je hebt 36 uur na aanvang om een thuismatch op Badmintonvlaande
 ren in te vullen. Match info: Merksplas 2H (60) - Rita Serveert 3H (57) - 
 Link: https://www.badmintonvlaanderen.be/sport/teammatch.aspx?id=E5F03216-
 4619-44A1-A21C-5EA724CB9432&match=247
DTSTART;TZID=Europe/Brussels:20230320T220000
DTEND;TZID=Europe/Brussels:20230320T220000
END:VEVENT
BEGIN:VEVENT
UID:E5F03216-4619-44A1-A21C-5EA724CB9432-6-266_homereminder@87.badmintonner
 s.net
DTSTAMP:20260420T055127Z
SUMMARY:Thuismatch ingevuld? (Merksplas 2H (60) - Plumula 2H (59))
DESCRIPTION:Je hebt 36 uur na aanvang om een thuismatch op Badmintonvlaande
 ren in te vullen. Match info: Merksplas 2H (60) - Plumula 2H (59) - Link: 
 https://www.badmintonvlaanderen.be/sport/teammatch.aspx?id=E5F03216-4619-4
 4A1-A21C-5EA724CB9432&match=266
DTSTART;TZID=Europe/Brussels:20230501T220000
DTEND;TZID=Europe/Brussels:20230501T220000
END:VEVENT
BEGIN:VEVENT
UID:E5F03216-4619-44A1-A21C-5EA724CB9432-6-257_awayreminder@87.badmintonner
 s.net
DTSTAMP:20260420T055127Z
SUMMARY:Uitmatch bevestigd? (Spinshuttle 2H (67) - Merksplas 2H (60))
DESCRIPTION:Je hebt 72 uur na aanvang om een uitmatch op Badmintonvlaandere
 n in te vullen. Match info: Spinshuttle 2H (67) - Merksplas 2H (60) - Link
 : https://www.badmintonvlaanderen.be/sport/teammatch.aspx?id=E5F03216-4619
 -44A1-A21C-5EA724CB9432&match=257
DTSTART;TZID=Europe/Brussels:20221028T200000
DTEND;TZID=Europe/Brussels:20221028T200000
END:VEVENT
BEGIN:VEVENT
UID:E5F03216-4619-44A1-A21C-5EA724CB9432-6-253_awayreminder@87.badmintonner
 s.net
DTSTAMP:20260420T055127Z
SUMMARY:Uitmatch bevestigd? (Rita Serveert 3H (57) - Merksplas 2H (60))
DESCRIPTION:Je hebt 72 uur na aanvang om een uitmatch op Badmintonvlaandere
 n in te vullen. Match info: Rita Serveert 3H (57) - Merksplas 2H (60) - Li
 nk: https://www.badmintonvlaanderen.be/sport/teammatch.aspx?id=E5F03216-46
 19-44A1-A21C-5EA724CB9432&match=253
DTSTART;TZID=Europe/Brussels:20221102T190000
DTEND;TZID=Europe/Brussels:20221102T190000
END:VEVENT
BEGIN:VEVENT
UID:E5F03216-4619-44A1-A21C-5EA724CB9432-6-255_awayreminder@87.badmintonner
 s.net
DTSTAMP:20260420T055127Z
SUMMARY:Uitmatch bevestigd? (Plumula 2H (59) - Merksplas 2H (60))
DESCRIPTION:Je hebt 72 uur na aanvang om een uitmatch op Badmintonvlaandere
 n in te vullen. Match info: Plumula 2H (59) - Merksplas 2H (60) - Link: ht
 tps://www.badmintonvlaanderen.be/sport/teammatch.aspx?id=E5F03216-4619-44A
 1-A21C-5EA724CB9432&match=255
DTSTART;TZID=Europe/Brussels:20221214T173000
DTEND;TZID=Europe/Brussels:20221214T173000
END:VEVENT
BEGIN:VEVENT
UID:E5F03216-4619-44A1-A21C-5EA724CB9432-6-256_awayreminder@87.badmintonner
 s.net
DTSTAMP:20260420T055127Z
SUMMARY:Uitmatch bevestigd? (Berlaar 1H (71) - Merksplas 2H (60))
DESCRIPTION:Je hebt 72 uur na aanvang om een uitmatch op Badmintonvlaandere
 n in te vullen. Match info: Berlaar 1H (71) - Merksplas 2H (60) - Link: ht
 tps://www.badmintonvlaanderen.be/sport/teammatch.aspx?id=E5F03216-4619-44A
 1-A21C-5EA724CB9432&match=256
DTSTART;TZID=Europe/Brussels:20230125T100000
DTEND;TZID=Europe/Brussels:20230125T100000
END:VEVENT
BEGIN:VEVENT
UID:E5F03216-4619-44A1-A21C-5EA724CB9432-6-252_awayreminder@87.badmintonner
 s.net
DTSTAMP:20260420T055127Z
SUMMARY:Uitmatch bevestigd? (Klein Boom 2H (58) - Merksplas 2H (60))
DESCRIPTION:Je hebt 72 uur na aanvang om een uitmatch op Badmintonvlaandere
 n in te vullen. Match info: Klein Boom 2H (58) - Merksplas 2H (60) - Link:
  https://www.badmintonvlaanderen.be/sport/teammatch.aspx?id=E5F03216-4619-
 44A1-A21C-5EA724CB9432&match=252
DTSTART;TZID=Europe/Brussels:20230302T200000
DTEND;TZID=Europe/Brussels:20230302T200000
END:VEVENT
BEGIN:VEVENT
UID:E5F03216-4619-44A1-A21C-5EA724CB9432-6-254_awayreminder@87.badmintonner
 s.net
DTSTAMP:20260420T055127Z
SUMMARY:Uitmatch bevestigd? (Duffel 2H (71) - Merksplas 2H (60))
DESCRIPTION:Je hebt 72 uur na aanvang om een uitmatch op Badmintonvlaandere
 n in te vullen. Match info: Duffel 2H (71) - Merksplas 2H (60) - Link: htt
 ps://www.badmintonvlaanderen.be/sport/teammatch.aspx?id=E5F03216-4619-44A1
 -A21C-5EA724CB9432&match=254
DTSTART;TZID=Europe/Brussels:20230419T200000
DTEND;TZID=Europe/Brussels:20230419T200000
END:VEVENT
END:VCALENDAR