BEGIN:VCALENDAR
VERSION:2.0
PRODID:spatie/icalendar-generator
NAME:zoersel_1h_60_reminders
X-WR-CALNAME:zoersel_1h_60_reminders
BEGIN:VTIMEZONE
TZID:Europe/Brussels
BEGIN:DAYLIGHT
DTSTART:20220327T010000
TZOFFSETFROM:+0100
TZOFFSETTO:+0200
END:DAYLIGHT
BEGIN:STANDARD
DTSTART:20221030T030000
TZOFFSETFROM:+0200
TZOFFSETTO:+0100
END:STANDARD
BEGIN:DAYLIGHT
DTSTART:20230326T010000
TZOFFSETFROM:+0100
TZOFFSETTO:+0200
END:DAYLIGHT
BEGIN:STANDARD
DTSTART:20231029T030000
TZOFFSETFROM:+0200
TZOFFSETTO:+0100
END:STANDARD
END:VTIMEZONE
BEGIN:VTIMEZONE
TZID:UTC
BEGIN:STANDARD
DTSTART:20250724T055130
TZOFFSETFROM:+0000
TZOFFSETTO:+0000
END:STANDARD
END:VTIMEZONE
BEGIN:VEVENT
UID:E5F03216-4619-44A1-A21C-5EA724CB9432-7-293_homereminder@69.badmintonner
 s.net
DTSTAMP:20260420T055130Z
SUMMARY:Thuismatch ingevuld? (Zoersel 1H (60) - Opslag 3H (60))
DESCRIPTION:Je hebt 36 uur na aanvang om een thuismatch op Badmintonvlaande
 ren in te vullen. Match info: Zoersel 1H (60) - Opslag 3H (60) - Link: htt
 ps://www.badmintonvlaanderen.be/sport/teammatch.aspx?id=E5F03216-4619-44A1
 -A21C-5EA724CB9432&match=293
DTSTART;TZID=Europe/Brussels:20221018T000000
DTEND;TZID=Europe/Brussels:20221018T000000
END:VEVENT
BEGIN:VEVENT
UID:E5F03216-4619-44A1-A21C-5EA724CB9432-7-303_homereminder@69.badmintonner
 s.net
DTSTAMP:20260420T055130Z
SUMMARY:Thuismatch ingevuld? (Zoersel 1H (60) - Klein Boom 3H (60))
DESCRIPTION:Je hebt 36 uur na aanvang om een thuismatch op Badmintonvlaande
 ren in te vullen. Match info: Zoersel 1H (60) - Klein Boom 3H (60) - Link:
  https://www.badmintonvlaanderen.be/sport/teammatch.aspx?id=E5F03216-4619-
 44A1-A21C-5EA724CB9432&match=303
DTSTART;TZID=Europe/Brussels:20221213T000000
DTEND;TZID=Europe/Brussels:20221213T000000
END:VEVENT
BEGIN:VEVENT
UID:E5F03216-4619-44A1-A21C-5EA724CB9432-7-313_homereminder@69.badmintonner
 s.net
DTSTAMP:20260420T055130Z
SUMMARY:Thuismatch ingevuld? (Zoersel 1H (60) - De Pluim 2H (60))
DESCRIPTION:Je hebt 36 uur na aanvang om een thuismatch op Badmintonvlaande
 ren in te vullen. Match info: Zoersel 1H (60) - De Pluim 2H (60) - Link: h
 ttps://www.badmintonvlaanderen.be/sport/teammatch.aspx?id=E5F03216-4619-44
 A1-A21C-5EA724CB9432&match=313
DTSTART;TZID=Europe/Brussels:20221220T000000
DTEND;TZID=Europe/Brussels:20221220T000000
END:VEVENT
BEGIN:VEVENT
UID:E5F03216-4619-44A1-A21C-5EA724CB9432-7-308_homereminder@69.badmintonner
 s.net
DTSTAMP:20260420T055130Z
SUMMARY:Thuismatch ingevuld? (Zoersel 1H (60) - Olympia 1H (56))
DESCRIPTION:Je hebt 36 uur na aanvang om een thuismatch op Badmintonvlaande
 ren in te vullen. Match info: Zoersel 1H (60) - Olympia 1H (56) - Link: ht
 tps://www.badmintonvlaanderen.be/sport/teammatch.aspx?id=E5F03216-4619-44A
 1-A21C-5EA724CB9432&match=308
DTSTART;TZID=Europe/Brussels:20230110T000000
DTEND;TZID=Europe/Brussels:20230110T000000
END:VEVENT
BEGIN:VEVENT
UID:E5F03216-4619-44A1-A21C-5EA724CB9432-7-298_homereminder@69.badmintonner
 s.net
DTSTAMP:20260420T055130Z
SUMMARY:Thuismatch ingevuld? (Zoersel 1H (60) - Olve 5H (60))
DESCRIPTION:Je hebt 36 uur na aanvang om een thuismatch op Badmintonvlaande
 ren in te vullen. Match info: Zoersel 1H (60) - Olve 5H (60) - Link: https
 ://www.badmintonvlaanderen.be/sport/teammatch.aspx?id=E5F03216-4619-44A1-A
 21C-5EA724CB9432&match=298
DTSTART;TZID=Europe/Brussels:20230321T000000
DTEND;TZID=Europe/Brussels:20230321T000000
END:VEVENT
BEGIN:VEVENT
UID:E5F03216-4619-44A1-A21C-5EA724CB9432-7-289_awayreminder@69.badmintonner
 s.net
DTSTAMP:20260420T055130Z
SUMMARY:Uitmatch bevestigd? (Olve 5H (60) - Zoersel 1H (60))
DESCRIPTION:Je hebt 72 uur na aanvang om een uitmatch op Badmintonvlaandere
 n in te vullen. Match info: Olve 5H (60) - Zoersel 1H (60) - Link: https:/
 /www.badmintonvlaanderen.be/sport/teammatch.aspx?id=E5F03216-4619-44A1-A21
 C-5EA724CB9432&match=289
DTSTART;TZID=Europe/Brussels:20221101T093000
DTEND;TZID=Europe/Brussels:20221101T093000
END:VEVENT
BEGIN:VEVENT
UID:E5F03216-4619-44A1-A21C-5EA724CB9432-7-291_awayreminder@69.badmintonner
 s.net
DTSTAMP:20260420T055130Z
SUMMARY:Uitmatch bevestigd? (Olympia 1H (56) - Zoersel 1H (60))
DESCRIPTION:Je hebt 72 uur na aanvang om een uitmatch op Badmintonvlaandere
 n in te vullen. Match info: Olympia 1H (56) - Zoersel 1H (60) - Link: http
 s://www.badmintonvlaanderen.be/sport/teammatch.aspx?id=E5F03216-4619-44A1-
 A21C-5EA724CB9432&match=291
DTSTART;TZID=Europe/Brussels:20221115T093000
DTEND;TZID=Europe/Brussels:20221115T093000
END:VEVENT
BEGIN:VEVENT
UID:E5F03216-4619-44A1-A21C-5EA724CB9432-7-292_awayreminder@69.badmintonner
 s.net
DTSTAMP:20260420T055130Z
SUMMARY:Uitmatch bevestigd? (De Pluim 2H (60) - Zoersel 1H (60))
DESCRIPTION:Je hebt 72 uur na aanvang om een uitmatch op Badmintonvlaandere
 n in te vullen. Match info: De Pluim 2H (60) - Zoersel 1H (60) - Link: htt
 ps://www.badmintonvlaanderen.be/sport/teammatch.aspx?id=E5F03216-4619-44A1
 -A21C-5EA724CB9432&match=292
DTSTART;TZID=Europe/Brussels:20230208T181500
DTEND;TZID=Europe/Brussels:20230208T181500
END:VEVENT
BEGIN:VEVENT
UID:E5F03216-4619-44A1-A21C-5EA724CB9432-7-288_awayreminder@69.badmintonner
 s.net
DTSTAMP:20260420T055130Z
SUMMARY:Uitmatch bevestigd? (Opslag 3H (60) - Zoersel 1H (60))
DESCRIPTION:Je hebt 72 uur na aanvang om een uitmatch op Badmintonvlaandere
 n in te vullen. Match info: Opslag 3H (60) - Zoersel 1H (60) - Link: https
 ://www.badmintonvlaanderen.be/sport/teammatch.aspx?id=E5F03216-4619-44A1-A
 21C-5EA724CB9432&match=288
DTSTART;TZID=Europe/Brussels:20230222T191500
DTEND;TZID=Europe/Brussels:20230222T191500
END:VEVENT
BEGIN:VEVENT
UID:E5F03216-4619-44A1-A21C-5EA724CB9432-7-290_awayreminder@69.badmintonner
 s.net
DTSTAMP:20260420T055130Z
SUMMARY:Uitmatch bevestigd? (Klein Boom 3H (60) - Zoersel 1H (60))
DESCRIPTION:Je hebt 72 uur na aanvang om een uitmatch op Badmintonvlaandere
 n in te vullen. Match info: Klein Boom 3H (60) - Zoersel 1H (60) - Link: h
 ttps://www.badmintonvlaanderen.be/sport/teammatch.aspx?id=E5F03216-4619-44
 A1-A21C-5EA724CB9432&match=290
DTSTART;TZID=Europe/Brussels:20230503T190000
DTEND;TZID=Europe/Brussels:20230503T190000
END:VEVENT
END:VCALENDAR