BEGIN:VCALENDAR
VERSION:2.0
PRODID:spatie/icalendar-generator
NAME:de_pluim_2h_60_reminders
X-WR-CALNAME:de_pluim_2h_60_reminders
BEGIN:VTIMEZONE
TZID:Europe/Brussels
BEGIN:DAYLIGHT
DTSTART:20220327T010000
TZOFFSETFROM:+0100
TZOFFSETTO:+0200
END:DAYLIGHT
BEGIN:STANDARD
DTSTART:20221030T030000
TZOFFSETFROM:+0200
TZOFFSETTO:+0100
END:STANDARD
BEGIN:DAYLIGHT
DTSTART:20230326T010000
TZOFFSETFROM:+0100
TZOFFSETTO:+0200
END:DAYLIGHT
END:VTIMEZONE
BEGIN:VTIMEZONE
TZID:UTC
BEGIN:STANDARD
DTSTART:20250724T055131
TZOFFSETFROM:+0000
TZOFFSETTO:+0000
END:STANDARD
END:VTIMEZONE
BEGIN:VEVENT
UID:E5F03216-4619-44A1-A21C-5EA724CB9432-7-307_homereminder@72.badmintonner
 s.net
DTSTAMP:20260420T055131Z
SUMMARY:Thuismatch ingevuld? (De Pluim 2H (60) - Klein Boom 3H (60))
DESCRIPTION:Je hebt 36 uur na aanvang om een thuismatch op Badmintonvlaande
 ren in te vullen. Match info: De Pluim 2H (60) - Klein Boom 3H (60) - Link
 : https://www.badmintonvlaanderen.be/sport/teammatch.aspx?id=E5F03216-4619
 -44A1-A21C-5EA724CB9432&match=307
DTSTART;TZID=Europe/Brussels:20221115T061500
DTEND;TZID=Europe/Brussels:20221115T061500
END:VEVENT
BEGIN:VEVENT
UID:E5F03216-4619-44A1-A21C-5EA724CB9432-7-312_homereminder@72.badmintonner
 s.net
DTSTAMP:20260420T055131Z
SUMMARY:Thuismatch ingevuld? (De Pluim 2H (60) - Olympia 1H (56))
DESCRIPTION:Je hebt 36 uur na aanvang om een thuismatch op Badmintonvlaande
 ren in te vullen. Match info: De Pluim 2H (60) - Olympia 1H (56) - Link: h
 ttps://www.badmintonvlaanderen.be/sport/teammatch.aspx?id=E5F03216-4619-44
 A1-A21C-5EA724CB9432&match=312
DTSTART;TZID=Europe/Brussels:20221129T061500
DTEND;TZID=Europe/Brussels:20221129T061500
END:VEVENT
BEGIN:VEVENT
UID:E5F03216-4619-44A1-A21C-5EA724CB9432-7-292_homereminder@72.badmintonner
 s.net
DTSTAMP:20260420T055131Z
SUMMARY:Thuismatch ingevuld? (De Pluim 2H (60) - Zoersel 1H (60))
DESCRIPTION:Je hebt 36 uur na aanvang om een thuismatch op Badmintonvlaande
 ren in te vullen. Match info: De Pluim 2H (60) - Zoersel 1H (60) - Link: h
 ttps://www.badmintonvlaanderen.be/sport/teammatch.aspx?id=E5F03216-4619-44
 A1-A21C-5EA724CB9432&match=292
DTSTART;TZID=Europe/Brussels:20230207T061500
DTEND;TZID=Europe/Brussels:20230207T061500
END:VEVENT
BEGIN:VEVENT
UID:E5F03216-4619-44A1-A21C-5EA724CB9432-7-297_homereminder@72.badmintonner
 s.net
DTSTAMP:20260420T055131Z
SUMMARY:Thuismatch ingevuld? (De Pluim 2H (60) - Opslag 3H (60))
DESCRIPTION:Je hebt 36 uur na aanvang om een thuismatch op Badmintonvlaande
 ren in te vullen. Match info: De Pluim 2H (60) - Opslag 3H (60) - Link: ht
 tps://www.badmintonvlaanderen.be/sport/teammatch.aspx?id=E5F03216-4619-44A
 1-A21C-5EA724CB9432&match=297
DTSTART;TZID=Europe/Brussels:20230321T061500
DTEND;TZID=Europe/Brussels:20230321T061500
END:VEVENT
BEGIN:VEVENT
UID:E5F03216-4619-44A1-A21C-5EA724CB9432-7-302_homereminder@72.badmintonner
 s.net
DTSTAMP:20260420T055131Z
SUMMARY:Thuismatch ingevuld? (De Pluim 2H (60) - Olve 5H (60))
DESCRIPTION:Je hebt 36 uur na aanvang om een thuismatch op Badmintonvlaande
 ren in te vullen. Match info: De Pluim 2H (60) - Olve 5H (60) - Link: http
 s://www.badmintonvlaanderen.be/sport/teammatch.aspx?id=E5F03216-4619-44A1-
 A21C-5EA724CB9432&match=302
DTSTART;TZID=Europe/Brussels:20230418T061500
DTEND;TZID=Europe/Brussels:20230418T061500
END:VEVENT
BEGIN:VEVENT
UID:E5F03216-4619-44A1-A21C-5EA724CB9432-7-314_awayreminder@72.badmintonner
 s.net
DTSTAMP:20260420T055131Z
SUMMARY:Uitmatch bevestigd? (Opslag 3H (60) - De Pluim 2H (60))
DESCRIPTION:Je hebt 72 uur na aanvang om een uitmatch op Badmintonvlaandere
 n in te vullen. Match info: Opslag 3H (60) - De Pluim 2H (60) - Link: http
 s://www.badmintonvlaanderen.be/sport/teammatch.aspx?id=E5F03216-4619-44A1-
 A21C-5EA724CB9432&match=314
DTSTART;TZID=Europe/Brussels:20221123T191500
DTEND;TZID=Europe/Brussels:20221123T191500
END:VEVENT
BEGIN:VEVENT
UID:E5F03216-4619-44A1-A21C-5EA724CB9432-7-315_awayreminder@72.badmintonner
 s.net
DTSTAMP:20260420T055131Z
SUMMARY:Uitmatch bevestigd? (Olve 5H (60) - De Pluim 2H (60))
DESCRIPTION:Je hebt 72 uur na aanvang om een uitmatch op Badmintonvlaandere
 n in te vullen. Match info: Olve 5H (60) - De Pluim 2H (60) - Link: https:
 //www.badmintonvlaanderen.be/sport/teammatch.aspx?id=E5F03216-4619-44A1-A2
 1C-5EA724CB9432&match=315
DTSTART;TZID=Europe/Brussels:20221213T103000
DTEND;TZID=Europe/Brussels:20221213T103000
END:VEVENT
BEGIN:VEVENT
UID:E5F03216-4619-44A1-A21C-5EA724CB9432-7-313_awayreminder@72.badmintonner
 s.net
DTSTAMP:20260420T055131Z
SUMMARY:Uitmatch bevestigd? (Zoersel 1H (60) - De Pluim 2H (60))
DESCRIPTION:Je hebt 72 uur na aanvang om een uitmatch op Badmintonvlaandere
 n in te vullen. Match info: Zoersel 1H (60) - De Pluim 2H (60) - Link: htt
 ps://www.badmintonvlaanderen.be/sport/teammatch.aspx?id=E5F03216-4619-44A1
 -A21C-5EA724CB9432&match=313
DTSTART;TZID=Europe/Brussels:20221221T120000
DTEND;TZID=Europe/Brussels:20221221T120000
END:VEVENT
BEGIN:VEVENT
UID:E5F03216-4619-44A1-A21C-5EA724CB9432-7-317_awayreminder@72.badmintonner
 s.net
DTSTAMP:20260420T055131Z
SUMMARY:Uitmatch bevestigd? (Olympia 1H (56) - De Pluim 2H (60))
DESCRIPTION:Je hebt 72 uur na aanvang om een uitmatch op Badmintonvlaandere
 n in te vullen. Match info: Olympia 1H (56) - De Pluim 2H (60) - Link: htt
 ps://www.badmintonvlaanderen.be/sport/teammatch.aspx?id=E5F03216-4619-44A1
 -A21C-5EA724CB9432&match=317
DTSTART;TZID=Europe/Brussels:20230131T093000
DTEND;TZID=Europe/Brussels:20230131T093000
END:VEVENT
BEGIN:VEVENT
UID:E5F03216-4619-44A1-A21C-5EA724CB9432-7-316_awayreminder@72.badmintonner
 s.net
DTSTAMP:20260420T055131Z
SUMMARY:Uitmatch bevestigd? (Klein Boom 3H (60) - De Pluim 2H (60))
DESCRIPTION:Je hebt 72 uur na aanvang om een uitmatch op Badmintonvlaandere
 n in te vullen. Match info: Klein Boom 3H (60) - De Pluim 2H (60) - Link: 
 https://www.badmintonvlaanderen.be/sport/teammatch.aspx?id=E5F03216-4619-4
 4A1-A21C-5EA724CB9432&match=316
DTSTART;TZID=Europe/Brussels:20230316T200000
DTEND;TZID=Europe/Brussels:20230316T200000
END:VEVENT
END:VCALENDAR