BEGIN:VCALENDAR
VERSION:2.0
PRODID:spatie/icalendar-generator
NAME:olve_5h_60_reminders
X-WR-CALNAME:olve_5h_60_reminders
BEGIN:VTIMEZONE
TZID:Europe/Brussels
BEGIN:DAYLIGHT
DTSTART:20220327T010000
TZOFFSETFROM:+0100
TZOFFSETTO:+0200
END:DAYLIGHT
BEGIN:STANDARD
DTSTART:20221030T030000
TZOFFSETFROM:+0200
TZOFFSETTO:+0100
END:STANDARD
BEGIN:DAYLIGHT
DTSTART:20230326T010000
TZOFFSETFROM:+0100
TZOFFSETTO:+0200
END:DAYLIGHT
BEGIN:STANDARD
DTSTART:20231029T030000
TZOFFSETFROM:+0200
TZOFFSETTO:+0100
END:STANDARD
END:VTIMEZONE
BEGIN:VTIMEZONE
TZID:UTC
BEGIN:STANDARD
DTSTART:20250724T055131
TZOFFSETFROM:+0000
TZOFFSETTO:+0000
END:STANDARD
END:VTIMEZONE
BEGIN:VEVENT
UID:E5F03216-4619-44A1-A21C-5EA724CB9432-7-289_homereminder@74.badmintonner
 s.net
DTSTAMP:20260420T055131Z
SUMMARY:Thuismatch ingevuld? (Olve 5H (60) - Zoersel 1H (60))
DESCRIPTION:Je hebt 36 uur na aanvang om een thuismatch op Badmintonvlaande
 ren in te vullen. Match info: Olve 5H (60) - Zoersel 1H (60) - Link: https
 ://www.badmintonvlaanderen.be/sport/teammatch.aspx?id=E5F03216-4619-44A1-A
 21C-5EA724CB9432&match=289
DTSTART;TZID=Europe/Brussels:20221030T213000
DTEND;TZID=Europe/Brussels:20221030T213000
END:VEVENT
BEGIN:VEVENT
UID:E5F03216-4619-44A1-A21C-5EA724CB9432-7-315_homereminder@74.badmintonner
 s.net
DTSTAMP:20260420T055131Z
SUMMARY:Thuismatch ingevuld? (Olve 5H (60) - De Pluim 2H (60))
DESCRIPTION:Je hebt 36 uur na aanvang om een thuismatch op Badmintonvlaande
 ren in te vullen. Match info: Olve 5H (60) - De Pluim 2H (60) - Link: http
 s://www.badmintonvlaanderen.be/sport/teammatch.aspx?id=E5F03216-4619-44A1-
 A21C-5EA724CB9432&match=315
DTSTART;TZID=Europe/Brussels:20221211T223000
DTEND;TZID=Europe/Brussels:20221211T223000
END:VEVENT
BEGIN:VEVENT
UID:E5F03216-4619-44A1-A21C-5EA724CB9432-7-305_homereminder@74.badmintonner
 s.net
DTSTAMP:20260420T055131Z
SUMMARY:Thuismatch ingevuld? (Olve 5H (60) - Klein Boom 3H (60))
DESCRIPTION:Je hebt 36 uur na aanvang om een thuismatch op Badmintonvlaande
 ren in te vullen. Match info: Olve 5H (60) - Klein Boom 3H (60) - Link: ht
 tps://www.badmintonvlaanderen.be/sport/teammatch.aspx?id=E5F03216-4619-44A
 1-A21C-5EA724CB9432&match=305
DTSTART;TZID=Europe/Brussels:20230122T223000
DTEND;TZID=Europe/Brussels:20230122T223000
END:VEVENT
BEGIN:VEVENT
UID:E5F03216-4619-44A1-A21C-5EA724CB9432-7-310_homereminder@74.badmintonner
 s.net
DTSTAMP:20260420T055131Z
SUMMARY:Thuismatch ingevuld? (Olve 5H (60) - Olympia 1H (56))
DESCRIPTION:Je hebt 36 uur na aanvang om een thuismatch op Badmintonvlaande
 ren in te vullen. Match info: Olve 5H (60) - Olympia 1H (56) - Link: https
 ://www.badmintonvlaanderen.be/sport/teammatch.aspx?id=E5F03216-4619-44A1-A
 21C-5EA724CB9432&match=310
DTSTART;TZID=Europe/Brussels:20230219T223000
DTEND;TZID=Europe/Brussels:20230219T223000
END:VEVENT
BEGIN:VEVENT
UID:E5F03216-4619-44A1-A21C-5EA724CB9432-7-294_homereminder@74.badmintonner
 s.net
DTSTAMP:20260420T055131Z
SUMMARY:Thuismatch ingevuld? (Olve 5H (60) - Opslag 3H (60))
DESCRIPTION:Je hebt 36 uur na aanvang om een thuismatch op Badmintonvlaande
 ren in te vullen. Match info: Olve 5H (60) - Opslag 3H (60) - Link: https:
 //www.badmintonvlaanderen.be/sport/teammatch.aspx?id=E5F03216-4619-44A1-A2
 1C-5EA724CB9432&match=294
DTSTART;TZID=Europe/Brussels:20230430T223000
DTEND;TZID=Europe/Brussels:20230430T223000
END:VEVENT
BEGIN:VEVENT
UID:E5F03216-4619-44A1-A21C-5EA724CB9432-7-301_awayreminder@74.badmintonner
 s.net
DTSTAMP:20260420T055131Z
SUMMARY:Uitmatch bevestigd? (Olympia 1H (56) - Olve 5H (60))
DESCRIPTION:Je hebt 72 uur na aanvang om een uitmatch op Badmintonvlaandere
 n in te vullen. Match info: Olympia 1H (56) - Olve 5H (60) - Link: https:/
 /www.badmintonvlaanderen.be/sport/teammatch.aspx?id=E5F03216-4619-44A1-A21
 C-5EA724CB9432&match=301
DTSTART;TZID=Europe/Brussels:20221025T093000
DTEND;TZID=Europe/Brussels:20221025T093000
END:VEVENT
BEGIN:VEVENT
UID:E5F03216-4619-44A1-A21C-5EA724CB9432-7-299_awayreminder@74.badmintonner
 s.net
DTSTAMP:20260420T055131Z
SUMMARY:Uitmatch bevestigd? (Opslag 3H (60) - Olve 5H (60))
DESCRIPTION:Je hebt 72 uur na aanvang om een uitmatch op Badmintonvlaandere
 n in te vullen. Match info: Opslag 3H (60) - Olve 5H (60) - Link: https://
 www.badmintonvlaanderen.be/sport/teammatch.aspx?id=E5F03216-4619-44A1-A21C
 -5EA724CB9432&match=299
DTSTART;TZID=Europe/Brussels:20221116T191500
DTEND;TZID=Europe/Brussels:20221116T191500
END:VEVENT
BEGIN:VEVENT
UID:E5F03216-4619-44A1-A21C-5EA724CB9432-7-300_awayreminder@74.badmintonner
 s.net
DTSTAMP:20260420T055131Z
SUMMARY:Uitmatch bevestigd? (Klein Boom 3H (60) - Olve 5H (60))
DESCRIPTION:Je hebt 72 uur na aanvang om een uitmatch op Badmintonvlaandere
 n in te vullen. Match info: Klein Boom 3H (60) - Olve 5H (60) - Link: http
 s://www.badmintonvlaanderen.be/sport/teammatch.aspx?id=E5F03216-4619-44A1-
 A21C-5EA724CB9432&match=300
DTSTART;TZID=Europe/Brussels:20221208T200000
DTEND;TZID=Europe/Brussels:20221208T200000
END:VEVENT
BEGIN:VEVENT
UID:E5F03216-4619-44A1-A21C-5EA724CB9432-7-298_awayreminder@74.badmintonner
 s.net
DTSTAMP:20260420T055131Z
SUMMARY:Uitmatch bevestigd? (Zoersel 1H (60) - Olve 5H (60))
DESCRIPTION:Je hebt 72 uur na aanvang om een uitmatch op Badmintonvlaandere
 n in te vullen. Match info: Zoersel 1H (60) - Olve 5H (60) - Link: https:/
 /www.badmintonvlaanderen.be/sport/teammatch.aspx?id=E5F03216-4619-44A1-A21
 C-5EA724CB9432&match=298
DTSTART;TZID=Europe/Brussels:20230322T120000
DTEND;TZID=Europe/Brussels:20230322T120000
END:VEVENT
BEGIN:VEVENT
UID:E5F03216-4619-44A1-A21C-5EA724CB9432-7-302_awayreminder@74.badmintonner
 s.net
DTSTAMP:20260420T055131Z
SUMMARY:Uitmatch bevestigd? (De Pluim 2H (60) - Olve 5H (60))
DESCRIPTION:Je hebt 72 uur na aanvang om een uitmatch op Badmintonvlaandere
 n in te vullen. Match info: De Pluim 2H (60) - Olve 5H (60) - Link: https:
 //www.badmintonvlaanderen.be/sport/teammatch.aspx?id=E5F03216-4619-44A1-A2
 1C-5EA724CB9432&match=302
DTSTART;TZID=Europe/Brussels:20230419T181500
DTEND;TZID=Europe/Brussels:20230419T181500
END:VEVENT
END:VCALENDAR