BEGIN:VCALENDAR
VERSION:2.0
PRODID:spatie/icalendar-generator
NAME:opslag_3h_60_reminders
X-WR-CALNAME:opslag_3h_60_reminders
BEGIN:VTIMEZONE
TZID:Europe/Brussels
BEGIN:DAYLIGHT
DTSTART:20220327T010000
TZOFFSETFROM:+0100
TZOFFSETTO:+0200
END:DAYLIGHT
BEGIN:STANDARD
DTSTART:20221030T030000
TZOFFSETFROM:+0200
TZOFFSETTO:+0100
END:STANDARD
BEGIN:DAYLIGHT
DTSTART:20230326T010000
TZOFFSETFROM:+0100
TZOFFSETTO:+0200
END:DAYLIGHT
BEGIN:STANDARD
DTSTART:20231029T030000
TZOFFSETFROM:+0200
TZOFFSETTO:+0100
END:STANDARD
END:VTIMEZONE
BEGIN:VTIMEZONE
TZID:UTC
BEGIN:STANDARD
DTSTART:20250724T055133
TZOFFSETFROM:+0000
TZOFFSETTO:+0000
END:STANDARD
END:VTIMEZONE
BEGIN:VEVENT
UID:E5F03216-4619-44A1-A21C-5EA724CB9432-7-309_homereminder@84.badmintonner
 s.net
DTSTAMP:20260420T055133Z
SUMMARY:Thuismatch ingevuld? (Opslag 3H (60) - Olympia 1H (56))
DESCRIPTION:Je hebt 36 uur na aanvang om een thuismatch op Badmintonvlaande
 ren in te vullen. Match info: Opslag 3H (60) - Olympia 1H (56) - Link: htt
 ps://www.badmintonvlaanderen.be/sport/teammatch.aspx?id=E5F03216-4619-44A1
 -A21C-5EA724CB9432&match=309
DTSTART;TZID=Europe/Brussels:20221004T071500
DTEND;TZID=Europe/Brussels:20221004T071500
END:VEVENT
BEGIN:VEVENT
UID:E5F03216-4619-44A1-A21C-5EA724CB9432-7-299_homereminder@84.badmintonner
 s.net
DTSTAMP:20260420T055133Z
SUMMARY:Thuismatch ingevuld? (Opslag 3H (60) - Olve 5H (60))
DESCRIPTION:Je hebt 36 uur na aanvang om een thuismatch op Badmintonvlaande
 ren in te vullen. Match info: Opslag 3H (60) - Olve 5H (60) - Link: https:
 //www.badmintonvlaanderen.be/sport/teammatch.aspx?id=E5F03216-4619-44A1-A2
 1C-5EA724CB9432&match=299
DTSTART;TZID=Europe/Brussels:20221115T071500
DTEND;TZID=Europe/Brussels:20221115T071500
END:VEVENT
BEGIN:VEVENT
UID:E5F03216-4619-44A1-A21C-5EA724CB9432-7-314_homereminder@84.badmintonner
 s.net
DTSTAMP:20260420T055133Z
SUMMARY:Thuismatch ingevuld? (Opslag 3H (60) - De Pluim 2H (60))
DESCRIPTION:Je hebt 36 uur na aanvang om een thuismatch op Badmintonvlaande
 ren in te vullen. Match info: Opslag 3H (60) - De Pluim 2H (60) - Link: ht
 tps://www.badmintonvlaanderen.be/sport/teammatch.aspx?id=E5F03216-4619-44A
 1-A21C-5EA724CB9432&match=314
DTSTART;TZID=Europe/Brussels:20221122T071500
DTEND;TZID=Europe/Brussels:20221122T071500
END:VEVENT
BEGIN:VEVENT
UID:E5F03216-4619-44A1-A21C-5EA724CB9432-7-288_homereminder@84.badmintonner
 s.net
DTSTAMP:20260420T055133Z
SUMMARY:Thuismatch ingevuld? (Opslag 3H (60) - Zoersel 1H (60))
DESCRIPTION:Je hebt 36 uur na aanvang om een thuismatch op Badmintonvlaande
 ren in te vullen. Match info: Opslag 3H (60) - Zoersel 1H (60) - Link: htt
 ps://www.badmintonvlaanderen.be/sport/teammatch.aspx?id=E5F03216-4619-44A1
 -A21C-5EA724CB9432&match=288
DTSTART;TZID=Europe/Brussels:20230221T071500
DTEND;TZID=Europe/Brussels:20230221T071500
END:VEVENT
BEGIN:VEVENT
UID:E5F03216-4619-44A1-A21C-5EA724CB9432-7-304_homereminder@84.badmintonner
 s.net
DTSTAMP:20260420T055133Z
SUMMARY:Thuismatch ingevuld? (Opslag 3H (60) - Klein Boom 3H (60))
DESCRIPTION:Je hebt 36 uur na aanvang om een thuismatch op Badmintonvlaande
 ren in te vullen. Match info: Opslag 3H (60) - Klein Boom 3H (60) - Link: 
 https://www.badmintonvlaanderen.be/sport/teammatch.aspx?id=E5F03216-4619-4
 4A1-A21C-5EA724CB9432&match=304
DTSTART;TZID=Europe/Brussels:20230418T071500
DTEND;TZID=Europe/Brussels:20230418T071500
END:VEVENT
BEGIN:VEVENT
UID:E5F03216-4619-44A1-A21C-5EA724CB9432-7-295_awayreminder@84.badmintonner
 s.net
DTSTAMP:20260420T055133Z
SUMMARY:Uitmatch bevestigd? (Klein Boom 3H (60) - Opslag 3H (60))
DESCRIPTION:Je hebt 72 uur na aanvang om een uitmatch op Badmintonvlaandere
 n in te vullen. Match info: Klein Boom 3H (60) - Opslag 3H (60) - Link: ht
 tps://www.badmintonvlaanderen.be/sport/teammatch.aspx?id=E5F03216-4619-44A
 1-A21C-5EA724CB9432&match=295
DTSTART;TZID=Europe/Brussels:20220921T190000
DTEND;TZID=Europe/Brussels:20220921T190000
END:VEVENT
BEGIN:VEVENT
UID:E5F03216-4619-44A1-A21C-5EA724CB9432-7-293_awayreminder@84.badmintonner
 s.net
DTSTAMP:20260420T055133Z
SUMMARY:Uitmatch bevestigd? (Zoersel 1H (60) - Opslag 3H (60))
DESCRIPTION:Je hebt 72 uur na aanvang om een uitmatch op Badmintonvlaandere
 n in te vullen. Match info: Zoersel 1H (60) - Opslag 3H (60) - Link: https
 ://www.badmintonvlaanderen.be/sport/teammatch.aspx?id=E5F03216-4619-44A1-A
 21C-5EA724CB9432&match=293
DTSTART;TZID=Europe/Brussels:20221019T120000
DTEND;TZID=Europe/Brussels:20221019T120000
END:VEVENT
BEGIN:VEVENT
UID:E5F03216-4619-44A1-A21C-5EA724CB9432-7-296_awayreminder@84.badmintonner
 s.net
DTSTAMP:20260420T055133Z
SUMMARY:Uitmatch bevestigd? (Olympia 1H (56) - Opslag 3H (60))
DESCRIPTION:Je hebt 72 uur na aanvang om een uitmatch op Badmintonvlaandere
 n in te vullen. Match info: Olympia 1H (56) - Opslag 3H (60) - Link: https
 ://www.badmintonvlaanderen.be/sport/teammatch.aspx?id=E5F03216-4619-44A1-A
 21C-5EA724CB9432&match=296
DTSTART;TZID=Europe/Brussels:20230124T093000
DTEND;TZID=Europe/Brussels:20230124T093000
END:VEVENT
BEGIN:VEVENT
UID:E5F03216-4619-44A1-A21C-5EA724CB9432-7-297_awayreminder@84.badmintonner
 s.net
DTSTAMP:20260420T055133Z
SUMMARY:Uitmatch bevestigd? (De Pluim 2H (60) - Opslag 3H (60))
DESCRIPTION:Je hebt 72 uur na aanvang om een uitmatch op Badmintonvlaandere
 n in te vullen. Match info: De Pluim 2H (60) - Opslag 3H (60) - Link: http
 s://www.badmintonvlaanderen.be/sport/teammatch.aspx?id=E5F03216-4619-44A1-
 A21C-5EA724CB9432&match=297
DTSTART;TZID=Europe/Brussels:20230322T181500
DTEND;TZID=Europe/Brussels:20230322T181500
END:VEVENT
BEGIN:VEVENT
UID:E5F03216-4619-44A1-A21C-5EA724CB9432-7-294_awayreminder@84.badmintonner
 s.net
DTSTAMP:20260420T055133Z
SUMMARY:Uitmatch bevestigd? (Olve 5H (60) - Opslag 3H (60))
DESCRIPTION:Je hebt 72 uur na aanvang om een uitmatch op Badmintonvlaandere
 n in te vullen. Match info: Olve 5H (60) - Opslag 3H (60) - Link: https://
 www.badmintonvlaanderen.be/sport/teammatch.aspx?id=E5F03216-4619-44A1-A21C
 -5EA724CB9432&match=294
DTSTART;TZID=Europe/Brussels:20230502T103000
DTEND;TZID=Europe/Brussels:20230502T103000
END:VEVENT
END:VCALENDAR