BEGIN:VCALENDAR
VERSION:2.0
PRODID:spatie/icalendar-generator
NAME:klein_boom_3h_60_reminders
X-WR-CALNAME:klein_boom_3h_60_reminders
BEGIN:VTIMEZONE
TZID:Europe/Brussels
BEGIN:DAYLIGHT
DTSTART:20220327T010000
TZOFFSETFROM:+0100
TZOFFSETTO:+0200
END:DAYLIGHT
BEGIN:STANDARD
DTSTART:20221030T030000
TZOFFSETFROM:+0200
TZOFFSETTO:+0100
END:STANDARD
BEGIN:DAYLIGHT
DTSTART:20230326T010000
TZOFFSETFROM:+0100
TZOFFSETTO:+0200
END:DAYLIGHT
BEGIN:STANDARD
DTSTART:20231029T030000
TZOFFSETFROM:+0200
TZOFFSETTO:+0100
END:STANDARD
END:VTIMEZONE
BEGIN:VTIMEZONE
TZID:UTC
BEGIN:STANDARD
DTSTART:20250724T055135
TZOFFSETFROM:+0000
TZOFFSETTO:+0000
END:STANDARD
END:VTIMEZONE
BEGIN:VEVENT
UID:E5F03216-4619-44A1-A21C-5EA724CB9432-7-295_homereminder@85.badmintonner
 s.net
DTSTAMP:20260420T055135Z
SUMMARY:Thuismatch ingevuld? (Klein Boom 3H (60) - Opslag 3H (60))
DESCRIPTION:Je hebt 36 uur na aanvang om een thuismatch op Badmintonvlaande
 ren in te vullen. Match info: Klein Boom 3H (60) - Opslag 3H (60) - Link: 
 https://www.badmintonvlaanderen.be/sport/teammatch.aspx?id=E5F03216-4619-4
 4A1-A21C-5EA724CB9432&match=295
DTSTART;TZID=Europe/Brussels:20220920T070000
DTEND;TZID=Europe/Brussels:20220920T070000
END:VEVENT
BEGIN:VEVENT
UID:E5F03216-4619-44A1-A21C-5EA724CB9432-7-311_homereminder@85.badmintonner
 s.net
DTSTAMP:20260420T055135Z
SUMMARY:Thuismatch ingevuld? (Klein Boom 3H (60) - Olympia 1H (56))
DESCRIPTION:Je hebt 36 uur na aanvang om een thuismatch op Badmintonvlaande
 ren in te vullen. Match info: Klein Boom 3H (60) - Olympia 1H (56) - Link:
  https://www.badmintonvlaanderen.be/sport/teammatch.aspx?id=E5F03216-4619-
 44A1-A21C-5EA724CB9432&match=311
DTSTART;TZID=Europe/Brussels:20221101T070000
DTEND;TZID=Europe/Brussels:20221101T070000
END:VEVENT
BEGIN:VEVENT
UID:E5F03216-4619-44A1-A21C-5EA724CB9432-7-300_homereminder@85.badmintonner
 s.net
DTSTAMP:20260420T055135Z
SUMMARY:Thuismatch ingevuld? (Klein Boom 3H (60) - Olve 5H (60))
DESCRIPTION:Je hebt 36 uur na aanvang om een thuismatch op Badmintonvlaande
 ren in te vullen. Match info: Klein Boom 3H (60) - Olve 5H (60) - Link: ht
 tps://www.badmintonvlaanderen.be/sport/teammatch.aspx?id=E5F03216-4619-44A
 1-A21C-5EA724CB9432&match=300
DTSTART;TZID=Europe/Brussels:20221207T080000
DTEND;TZID=Europe/Brussels:20221207T080000
END:VEVENT
BEGIN:VEVENT
UID:E5F03216-4619-44A1-A21C-5EA724CB9432-7-316_homereminder@85.badmintonner
 s.net
DTSTAMP:20260420T055135Z
SUMMARY:Thuismatch ingevuld? (Klein Boom 3H (60) - De Pluim 2H (60))
DESCRIPTION:Je hebt 36 uur na aanvang om een thuismatch op Badmintonvlaande
 ren in te vullen. Match info: Klein Boom 3H (60) - De Pluim 2H (60) - Link
 : https://www.badmintonvlaanderen.be/sport/teammatch.aspx?id=E5F03216-4619
 -44A1-A21C-5EA724CB9432&match=316
DTSTART;TZID=Europe/Brussels:20230315T080000
DTEND;TZID=Europe/Brussels:20230315T080000
END:VEVENT
BEGIN:VEVENT
UID:E5F03216-4619-44A1-A21C-5EA724CB9432-7-290_homereminder@85.badmintonner
 s.net
DTSTAMP:20260420T055135Z
SUMMARY:Thuismatch ingevuld? (Klein Boom 3H (60) - Zoersel 1H (60))
DESCRIPTION:Je hebt 36 uur na aanvang om een thuismatch op Badmintonvlaande
 ren in te vullen. Match info: Klein Boom 3H (60) - Zoersel 1H (60) - Link:
  https://www.badmintonvlaanderen.be/sport/teammatch.aspx?id=E5F03216-4619-
 44A1-A21C-5EA724CB9432&match=290
DTSTART;TZID=Europe/Brussels:20230502T070000
DTEND;TZID=Europe/Brussels:20230502T070000
END:VEVENT
BEGIN:VEVENT
UID:E5F03216-4619-44A1-A21C-5EA724CB9432-7-307_awayreminder@85.badmintonner
 s.net
DTSTAMP:20260420T055135Z
SUMMARY:Uitmatch bevestigd? (De Pluim 2H (60) - Klein Boom 3H (60))
DESCRIPTION:Je hebt 72 uur na aanvang om een uitmatch op Badmintonvlaandere
 n in te vullen. Match info: De Pluim 2H (60) - Klein Boom 3H (60) - Link: 
 https://www.badmintonvlaanderen.be/sport/teammatch.aspx?id=E5F03216-4619-4
 4A1-A21C-5EA724CB9432&match=307
DTSTART;TZID=Europe/Brussels:20221116T181500
DTEND;TZID=Europe/Brussels:20221116T181500
END:VEVENT
BEGIN:VEVENT
UID:E5F03216-4619-44A1-A21C-5EA724CB9432-7-303_awayreminder@85.badmintonner
 s.net
DTSTAMP:20260420T055135Z
SUMMARY:Uitmatch bevestigd? (Zoersel 1H (60) - Klein Boom 3H (60))
DESCRIPTION:Je hebt 72 uur na aanvang om een uitmatch op Badmintonvlaandere
 n in te vullen. Match info: Zoersel 1H (60) - Klein Boom 3H (60) - Link: h
 ttps://www.badmintonvlaanderen.be/sport/teammatch.aspx?id=E5F03216-4619-44
 A1-A21C-5EA724CB9432&match=303
DTSTART;TZID=Europe/Brussels:20221214T120000
DTEND;TZID=Europe/Brussels:20221214T120000
END:VEVENT
BEGIN:VEVENT
UID:E5F03216-4619-44A1-A21C-5EA724CB9432-7-305_awayreminder@85.badmintonner
 s.net
DTSTAMP:20260420T055135Z
SUMMARY:Uitmatch bevestigd? (Olve 5H (60) - Klein Boom 3H (60))
DESCRIPTION:Je hebt 72 uur na aanvang om een uitmatch op Badmintonvlaandere
 n in te vullen. Match info: Olve 5H (60) - Klein Boom 3H (60) - Link: http
 s://www.badmintonvlaanderen.be/sport/teammatch.aspx?id=E5F03216-4619-44A1-
 A21C-5EA724CB9432&match=305
DTSTART;TZID=Europe/Brussels:20230124T103000
DTEND;TZID=Europe/Brussels:20230124T103000
END:VEVENT
BEGIN:VEVENT
UID:E5F03216-4619-44A1-A21C-5EA724CB9432-7-306_awayreminder@85.badmintonner
 s.net
DTSTAMP:20260420T055135Z
SUMMARY:Uitmatch bevestigd? (Olympia 1H (56) - Klein Boom 3H (60))
DESCRIPTION:Je hebt 72 uur na aanvang om een uitmatch op Badmintonvlaandere
 n in te vullen. Match info: Olympia 1H (56) - Klein Boom 3H (60) - Link: h
 ttps://www.badmintonvlaanderen.be/sport/teammatch.aspx?id=E5F03216-4619-44
 A1-A21C-5EA724CB9432&match=306
DTSTART;TZID=Europe/Brussels:20230321T093000
DTEND;TZID=Europe/Brussels:20230321T093000
END:VEVENT
BEGIN:VEVENT
UID:E5F03216-4619-44A1-A21C-5EA724CB9432-7-304_awayreminder@85.badmintonner
 s.net
DTSTAMP:20260420T055135Z
SUMMARY:Uitmatch bevestigd? (Opslag 3H (60) - Klein Boom 3H (60))
DESCRIPTION:Je hebt 72 uur na aanvang om een uitmatch op Badmintonvlaandere
 n in te vullen. Match info: Opslag 3H (60) - Klein Boom 3H (60) - Link: ht
 tps://www.badmintonvlaanderen.be/sport/teammatch.aspx?id=E5F03216-4619-44A
 1-A21C-5EA724CB9432&match=304
DTSTART;TZID=Europe/Brussels:20230419T191500
DTEND;TZID=Europe/Brussels:20230419T191500
END:VEVENT
END:VCALENDAR