BEGIN:VCALENDAR
VERSION:2.0
PRODID:spatie/icalendar-generator
NAME:olympia_1h_56_reminders
X-WR-CALNAME:olympia_1h_56_reminders
BEGIN:VTIMEZONE
TZID:Europe/Brussels
BEGIN:DAYLIGHT
DTSTART:20220327T010000
TZOFFSETFROM:+0100
TZOFFSETTO:+0200
END:DAYLIGHT
BEGIN:STANDARD
DTSTART:20221030T030000
TZOFFSETFROM:+0200
TZOFFSETTO:+0100
END:STANDARD
BEGIN:DAYLIGHT
DTSTART:20230326T010000
TZOFFSETFROM:+0100
TZOFFSETTO:+0200
END:DAYLIGHT
END:VTIMEZONE
BEGIN:VTIMEZONE
TZID:UTC
BEGIN:STANDARD
DTSTART:20250724T055127
TZOFFSETFROM:+0000
TZOFFSETTO:+0000
END:STANDARD
END:VTIMEZONE
BEGIN:VEVENT
UID:E5F03216-4619-44A1-A21C-5EA724CB9432-7-301_homereminder@88.badmintonner
 s.net
DTSTAMP:20260420T055127Z
SUMMARY:Thuismatch ingevuld? (Olympia 1H (56) - Olve 5H (60))
DESCRIPTION:Je hebt 36 uur na aanvang om een thuismatch op Badmintonvlaande
 ren in te vullen. Match info: Olympia 1H (56) - Olve 5H (60) - Link: https
 ://www.badmintonvlaanderen.be/sport/teammatch.aspx?id=E5F03216-4619-44A1-A
 21C-5EA724CB9432&match=301
DTSTART;TZID=Europe/Brussels:20221023T213000
DTEND;TZID=Europe/Brussels:20221023T213000
END:VEVENT
BEGIN:VEVENT
UID:E5F03216-4619-44A1-A21C-5EA724CB9432-7-291_homereminder@88.badmintonner
 s.net
DTSTAMP:20260420T055127Z
SUMMARY:Thuismatch ingevuld? (Olympia 1H (56) - Zoersel 1H (60))
DESCRIPTION:Je hebt 36 uur na aanvang om een thuismatch op Badmintonvlaande
 ren in te vullen. Match info: Olympia 1H (56) - Zoersel 1H (60) - Link: ht
 tps://www.badmintonvlaanderen.be/sport/teammatch.aspx?id=E5F03216-4619-44A
 1-A21C-5EA724CB9432&match=291
DTSTART;TZID=Europe/Brussels:20221113T213000
DTEND;TZID=Europe/Brussels:20221113T213000
END:VEVENT
BEGIN:VEVENT
UID:E5F03216-4619-44A1-A21C-5EA724CB9432-7-296_homereminder@88.badmintonner
 s.net
DTSTAMP:20260420T055127Z
SUMMARY:Thuismatch ingevuld? (Olympia 1H (56) - Opslag 3H (60))
DESCRIPTION:Je hebt 36 uur na aanvang om een thuismatch op Badmintonvlaande
 ren in te vullen. Match info: Olympia 1H (56) - Opslag 3H (60) - Link: htt
 ps://www.badmintonvlaanderen.be/sport/teammatch.aspx?id=E5F03216-4619-44A1
 -A21C-5EA724CB9432&match=296
DTSTART;TZID=Europe/Brussels:20230122T213000
DTEND;TZID=Europe/Brussels:20230122T213000
END:VEVENT
BEGIN:VEVENT
UID:E5F03216-4619-44A1-A21C-5EA724CB9432-7-317_homereminder@88.badmintonner
 s.net
DTSTAMP:20260420T055127Z
SUMMARY:Thuismatch ingevuld? (Olympia 1H (56) - De Pluim 2H (60))
DESCRIPTION:Je hebt 36 uur na aanvang om een thuismatch op Badmintonvlaande
 ren in te vullen. Match info: Olympia 1H (56) - De Pluim 2H (60) - Link: h
 ttps://www.badmintonvlaanderen.be/sport/teammatch.aspx?id=E5F03216-4619-44
 A1-A21C-5EA724CB9432&match=317
DTSTART;TZID=Europe/Brussels:20230129T213000
DTEND;TZID=Europe/Brussels:20230129T213000
END:VEVENT
BEGIN:VEVENT
UID:E5F03216-4619-44A1-A21C-5EA724CB9432-7-306_homereminder@88.badmintonner
 s.net
DTSTAMP:20260420T055127Z
SUMMARY:Thuismatch ingevuld? (Olympia 1H (56) - Klein Boom 3H (60))
DESCRIPTION:Je hebt 36 uur na aanvang om een thuismatch op Badmintonvlaande
 ren in te vullen. Match info: Olympia 1H (56) - Klein Boom 3H (60) - Link:
  https://www.badmintonvlaanderen.be/sport/teammatch.aspx?id=E5F03216-4619-
 44A1-A21C-5EA724CB9432&match=306
DTSTART;TZID=Europe/Brussels:20230319T213000
DTEND;TZID=Europe/Brussels:20230319T213000
END:VEVENT
BEGIN:VEVENT
UID:E5F03216-4619-44A1-A21C-5EA724CB9432-7-309_awayreminder@88.badmintonner
 s.net
DTSTAMP:20260420T055127Z
SUMMARY:Uitmatch bevestigd? (Opslag 3H (60) - Olympia 1H (56))
DESCRIPTION:Je hebt 72 uur na aanvang om een uitmatch op Badmintonvlaandere
 n in te vullen. Match info: Opslag 3H (60) - Olympia 1H (56) - Link: https
 ://www.badmintonvlaanderen.be/sport/teammatch.aspx?id=E5F03216-4619-44A1-A
 21C-5EA724CB9432&match=309
DTSTART;TZID=Europe/Brussels:20221005T191500
DTEND;TZID=Europe/Brussels:20221005T191500
END:VEVENT
BEGIN:VEVENT
UID:E5F03216-4619-44A1-A21C-5EA724CB9432-7-311_awayreminder@88.badmintonner
 s.net
DTSTAMP:20260420T055127Z
SUMMARY:Uitmatch bevestigd? (Klein Boom 3H (60) - Olympia 1H (56))
DESCRIPTION:Je hebt 72 uur na aanvang om een uitmatch op Badmintonvlaandere
 n in te vullen. Match info: Klein Boom 3H (60) - Olympia 1H (56) - Link: h
 ttps://www.badmintonvlaanderen.be/sport/teammatch.aspx?id=E5F03216-4619-44
 A1-A21C-5EA724CB9432&match=311
DTSTART;TZID=Europe/Brussels:20221102T190000
DTEND;TZID=Europe/Brussels:20221102T190000
END:VEVENT
BEGIN:VEVENT
UID:E5F03216-4619-44A1-A21C-5EA724CB9432-7-312_awayreminder@88.badmintonner
 s.net
DTSTAMP:20260420T055127Z
SUMMARY:Uitmatch bevestigd? (De Pluim 2H (60) - Olympia 1H (56))
DESCRIPTION:Je hebt 72 uur na aanvang om een uitmatch op Badmintonvlaandere
 n in te vullen. Match info: De Pluim 2H (60) - Olympia 1H (56) - Link: htt
 ps://www.badmintonvlaanderen.be/sport/teammatch.aspx?id=E5F03216-4619-44A1
 -A21C-5EA724CB9432&match=312
DTSTART;TZID=Europe/Brussels:20221130T181500
DTEND;TZID=Europe/Brussels:20221130T181500
END:VEVENT
BEGIN:VEVENT
UID:E5F03216-4619-44A1-A21C-5EA724CB9432-7-308_awayreminder@88.badmintonner
 s.net
DTSTAMP:20260420T055127Z
SUMMARY:Uitmatch bevestigd? (Zoersel 1H (60) - Olympia 1H (56))
DESCRIPTION:Je hebt 72 uur na aanvang om een uitmatch op Badmintonvlaandere
 n in te vullen. Match info: Zoersel 1H (60) - Olympia 1H (56) - Link: http
 s://www.badmintonvlaanderen.be/sport/teammatch.aspx?id=E5F03216-4619-44A1-
 A21C-5EA724CB9432&match=308
DTSTART;TZID=Europe/Brussels:20230111T120000
DTEND;TZID=Europe/Brussels:20230111T120000
END:VEVENT
BEGIN:VEVENT
UID:E5F03216-4619-44A1-A21C-5EA724CB9432-7-310_awayreminder@88.badmintonner
 s.net
DTSTAMP:20260420T055127Z
SUMMARY:Uitmatch bevestigd? (Olve 5H (60) - Olympia 1H (56))
DESCRIPTION:Je hebt 72 uur na aanvang om een uitmatch op Badmintonvlaandere
 n in te vullen. Match info: Olve 5H (60) - Olympia 1H (56) - Link: https:/
 /www.badmintonvlaanderen.be/sport/teammatch.aspx?id=E5F03216-4619-44A1-A21
 C-5EA724CB9432&match=310
DTSTART;TZID=Europe/Brussels:20230221T103000
DTEND;TZID=Europe/Brussels:20230221T103000
END:VEVENT
END:VCALENDAR