BEGIN:VCALENDAR
VERSION:2.0
PRODID:spatie/icalendar-generator
NAME:klein_boom_4h_68_reminders
X-WR-CALNAME:klein_boom_4h_68_reminders
BEGIN:VTIMEZONE
TZID:Europe/Brussels
BEGIN:DAYLIGHT
DTSTART:20250330T010000
TZOFFSETFROM:+0100
TZOFFSETTO:+0200
END:DAYLIGHT
BEGIN:STANDARD
DTSTART:20251026T030000
TZOFFSETFROM:+0200
TZOFFSETTO:+0100
END:STANDARD
BEGIN:DAYLIGHT
DTSTART:20260329T010000
TZOFFSETFROM:+0100
TZOFFSETTO:+0200
END:DAYLIGHT
END:VTIMEZONE
BEGIN:VTIMEZONE
TZID:UTC
BEGIN:STANDARD
DTSTART:20250724T042236
TZOFFSETFROM:+0000
TZOFFSETTO:+0000
END:STANDARD
END:VTIMEZONE
BEGIN:VEVENT
UID:A0E9B3BE-1D47-428D-8EB5-7807839F7498-14-565_homereminder@75.badmintonne
 rs.net
DTSTAMP:20260420T042236Z
SUMMARY:Thuismatch ingevuld? (Klein Boom 4H (68) - Spinshuttle 3H (63))
DESCRIPTION:Je hebt 36 uur na aanvang om een thuismatch op Badmintonvlaande
 ren in te vullen. Match info: Klein Boom 4H (68) - Spinshuttle 3H (63) - L
 ink: https://www.badmintonvlaanderen.be/sport/teammatch.aspx?id=A0E9B3BE-1
 D47-428D-8EB5-7807839F7498&match=565
DTSTART;TZID=Europe/Brussels:20251007T070000
DTEND;TZID=Europe/Brussels:20251007T070000
END:VEVENT
BEGIN:VEVENT
UID:A0E9B3BE-1D47-428D-8EB5-7807839F7498-14-575_homereminder@75.badmintonne
 rs.net
DTSTAMP:20260420T042236Z
SUMMARY:Thuismatch ingevuld? (Klein Boom 4H (68) - Geelse 2H (69))
DESCRIPTION:Je hebt 36 uur na aanvang om een thuismatch op Badmintonvlaande
 ren in te vullen. Match info: Klein Boom 4H (68) - Geelse 2H (69) - Link: 
 https://www.badmintonvlaanderen.be/sport/teammatch.aspx?id=A0E9B3BE-1D47-4
 28D-8EB5-7807839F7498&match=575
DTSTART;TZID=Europe/Brussels:20251028T070000
DTEND;TZID=Europe/Brussels:20251028T070000
END:VEVENT
BEGIN:VEVENT
UID:A0E9B3BE-1D47-428D-8EB5-7807839F7498-14-570_homereminder@75.badmintonne
 rs.net
DTSTAMP:20260420T042236Z
SUMMARY:Thuismatch ingevuld? (Klein Boom 4H (68) - De Nekker 3H (69))
DESCRIPTION:Je hebt 36 uur na aanvang om een thuismatch op Badmintonvlaande
 ren in te vullen. Match info: Klein Boom 4H (68) - De Nekker 3H (69) - Lin
 k: https://www.badmintonvlaanderen.be/sport/teammatch.aspx?id=A0E9B3BE-1D4
 7-428D-8EB5-7807839F7498&match=570
DTSTART;TZID=Europe/Brussels:20260113T070000
DTEND;TZID=Europe/Brussels:20260113T070000
END:VEVENT
BEGIN:VEVENT
UID:A0E9B3BE-1D47-428D-8EB5-7807839F7498-14-580_homereminder@75.badmintonne
 rs.net
DTSTAMP:20260420T042236Z
SUMMARY:Thuismatch ingevuld? (Klein Boom 4H (68) - Rivierenland 4H (68))
DESCRIPTION:Je hebt 36 uur na aanvang om een thuismatch op Badmintonvlaande
 ren in te vullen. Match info: Klein Boom 4H (68) - Rivierenland 4H (68) - 
 Link: https://www.badmintonvlaanderen.be/sport/teammatch.aspx?id=A0E9B3BE-
 1D47-428D-8EB5-7807839F7498&match=580
DTSTART;TZID=Europe/Brussels:20260310T070000
DTEND;TZID=Europe/Brussels:20260310T070000
END:VEVENT
BEGIN:VEVENT
UID:A0E9B3BE-1D47-428D-8EB5-7807839F7498-14-591_homereminder@75.badmintonne
 rs.net
DTSTAMP:20260420T042236Z
SUMMARY:Thuismatch ingevuld? (Klein Boom 4H (68) - Olve 5H (68))
DESCRIPTION:Je hebt 36 uur na aanvang om een thuismatch op Badmintonvlaande
 ren in te vullen. Match info: Klein Boom 4H (68) - Olve 5H (68) - Link: ht
 tps://www.badmintonvlaanderen.be/sport/teammatch.aspx?id=A0E9B3BE-1D47-428
 D-8EB5-7807839F7498&match=591
DTSTART;TZID=Europe/Brussels:20260324T070000
DTEND;TZID=Europe/Brussels:20260324T070000
END:VEVENT
BEGIN:VEVENT
UID:A0E9B3BE-1D47-428D-8EB5-7807839F7498-14-583_awayreminder@75.badmintonne
 rs.net
DTSTAMP:20260420T042236Z
SUMMARY:Uitmatch bevestigd? (De Nekker 3H (69) - Klein Boom 4H (68))
DESCRIPTION:Je hebt 72 uur na aanvang om een uitmatch op Badmintonvlaandere
 n in te vullen. Match info: De Nekker 3H (69) - Klein Boom 4H (68) - Link:
  https://www.badmintonvlaanderen.be/sport/teammatch.aspx?id=A0E9B3BE-1D47-
 428D-8EB5-7807839F7498&match=583
DTSTART;TZID=Europe/Brussels:20251003T203000
DTEND;TZID=Europe/Brussels:20251003T203000
END:VEVENT
BEGIN:VEVENT
UID:A0E9B3BE-1D47-428D-8EB5-7807839F7498-14-585_awayreminder@75.badmintonne
 rs.net
DTSTAMP:20260420T042236Z
SUMMARY:Uitmatch bevestigd? (Rivierenland 4H (68) - Klein Boom 4H (68))
DESCRIPTION:Je hebt 72 uur na aanvang om een uitmatch op Badmintonvlaandere
 n in te vullen. Match info: Rivierenland 4H (68) - Klein Boom 4H (68) - Li
 nk: https://www.badmintonvlaanderen.be/sport/teammatch.aspx?id=A0E9B3BE-1D
 47-428D-8EB5-7807839F7498&match=585
DTSTART;TZID=Europe/Brussels:20251119T140000
DTEND;TZID=Europe/Brussels:20251119T140000
END:VEVENT
BEGIN:VEVENT
UID:A0E9B3BE-1D47-428D-8EB5-7807839F7498-14-586_awayreminder@75.badmintonne
 rs.net
DTSTAMP:20260420T042236Z
SUMMARY:Uitmatch bevestigd? (Olve 5H (68) - Klein Boom 4H (68))
DESCRIPTION:Je hebt 72 uur na aanvang om een uitmatch op Badmintonvlaandere
 n in te vullen. Match info: Olve 5H (68) - Klein Boom 4H (68) - Link: http
 s://www.badmintonvlaanderen.be/sport/teammatch.aspx?id=A0E9B3BE-1D47-428D-
 8EB5-7807839F7498&match=586
DTSTART;TZID=Europe/Brussels:20251202T103000
DTEND;TZID=Europe/Brussels:20251202T103000
END:VEVENT
BEGIN:VEVENT
UID:A0E9B3BE-1D47-428D-8EB5-7807839F7498-14-584_awayreminder@75.badmintonne
 rs.net
DTSTAMP:20260420T042236Z
SUMMARY:Uitmatch bevestigd? (Geelse 2H (69) - Klein Boom 4H (68))
DESCRIPTION:Je hebt 72 uur na aanvang om een uitmatch op Badmintonvlaandere
 n in te vullen. Match info: Geelse 2H (69) - Klein Boom 4H (68) - Link: ht
 tps://www.badmintonvlaanderen.be/sport/teammatch.aspx?id=A0E9B3BE-1D47-428
 D-8EB5-7807839F7498&match=584
DTSTART;TZID=Europe/Brussels:20260208T200000
DTEND;TZID=Europe/Brussels:20260208T200000
END:VEVENT
BEGIN:VEVENT
UID:A0E9B3BE-1D47-428D-8EB5-7807839F7498-14-582_awayreminder@75.badmintonne
 rs.net
DTSTAMP:20260420T042236Z
SUMMARY:Uitmatch bevestigd? (Spinshuttle 3H (63) - Klein Boom 4H (68))
DESCRIPTION:Je hebt 72 uur na aanvang om een uitmatch op Badmintonvlaandere
 n in te vullen. Match info: Spinshuttle 3H (63) - Klein Boom 4H (68) - Lin
 k: https://www.badmintonvlaanderen.be/sport/teammatch.aspx?id=A0E9B3BE-1D4
 7-428D-8EB5-7807839F7498&match=582
DTSTART;TZID=Europe/Brussels:20260417T200000
DTEND;TZID=Europe/Brussels:20260417T200000
END:VEVENT
END:VCALENDAR