BEGIN:VCALENDAR
VERSION:2.0
PRODID:spatie/icalendar-generator
NAME:brasschaat_3g_62_reminders
X-WR-CALNAME:brasschaat_3g_62_reminders
BEGIN:VTIMEZONE
TZID:Europe/Brussels
BEGIN:DAYLIGHT
DTSTART:20250330T010000
TZOFFSETFROM:+0100
TZOFFSETTO:+0200
END:DAYLIGHT
BEGIN:STANDARD
DTSTART:20251026T030000
TZOFFSETFROM:+0200
TZOFFSETTO:+0100
END:STANDARD
BEGIN:DAYLIGHT
DTSTART:20260329T010000
TZOFFSETFROM:+0100
TZOFFSETTO:+0200
END:DAYLIGHT
END:VTIMEZONE
BEGIN:VTIMEZONE
TZID:UTC
BEGIN:STANDARD
DTSTART:20250724T055109
TZOFFSETFROM:+0000
TZOFFSETTO:+0000
END:STANDARD
END:VTIMEZONE
BEGIN:VEVENT
UID:A0E9B3BE-1D47-428D-8EB5-7807839F7498-20-831_homereminder@134.badmintonn
 ers.net
DTSTAMP:20260420T055109Z
SUMMARY:Thuismatch ingevuld? (Brasschaat 3G (62) - Rita Serveert 1G (61))
DESCRIPTION:Je hebt 36 uur na aanvang om een thuismatch op Badmintonvlaande
 ren in te vullen. Match info: Brasschaat 3G (62) - Rita Serveert 1G (61) -
  Link: https://www.badmintonvlaanderen.be/sport/teammatch.aspx?id=A0E9B3BE
 -1D47-428D-8EB5-7807839F7498&match=831
DTSTART;TZID=Europe/Brussels:20251111T070000
DTEND;TZID=Europe/Brussels:20251111T070000
END:VEVENT
BEGIN:VEVENT
UID:A0E9B3BE-1D47-428D-8EB5-7807839F7498-20-855_homereminder@134.badmintonn
 ers.net
DTSTAMP:20260420T055109Z
SUMMARY:Thuismatch ingevuld? (Brasschaat 3G (62) - Smash 1G (73))
DESCRIPTION:Je hebt 36 uur na aanvang om een thuismatch op Badmintonvlaande
 ren in te vullen. Match info: Brasschaat 3G (62) - Smash 1G (73) - Link: h
 ttps://www.badmintonvlaanderen.be/sport/teammatch.aspx?id=A0E9B3BE-1D47-42
 8D-8EB5-7807839F7498&match=855
DTSTART;TZID=Europe/Brussels:20251118T070000
DTEND;TZID=Europe/Brussels:20251118T070000
END:VEVENT
BEGIN:VEVENT
UID:A0E9B3BE-1D47-428D-8EB5-7807839F7498-20-843_homereminder@134.badmintonn
 ers.net
DTSTAMP:20260420T055109Z
SUMMARY:Thuismatch ingevuld? (Brasschaat 3G (62) - Rivierenland 2G (62))
DESCRIPTION:Je hebt 36 uur na aanvang om een thuismatch op Badmintonvlaande
 ren in te vullen. Match info: Brasschaat 3G (62) - Rivierenland 2G (62) - 
 Link: https://www.badmintonvlaanderen.be/sport/teammatch.aspx?id=A0E9B3BE-
 1D47-428D-8EB5-7807839F7498&match=843
DTSTART;TZID=Europe/Brussels:20251125T070000
DTEND;TZID=Europe/Brussels:20251125T070000
END:VEVENT
BEGIN:VEVENT
UID:A0E9B3BE-1D47-428D-8EB5-7807839F7498-20-849_homereminder@134.badmintonn
 ers.net
DTSTAMP:20260420T055109Z
SUMMARY:Thuismatch ingevuld? (Brasschaat 3G (62) - Klein Boom 2G (62))
DESCRIPTION:Je hebt 36 uur na aanvang om een thuismatch op Badmintonvlaande
 ren in te vullen. Match info: Brasschaat 3G (62) - Klein Boom 2G (62) - Li
 nk: https://www.badmintonvlaanderen.be/sport/teammatch.aspx?id=A0E9B3BE-1D
 47-428D-8EB5-7807839F7498&match=849
DTSTART;TZID=Europe/Brussels:20260210T070000
DTEND;TZID=Europe/Brussels:20260210T070000
END:VEVENT
BEGIN:VEVENT
UID:A0E9B3BE-1D47-428D-8EB5-7807839F7498-20-837_homereminder@134.badmintonn
 ers.net
DTSTAMP:20260420T055109Z
SUMMARY:Thuismatch ingevuld? (Brasschaat 3G (62) - Beerke 1G (67))
DESCRIPTION:Je hebt 36 uur na aanvang om een thuismatch op Badmintonvlaande
 ren in te vullen. Match info: Brasschaat 3G (62) - Beerke 1G (67) - Link: 
 https://www.badmintonvlaanderen.be/sport/teammatch.aspx?id=A0E9B3BE-1D47-4
 28D-8EB5-7807839F7498&match=837
DTSTART;TZID=Europe/Brussels:20260303T070000
DTEND;TZID=Europe/Brussels:20260303T070000
END:VEVENT
BEGIN:VEVENT
UID:A0E9B3BE-1D47-428D-8EB5-7807839F7498-20-818_homereminder@134.badmintonn
 ers.net
DTSTAMP:20260420T055109Z
SUMMARY:Thuismatch ingevuld? (Brasschaat 3G (62) - Bacss 1G (74))
DESCRIPTION:Je hebt 36 uur na aanvang om een thuismatch op Badmintonvlaande
 ren in te vullen. Match info: Brasschaat 3G (62) - Bacss 1G (74) - Link: h
 ttps://www.badmintonvlaanderen.be/sport/teammatch.aspx?id=A0E9B3BE-1D47-42
 8D-8EB5-7807839F7498&match=818
DTSTART;TZID=Europe/Brussels:20260317T070000
DTEND;TZID=Europe/Brussels:20260317T070000
END:VEVENT
BEGIN:VEVENT
UID:A0E9B3BE-1D47-428D-8EB5-7807839F7498-20-826_awayreminder@134.badmintonn
 ers.net
DTSTAMP:20260420T055109Z
SUMMARY:Uitmatch bevestigd? (Beerke 1G (67) - Brasschaat 3G (62))
DESCRIPTION:Je hebt 72 uur na aanvang om een uitmatch op Badmintonvlaandere
 n in te vullen. Match info: Beerke 1G (67) - Brasschaat 3G (62) - Link: ht
 tps://www.badmintonvlaanderen.be/sport/teammatch.aspx?id=A0E9B3BE-1D47-428
 D-8EB5-7807839F7498&match=826
DTSTART;TZID=Europe/Brussels:20251029T100000
DTEND;TZID=Europe/Brussels:20251029T100000
END:VEVENT
BEGIN:VEVENT
UID:A0E9B3BE-1D47-428D-8EB5-7807839F7498-20-828_awayreminder@134.badmintonn
 ers.net
DTSTAMP:20260420T055109Z
SUMMARY:Uitmatch bevestigd? (Klein Boom 2G (62) - Brasschaat 3G (62))
DESCRIPTION:Je hebt 72 uur na aanvang om een uitmatch op Badmintonvlaandere
 n in te vullen. Match info: Klein Boom 2G (62) - Brasschaat 3G (62) - Link
 : https://www.badmintonvlaanderen.be/sport/teammatch.aspx?id=A0E9B3BE-1D47
 -428D-8EB5-7807839F7498&match=828
DTSTART;TZID=Europe/Brussels:20251210T190000
DTEND;TZID=Europe/Brussels:20251210T190000
END:VEVENT
BEGIN:VEVENT
UID:A0E9B3BE-1D47-428D-8EB5-7807839F7498-20-824_awayreminder@134.badmintonn
 ers.net
DTSTAMP:20260420T055109Z
SUMMARY:Uitmatch bevestigd? (Bacss 1G (74) - Brasschaat 3G (62))
DESCRIPTION:Je hebt 72 uur na aanvang om een uitmatch op Badmintonvlaandere
 n in te vullen. Match info: Bacss 1G (74) - Brasschaat 3G (62) - Link: htt
 ps://www.badmintonvlaanderen.be/sport/teammatch.aspx?id=A0E9B3BE-1D47-428D
 -8EB5-7807839F7498&match=824
DTSTART;TZID=Europe/Brussels:20251224T100000
DTEND;TZID=Europe/Brussels:20251224T100000
END:VEVENT
BEGIN:VEVENT
UID:A0E9B3BE-1D47-428D-8EB5-7807839F7498-20-825_awayreminder@134.badmintonn
 ers.net
DTSTAMP:20260420T055109Z
SUMMARY:Uitmatch bevestigd? (Rita Serveert 1G (61) - Brasschaat 3G (62))
DESCRIPTION:Je hebt 72 uur na aanvang om een uitmatch op Badmintonvlaandere
 n in te vullen. Match info: Rita Serveert 1G (61) - Brasschaat 3G (62) - L
 ink: https://www.badmintonvlaanderen.be/sport/teammatch.aspx?id=A0E9B3BE-1
 D47-428D-8EB5-7807839F7498&match=825
DTSTART;TZID=Europe/Brussels:20260204T190000
DTEND;TZID=Europe/Brussels:20260204T190000
END:VEVENT
BEGIN:VEVENT
UID:A0E9B3BE-1D47-428D-8EB5-7807839F7498-20-827_awayreminder@134.badmintonn
 ers.net
DTSTAMP:20260420T055109Z
SUMMARY:Uitmatch bevestigd? (Rivierenland 2G (62) - Brasschaat 3G (62))
DESCRIPTION:Je hebt 72 uur na aanvang om een uitmatch op Badmintonvlaandere
 n in te vullen. Match info: Rivierenland 2G (62) - Brasschaat 3G (62) - Li
 nk: https://www.badmintonvlaanderen.be/sport/teammatch.aspx?id=A0E9B3BE-1D
 47-428D-8EB5-7807839F7498&match=827
DTSTART;TZID=Europe/Brussels:20260309T200000
DTEND;TZID=Europe/Brussels:20260309T200000
END:VEVENT
BEGIN:VEVENT
UID:A0E9B3BE-1D47-428D-8EB5-7807839F7498-20-829_awayreminder@134.badmintonn
 ers.net
DTSTAMP:20260420T055109Z
SUMMARY:Uitmatch bevestigd? (Smash 1G (73) - Brasschaat 3G (62))
DESCRIPTION:Je hebt 72 uur na aanvang om een uitmatch op Badmintonvlaandere
 n in te vullen. Match info: Smash 1G (73) - Brasschaat 3G (62) - Link: htt
 ps://www.badmintonvlaanderen.be/sport/teammatch.aspx?id=A0E9B3BE-1D47-428D
 -8EB5-7807839F7498&match=829
DTSTART;TZID=Europe/Brussels:20260401T100000
DTEND;TZID=Europe/Brussels:20260401T100000
END:VEVENT
END:VCALENDAR