BEGIN:VCALENDAR
VERSION:2.0
PRODID:spatie/icalendar-generator
NAME:bc_stjob_1g_105_reminders
X-WR-CALNAME:bc_stjob_1g_105_reminders
BEGIN:VTIMEZONE
TZID:Europe/Brussels
BEGIN:DAYLIGHT
DTSTART:20250330T010000
TZOFFSETFROM:+0100
TZOFFSETTO:+0200
END:DAYLIGHT
BEGIN:STANDARD
DTSTART:20251026T030000
TZOFFSETFROM:+0200
TZOFFSETTO:+0100
END:STANDARD
BEGIN:DAYLIGHT
DTSTART:20260329T010000
TZOFFSETFROM:+0100
TZOFFSETTO:+0200
END:DAYLIGHT
BEGIN:STANDARD
DTSTART:20261025T030000
TZOFFSETFROM:+0200
TZOFFSETTO:+0100
END:STANDARD
END:VTIMEZONE
BEGIN:VTIMEZONE
TZID:UTC
BEGIN:STANDARD
DTSTART:20250724T043630
TZOFFSETFROM:+0000
TZOFFSETTO:+0000
END:STANDARD
END:VTIMEZONE
BEGIN:VEVENT
UID:A0E9B3BE-1D47-428D-8EB5-7807839F7498-27-1139_homereminder@172.badminton
 ners.net
DTSTAMP:20260420T043630Z
SUMMARY:Thuismatch ingevuld? (BC St.Job 1G (105) - Poona 3G (104))
DESCRIPTION:Je hebt 36 uur na aanvang om een thuismatch op Badmintonvlaande
 ren in te vullen. Match info: BC St.Job 1G (105) - Poona 3G (104) - Link: 
 https://www.badmintonvlaanderen.be/sport/teammatch.aspx?id=A0E9B3BE-1D47-4
 28D-8EB5-7807839F7498&match=1139
DTSTART;TZID=Europe/Brussels:20251124T220000
DTEND;TZID=Europe/Brussels:20251124T220000
END:VEVENT
BEGIN:VEVENT
UID:A0E9B3BE-1D47-428D-8EB5-7807839F7498-27-1127_homereminder@172.badminton
 ners.net
DTSTAMP:20260420T043630Z
SUMMARY:Thuismatch ingevuld? (BC St.Job 1G (105) - Brasschaat 6G (96))
DESCRIPTION:Je hebt 36 uur na aanvang om een thuismatch op Badmintonvlaande
 ren in te vullen. Match info: BC St.Job 1G (105) - Brasschaat 6G (96) - Li
 nk: https://www.badmintonvlaanderen.be/sport/teammatch.aspx?id=A0E9B3BE-1D
 47-428D-8EB5-7807839F7498&match=1127
DTSTART;TZID=Europe/Brussels:20251201T220000
DTEND;TZID=Europe/Brussels:20251201T220000
END:VEVENT
BEGIN:VEVENT
UID:A0E9B3BE-1D47-428D-8EB5-7807839F7498-27-1115_homereminder@172.badminton
 ners.net
DTSTAMP:20260420T043630Z
SUMMARY:Thuismatch ingevuld? (BC St.Job 1G (105) - Essen 1G (109))
DESCRIPTION:Je hebt 36 uur na aanvang om een thuismatch op Badmintonvlaande
 ren in te vullen. Match info: BC St.Job 1G (105) - Essen 1G (109) - Link: 
 https://www.badmintonvlaanderen.be/sport/teammatch.aspx?id=A0E9B3BE-1D47-4
 28D-8EB5-7807839F7498&match=1115
DTSTART;TZID=Europe/Brussels:20251222T220000
DTEND;TZID=Europe/Brussels:20251222T220000
END:VEVENT
BEGIN:VEVENT
UID:A0E9B3BE-1D47-428D-8EB5-7807839F7498-27-1133_homereminder@172.badminton
 ners.net
DTSTAMP:20260420T043630Z
SUMMARY:Thuismatch ingevuld? (BC St.Job 1G (105) - Klein Boom 6G (102))
DESCRIPTION:Je hebt 36 uur na aanvang om een thuismatch op Badmintonvlaande
 ren in te vullen. Match info: BC St.Job 1G (105) - Klein Boom 6G (102) - L
 ink: https://www.badmintonvlaanderen.be/sport/teammatch.aspx?id=A0E9B3BE-1
 D47-428D-8EB5-7807839F7498&match=1133
DTSTART;TZID=Europe/Brussels:20260119T220000
DTEND;TZID=Europe/Brussels:20260119T220000
END:VEVENT
BEGIN:VEVENT
UID:A0E9B3BE-1D47-428D-8EB5-7807839F7498-27-1121_homereminder@172.badminton
 ners.net
DTSTAMP:20260420T043630Z
SUMMARY:Thuismatch ingevuld? (BC St.Job 1G (105) - Duffel 1G (107))
DESCRIPTION:Je hebt 36 uur na aanvang om een thuismatch op Badmintonvlaande
 ren in te vullen. Match info: BC St.Job 1G (105) - Duffel 1G (107) - Link:
  https://www.badmintonvlaanderen.be/sport/teammatch.aspx?id=A0E9B3BE-1D47-
 428D-8EB5-7807839F7498&match=1121
DTSTART;TZID=Europe/Brussels:20260216T220000
DTEND;TZID=Europe/Brussels:20260216T220000
END:VEVENT
BEGIN:VEVENT
UID:A0E9B3BE-1D47-428D-8EB5-7807839F7498-27-1145_homereminder@172.badminton
 ners.net
DTSTAMP:20260420T043630Z
SUMMARY:Thuismatch ingevuld? (BC St.Job 1G (105) - Bacss 3G (103))
DESCRIPTION:Je hebt 36 uur na aanvang om een thuismatch op Badmintonvlaande
 ren in te vullen. Match info: BC St.Job 1G (105) - Bacss 3G (103) - Link: 
 https://www.badmintonvlaanderen.be/sport/teammatch.aspx?id=A0E9B3BE-1D47-4
 28D-8EB5-7807839F7498&match=1145
DTSTART;TZID=Europe/Brussels:20260427T220000
DTEND;TZID=Europe/Brussels:20260427T220000
END:VEVENT
BEGIN:VEVENT
UID:A0E9B3BE-1D47-428D-8EB5-7807839F7498-27-1114_awayreminder@172.badminton
 ners.net
DTSTAMP:20260420T043630Z
SUMMARY:Uitmatch bevestigd? (Bacss 3G (103) - BC St.Job 1G (105))
DESCRIPTION:Je hebt 72 uur na aanvang om een uitmatch op Badmintonvlaandere
 n in te vullen. Match info: Bacss 3G (103) - BC St.Job 1G (105) - Link: ht
 tps://www.badmintonvlaanderen.be/sport/teammatch.aspx?id=A0E9B3BE-1D47-428
 D-8EB5-7807839F7498&match=1114
DTSTART;TZID=Europe/Brussels:20250929T201500
DTEND;TZID=Europe/Brussels:20250929T201500
END:VEVENT
BEGIN:VEVENT
UID:A0E9B3BE-1D47-428D-8EB5-7807839F7498-27-1110_awayreminder@172.badminton
 ners.net
DTSTAMP:20260420T043630Z
SUMMARY:Uitmatch bevestigd? (Duffel 1G (107) - BC St.Job 1G (105))
DESCRIPTION:Je hebt 72 uur na aanvang om een uitmatch op Badmintonvlaandere
 n in te vullen. Match info: Duffel 1G (107) - BC St.Job 1G (105) - Link: h
 ttps://www.badmintonvlaanderen.be/sport/teammatch.aspx?id=A0E9B3BE-1D47-42
 8D-8EB5-7807839F7498&match=1110
DTSTART;TZID=Europe/Brussels:20251022T200000
DTEND;TZID=Europe/Brussels:20251022T200000
END:VEVENT
BEGIN:VEVENT
UID:A0E9B3BE-1D47-428D-8EB5-7807839F7498-27-1112_awayreminder@172.badminton
 ners.net
DTSTAMP:20260420T043630Z
SUMMARY:Uitmatch bevestigd? (Klein Boom 6G (102) - BC St.Job 1G (105))
DESCRIPTION:Je hebt 72 uur na aanvang om een uitmatch op Badmintonvlaandere
 n in te vullen. Match info: Klein Boom 6G (102) - BC St.Job 1G (105) - Lin
 k: https://www.badmintonvlaanderen.be/sport/teammatch.aspx?id=A0E9B3BE-1D4
 7-428D-8EB5-7807839F7498&match=1112
DTSTART;TZID=Europe/Brussels:20251029T190000
DTEND;TZID=Europe/Brussels:20251029T190000
END:VEVENT
BEGIN:VEVENT
UID:A0E9B3BE-1D47-428D-8EB5-7807839F7498-27-1109_awayreminder@172.badminton
 ners.net
DTSTAMP:20260420T043630Z
SUMMARY:Uitmatch bevestigd? (Essen 1G (109) - BC St.Job 1G (105))
DESCRIPTION:Je hebt 72 uur na aanvang om een uitmatch op Badmintonvlaandere
 n in te vullen. Match info: Essen 1G (109) - BC St.Job 1G (105) - Link: ht
 tps://www.badmintonvlaanderen.be/sport/teammatch.aspx?id=A0E9B3BE-1D47-428
 D-8EB5-7807839F7498&match=1109
DTSTART;TZID=Europe/Brussels:20260204T190000
DTEND;TZID=Europe/Brussels:20260204T190000
END:VEVENT
BEGIN:VEVENT
UID:A0E9B3BE-1D47-428D-8EB5-7807839F7498-27-1111_awayreminder@172.badminton
 ners.net
DTSTAMP:20260420T043630Z
SUMMARY:Uitmatch bevestigd? (Brasschaat 6G (96) - BC St.Job 1G (105))
DESCRIPTION:Je hebt 72 uur na aanvang om een uitmatch op Badmintonvlaandere
 n in te vullen. Match info: Brasschaat 6G (96) - BC St.Job 1G (105) - Link
 : https://www.badmintonvlaanderen.be/sport/teammatch.aspx?id=A0E9B3BE-1D47
 -428D-8EB5-7807839F7498&match=1111
DTSTART;TZID=Europe/Brussels:20260304T190000
DTEND;TZID=Europe/Brussels:20260304T190000
END:VEVENT
BEGIN:VEVENT
UID:A0E9B3BE-1D47-428D-8EB5-7807839F7498-27-1113_awayreminder@172.badminton
 ners.net
DTSTAMP:20260420T043630Z
SUMMARY:Uitmatch bevestigd? (Poona 3G (104) - BC St.Job 1G (105))
DESCRIPTION:Je hebt 72 uur na aanvang om een uitmatch op Badmintonvlaandere
 n in te vullen. Match info: Poona 3G (104) - BC St.Job 1G (105) - Link: ht
 tps://www.badmintonvlaanderen.be/sport/teammatch.aspx?id=A0E9B3BE-1D47-428
 D-8EB5-7807839F7498&match=1113
DTSTART;TZID=Europe/Brussels:20260326T200000
DTEND;TZID=Europe/Brussels:20260326T200000
END:VEVENT
END:VCALENDAR