BEGIN:VCALENDAR
VERSION:2.0
PRODID:spatie/icalendar-generator
NAME:geelse_1g_122_reminders
X-WR-CALNAME:geelse_1g_122_reminders
BEGIN:VTIMEZONE
TZID:Europe/Brussels
BEGIN:DAYLIGHT
DTSTART:20250330T010000
TZOFFSETFROM:+0100
TZOFFSETTO:+0200
END:DAYLIGHT
BEGIN:STANDARD
DTSTART:20251026T030000
TZOFFSETFROM:+0200
TZOFFSETTO:+0100
END:STANDARD
BEGIN:DAYLIGHT
DTSTART:20260329T010000
TZOFFSETFROM:+0100
TZOFFSETTO:+0200
END:DAYLIGHT
END:VTIMEZONE
BEGIN:VTIMEZONE
TZID:UTC
BEGIN:STANDARD
DTSTART:20250724T043625
TZOFFSETFROM:+0000
TZOFFSETTO:+0000
END:STANDARD
END:VTIMEZONE
BEGIN:VEVENT
UID:A0E9B3BE-1D47-428D-8EB5-7807839F7498-31-1285_homereminder@205.badminton
 ners.net
DTSTAMP:20260420T043625Z
SUMMARY:Thuismatch ingevuld? (Geelse 1G (122) - Olve 7G (124))
DESCRIPTION:Je hebt 36 uur na aanvang om een thuismatch op Badmintonvlaande
 ren in te vullen. Match info: Geelse 1G (122) - Olve 7G (124) - Link: http
 s://www.badmintonvlaanderen.be/sport/teammatch.aspx?id=A0E9B3BE-1D47-428D-
 8EB5-7807839F7498&match=1285
DTSTART;TZID=Europe/Brussels:20250920T080000
DTEND;TZID=Europe/Brussels:20250920T080000
END:VEVENT
BEGIN:VEVENT
UID:A0E9B3BE-1D47-428D-8EB5-7807839F7498-31-1299_homereminder@205.badminton
 ners.net
DTSTAMP:20260420T043625Z
SUMMARY:Thuismatch ingevuld? (Geelse 1G (122) - Smash 3G (123))
DESCRIPTION:Je hebt 36 uur na aanvang om een thuismatch op Badmintonvlaande
 ren in te vullen. Match info: Geelse 1G (122) - Smash 3G (123) - Link: htt
 ps://www.badmintonvlaanderen.be/sport/teammatch.aspx?id=A0E9B3BE-1D47-428D
 -8EB5-7807839F7498&match=1299
DTSTART;TZID=Europe/Brussels:20251101T080000
DTEND;TZID=Europe/Brussels:20251101T080000
END:VEVENT
BEGIN:VEVENT
UID:A0E9B3BE-1D47-428D-8EB5-7807839F7498-31-1313_homereminder@205.badminton
 ners.net
DTSTAMP:20260420T043625Z
SUMMARY:Thuismatch ingevuld? (Geelse 1G (122) - Merksplas 4G (127))
DESCRIPTION:Je hebt 36 uur na aanvang om een thuismatch op Badmintonvlaande
 ren in te vullen. Match info: Geelse 1G (122) - Merksplas 4G (127) - Link:
  https://www.badmintonvlaanderen.be/sport/teammatch.aspx?id=A0E9B3BE-1D47-
 428D-8EB5-7807839F7498&match=1313
DTSTART;TZID=Europe/Brussels:20251108T080000
DTEND;TZID=Europe/Brussels:20251108T080000
END:VEVENT
BEGIN:VEVENT
UID:A0E9B3BE-1D47-428D-8EB5-7807839F7498-31-1292_homereminder@205.badminton
 ners.net
DTSTAMP:20260420T043625Z
SUMMARY:Thuismatch ingevuld? (Geelse 1G (122) - Baret 1G (132))
DESCRIPTION:Je hebt 36 uur na aanvang om een thuismatch op Badmintonvlaande
 ren in te vullen. Match info: Geelse 1G (122) - Baret 1G (132) - Link: htt
 ps://www.badmintonvlaanderen.be/sport/teammatch.aspx?id=A0E9B3BE-1D47-428D
 -8EB5-7807839F7498&match=1292
DTSTART;TZID=Europe/Brussels:20260124T080000
DTEND;TZID=Europe/Brussels:20260124T080000
END:VEVENT
BEGIN:VEVENT
UID:A0E9B3BE-1D47-428D-8EB5-7807839F7498-31-1306_homereminder@205.badminton
 ners.net
DTSTAMP:20260420T043625Z
SUMMARY:Thuismatch ingevuld? (Geelse 1G (122) - Oelegem 1G (139))
DESCRIPTION:Je hebt 36 uur na aanvang om een thuismatch op Badmintonvlaande
 ren in te vullen. Match info: Geelse 1G (122) - Oelegem 1G (139) - Link: h
 ttps://www.badmintonvlaanderen.be/sport/teammatch.aspx?id=A0E9B3BE-1D47-42
 8D-8EB5-7807839F7498&match=1306
DTSTART;TZID=Europe/Brussels:20260214T080000
DTEND;TZID=Europe/Brussels:20260214T080000
END:VEVENT
BEGIN:VEVENT
UID:A0E9B3BE-1D47-428D-8EB5-7807839F7498-31-1320_homereminder@205.badminton
 ners.net
DTSTAMP:20260420T043625Z
SUMMARY:Thuismatch ingevuld? (Geelse 1G (122) - Klein Boom 8G (125))
DESCRIPTION:Je hebt 36 uur na aanvang om een thuismatch op Badmintonvlaande
 ren in te vullen. Match info: Geelse 1G (122) - Klein Boom 8G (125) - Link
 : https://www.badmintonvlaanderen.be/sport/teammatch.aspx?id=A0E9B3BE-1D47
 -428D-8EB5-7807839F7498&match=1320
DTSTART;TZID=Europe/Brussels:20260321T080000
DTEND;TZID=Europe/Brussels:20260321T080000
END:VEVENT
BEGIN:VEVENT
UID:A0E9B3BE-1D47-428D-8EB5-7807839F7498-31-1335_homereminder@205.badminton
 ners.net
DTSTAMP:20260420T043625Z
SUMMARY:Thuismatch ingevuld? (Geelse 1G (122) - Duffel 3G (128))
DESCRIPTION:Je hebt 36 uur na aanvang om een thuismatch op Badmintonvlaande
 ren in te vullen. Match info: Geelse 1G (122) - Duffel 3G (128) - Link: ht
 tps://www.badmintonvlaanderen.be/sport/teammatch.aspx?id=A0E9B3BE-1D47-428
 D-8EB5-7807839F7498&match=1335
DTSTART;TZID=Europe/Brussels:20260411T080000
DTEND;TZID=Europe/Brussels:20260411T080000
END:VEVENT
BEGIN:VEVENT
UID:A0E9B3BE-1D47-428D-8EB5-7807839F7498-31-1328_awayreminder@205.badminton
 ners.net
DTSTAMP:20260420T043625Z
SUMMARY:Uitmatch bevestigd? (Duffel 3G (128) - Geelse 1G (122))
DESCRIPTION:Je hebt 72 uur na aanvang om een uitmatch op Badmintonvlaandere
 n in te vullen. Match info: Duffel 3G (128) - Geelse 1G (122) - Link: http
 s://www.badmintonvlaanderen.be/sport/teammatch.aspx?id=A0E9B3BE-1D47-428D-
 8EB5-7807839F7498&match=1328
DTSTART;TZID=Europe/Brussels:20251001T200000
DTEND;TZID=Europe/Brussels:20251001T200000
END:VEVENT
BEGIN:VEVENT
UID:A0E9B3BE-1D47-428D-8EB5-7807839F7498-31-1327_awayreminder@205.badminton
 ners.net
DTSTAMP:20260420T043625Z
SUMMARY:Uitmatch bevestigd? (Klein Boom 8G (125) - Geelse 1G (122))
DESCRIPTION:Je hebt 72 uur na aanvang om een uitmatch op Badmintonvlaandere
 n in te vullen. Match info: Klein Boom 8G (125) - Geelse 1G (122) - Link: 
 https://www.badmintonvlaanderen.be/sport/teammatch.aspx?id=A0E9B3BE-1D47-4
 28D-8EB5-7807839F7498&match=1327
DTSTART;TZID=Europe/Brussels:20251015T190000
DTEND;TZID=Europe/Brussels:20251015T190000
END:VEVENT
BEGIN:VEVENT
UID:A0E9B3BE-1D47-428D-8EB5-7807839F7498-31-1325_awayreminder@205.badminton
 ners.net
DTSTAMP:20260420T043625Z
SUMMARY:Uitmatch bevestigd? (Oelegem 1G (139) - Geelse 1G (122))
DESCRIPTION:Je hebt 72 uur na aanvang om een uitmatch op Badmintonvlaandere
 n in te vullen. Match info: Oelegem 1G (139) - Geelse 1G (122) - Link: htt
 ps://www.badmintonvlaanderen.be/sport/teammatch.aspx?id=A0E9B3BE-1D47-428D
 -8EB5-7807839F7498&match=1325
DTSTART;TZID=Europe/Brussels:20251121T200000
DTEND;TZID=Europe/Brussels:20251121T200000
END:VEVENT
BEGIN:VEVENT
UID:A0E9B3BE-1D47-428D-8EB5-7807839F7498-31-1323_awayreminder@205.badminton
 ners.net
DTSTAMP:20260420T043625Z
SUMMARY:Uitmatch bevestigd? (Baret 1G (132) - Geelse 1G (122))
DESCRIPTION:Je hebt 72 uur na aanvang om een uitmatch op Badmintonvlaandere
 n in te vullen. Match info: Baret 1G (132) - Geelse 1G (122) - Link: https
 ://www.badmintonvlaanderen.be/sport/teammatch.aspx?id=A0E9B3BE-1D47-428D-8
 EB5-7807839F7498&match=1323
DTSTART;TZID=Europe/Brussels:20251218T200000
DTEND;TZID=Europe/Brussels:20251218T200000
END:VEVENT
BEGIN:VEVENT
UID:A0E9B3BE-1D47-428D-8EB5-7807839F7498-31-1324_awayreminder@205.badminton
 ners.net
DTSTAMP:20260420T043625Z
SUMMARY:Uitmatch bevestigd? (Smash 3G (123) - Geelse 1G (122))
DESCRIPTION:Je hebt 72 uur na aanvang om een uitmatch op Badmintonvlaandere
 n in te vullen. Match info: Smash 3G (123) - Geelse 1G (122) - Link: https
 ://www.badmintonvlaanderen.be/sport/teammatch.aspx?id=A0E9B3BE-1D47-428D-8
 EB5-7807839F7498&match=1324
DTSTART;TZID=Europe/Brussels:20260204T100000
DTEND;TZID=Europe/Brussels:20260204T100000
END:VEVENT
BEGIN:VEVENT
UID:A0E9B3BE-1D47-428D-8EB5-7807839F7498-31-1326_awayreminder@205.badminton
 ners.net
DTSTAMP:20260420T043625Z
SUMMARY:Uitmatch bevestigd? (Merksplas 4G (127) - Geelse 1G (122))
DESCRIPTION:Je hebt 72 uur na aanvang om een uitmatch op Badmintonvlaandere
 n in te vullen. Match info: Merksplas 4G (127) - Geelse 1G (122) - Link: h
 ttps://www.badmintonvlaanderen.be/sport/teammatch.aspx?id=A0E9B3BE-1D47-42
 8D-8EB5-7807839F7498&match=1326
DTSTART;TZID=Europe/Brussels:20260318T183000
DTEND;TZID=Europe/Brussels:20260318T183000
END:VEVENT
BEGIN:VEVENT
UID:A0E9B3BE-1D47-428D-8EB5-7807839F7498-31-1322_awayreminder@205.badminton
 ners.net
DTSTAMP:20260420T043625Z
SUMMARY:Uitmatch bevestigd? (Olve 7G (124) - Geelse 1G (122))
DESCRIPTION:Je hebt 72 uur na aanvang om een uitmatch op Badmintonvlaandere
 n in te vullen. Match info: Olve 7G (124) - Geelse 1G (122) - Link: https:
 //www.badmintonvlaanderen.be/sport/teammatch.aspx?id=A0E9B3BE-1D47-428D-8E
 B5-7807839F7498&match=1322
DTSTART;TZID=Europe/Brussels:20260331T113000
DTEND;TZID=Europe/Brussels:20260331T113000
END:VEVENT
END:VCALENDAR