BEGIN:VCALENDAR
VERSION:2.0
PRODID:spatie/icalendar-generator
NAME:merksplas_1d_62_reminders
X-WR-CALNAME:merksplas_1d_62_reminders
BEGIN:VTIMEZONE
TZID:Europe/Brussels
BEGIN:DAYLIGHT
DTSTART:20250330T010000
TZOFFSETFROM:+0100
TZOFFSETTO:+0200
END:DAYLIGHT
BEGIN:STANDARD
DTSTART:20251026T030000
TZOFFSETFROM:+0200
TZOFFSETTO:+0100
END:STANDARD
BEGIN:DAYLIGHT
DTSTART:20260329T010000
TZOFFSETFROM:+0100
TZOFFSETTO:+0200
END:DAYLIGHT
BEGIN:STANDARD
DTSTART:20261025T030000
TZOFFSETFROM:+0200
TZOFFSETTO:+0100
END:STANDARD
END:VTIMEZONE
BEGIN:VTIMEZONE
TZID:UTC
BEGIN:STANDARD
DTSTART:20250724T043625
TZOFFSETFROM:+0000
TZOFFSETTO:+0000
END:STANDARD
END:VTIMEZONE
BEGIN:VEVENT
UID:A0E9B3BE-1D47-428D-8EB5-7807839F7498-33-1415_homereminder@109.badminton
 ners.net
DTSTAMP:20260420T043625Z
SUMMARY:Thuismatch ingevuld? (Merksplas 1D (62) - Beerke 2D (69))
DESCRIPTION:Je hebt 36 uur na aanvang om een thuismatch op Badmintonvlaande
 ren in te vullen. Match info: Merksplas 1D (62) - Beerke 2D (69) - Link: h
 ttps://www.badmintonvlaanderen.be/sport/teammatch.aspx?id=A0E9B3BE-1D47-42
 8D-8EB5-7807839F7498&match=1415
DTSTART;TZID=Europe/Brussels:20250909T063000
DTEND;TZID=Europe/Brussels:20250909T063000
END:VEVENT
BEGIN:VEVENT
UID:A0E9B3BE-1D47-428D-8EB5-7807839F7498-33-1457_homereminder@109.badminton
 ners.net
DTSTAMP:20260420T043625Z
SUMMARY:Thuismatch ingevuld? (Merksplas 1D (62) - Looise 1D (60))
DESCRIPTION:Je hebt 36 uur na aanvang om een thuismatch op Badmintonvlaande
 ren in te vullen. Match info: Merksplas 1D (62) - Looise 1D (60) - Link: h
 ttps://www.badmintonvlaanderen.be/sport/teammatch.aspx?id=A0E9B3BE-1D47-42
 8D-8EB5-7807839F7498&match=1457
DTSTART;TZID=Europe/Brussels:20250923T063000
DTEND;TZID=Europe/Brussels:20250923T063000
END:VEVENT
BEGIN:VEVENT
UID:A0E9B3BE-1D47-428D-8EB5-7807839F7498-33-1443_homereminder@109.badminton
 ners.net
DTSTAMP:20260420T043625Z
SUMMARY:Thuismatch ingevuld? (Merksplas 1D (62) - Zandhoven 1D (57))
DESCRIPTION:Je hebt 36 uur na aanvang om een thuismatch op Badmintonvlaande
 ren in te vullen. Match info: Merksplas 1D (62) - Zandhoven 1D (57) - Link
 : https://www.badmintonvlaanderen.be/sport/teammatch.aspx?id=A0E9B3BE-1D47
 -428D-8EB5-7807839F7498&match=1443
DTSTART;TZID=Europe/Brussels:20251021T063000
DTEND;TZID=Europe/Brussels:20251021T063000
END:VEVENT
BEGIN:VEVENT
UID:A0E9B3BE-1D47-428D-8EB5-7807839F7498-33-1429_homereminder@109.badminton
 ners.net
DTSTAMP:20260420T043625Z
SUMMARY:Thuismatch ingevuld? (Merksplas 1D (62) - Spinshuttle 2D (64))
DESCRIPTION:Je hebt 36 uur na aanvang om een thuismatch op Badmintonvlaande
 ren in te vullen. Match info: Merksplas 1D (62) - Spinshuttle 2D (64) - Li
 nk: https://www.badmintonvlaanderen.be/sport/teammatch.aspx?id=A0E9B3BE-1D
 47-428D-8EB5-7807839F7498&match=1429
DTSTART;TZID=Europe/Brussels:20251202T063000
DTEND;TZID=Europe/Brussels:20251202T063000
END:VEVENT
BEGIN:VEVENT
UID:A0E9B3BE-1D47-428D-8EB5-7807839F7498-33-1422_homereminder@109.badminton
 ners.net
DTSTAMP:20260420T043625Z
SUMMARY:Thuismatch ingevuld? (Merksplas 1D (62) - Klein Boom 3D (54))
DESCRIPTION:Je hebt 36 uur na aanvang om een thuismatch op Badmintonvlaande
 ren in te vullen. Match info: Merksplas 1D (62) - Klein Boom 3D (54) - Lin
 k: https://www.badmintonvlaanderen.be/sport/teammatch.aspx?id=A0E9B3BE-1D4
 7-428D-8EB5-7807839F7498&match=1422
DTSTART;TZID=Europe/Brussels:20260210T063000
DTEND;TZID=Europe/Brussels:20260210T063000
END:VEVENT
BEGIN:VEVENT
UID:A0E9B3BE-1D47-428D-8EB5-7807839F7498-33-1436_homereminder@109.badminton
 ners.net
DTSTAMP:20260420T043625Z
SUMMARY:Thuismatch ingevuld? (Merksplas 1D (62) - Brasschaat 3D (66))
DESCRIPTION:Je hebt 36 uur na aanvang om een thuismatch op Badmintonvlaande
 ren in te vullen. Match info: Merksplas 1D (62) - Brasschaat 3D (66) - Lin
 k: https://www.badmintonvlaanderen.be/sport/teammatch.aspx?id=A0E9B3BE-1D4
 7-428D-8EB5-7807839F7498&match=1436
DTSTART;TZID=Europe/Brussels:20260310T063000
DTEND;TZID=Europe/Brussels:20260310T063000
END:VEVENT
BEGIN:VEVENT
UID:A0E9B3BE-1D47-428D-8EB5-7807839F7498-33-1450_homereminder@109.badminton
 ners.net
DTSTAMP:20260420T043625Z
SUMMARY:Thuismatch ingevuld? (Merksplas 1D (62) - Amateurs 1D (64))
DESCRIPTION:Je hebt 36 uur na aanvang om een thuismatch op Badmintonvlaande
 ren in te vullen. Match info: Merksplas 1D (62) - Amateurs 1D (64) - Link:
  https://www.badmintonvlaanderen.be/sport/teammatch.aspx?id=A0E9B3BE-1D47-
 428D-8EB5-7807839F7498&match=1450
DTSTART;TZID=Europe/Brussels:20260421T063000
DTEND;TZID=Europe/Brussels:20260421T063000
END:VEVENT
BEGIN:VEVENT
UID:A0E9B3BE-1D47-428D-8EB5-7807839F7498-33-1413_awayreminder@109.badminton
 ners.net
DTSTAMP:20260420T043625Z
SUMMARY:Uitmatch bevestigd? (Amateurs 1D (64) - Merksplas 1D (62))
DESCRIPTION:Je hebt 72 uur na aanvang om een uitmatch op Badmintonvlaandere
 n in te vullen. Match info: Amateurs 1D (64) - Merksplas 1D (62) - Link: h
 ttps://www.badmintonvlaanderen.be/sport/teammatch.aspx?id=A0E9B3BE-1D47-42
 8D-8EB5-7807839F7498&match=1413
DTSTART;TZID=Europe/Brussels:20251005T210000
DTEND;TZID=Europe/Brussels:20251005T210000
END:VEVENT
BEGIN:VEVENT
UID:A0E9B3BE-1D47-428D-8EB5-7807839F7498-33-1411_awayreminder@109.badminton
 ners.net
DTSTAMP:20260420T043625Z
SUMMARY:Uitmatch bevestigd? (Brasschaat 3D (66) - Merksplas 1D (62))
DESCRIPTION:Je hebt 72 uur na aanvang om een uitmatch op Badmintonvlaandere
 n in te vullen. Match info: Brasschaat 3D (66) - Merksplas 1D (62) - Link:
  https://www.badmintonvlaanderen.be/sport/teammatch.aspx?id=A0E9B3BE-1D47-
 428D-8EB5-7807839F7498&match=1411
DTSTART;TZID=Europe/Brussels:20251119T190000
DTEND;TZID=Europe/Brussels:20251119T190000
END:VEVENT
BEGIN:VEVENT
UID:A0E9B3BE-1D47-428D-8EB5-7807839F7498-33-1409_awayreminder@109.badminton
 ners.net
DTSTAMP:20260420T043625Z
SUMMARY:Uitmatch bevestigd? (Klein Boom 3D (54) - Merksplas 1D (62))
DESCRIPTION:Je hebt 72 uur na aanvang om een uitmatch op Badmintonvlaandere
 n in te vullen. Match info: Klein Boom 3D (54) - Merksplas 1D (62) - Link:
  https://www.badmintonvlaanderen.be/sport/teammatch.aspx?id=A0E9B3BE-1D47-
 428D-8EB5-7807839F7498&match=1409
DTSTART;TZID=Europe/Brussels:20251217T190000
DTEND;TZID=Europe/Brussels:20251217T190000
END:VEVENT
BEGIN:VEVENT
UID:A0E9B3BE-1D47-428D-8EB5-7807839F7498-33-1408_awayreminder@109.badminton
 ners.net
DTSTAMP:20260420T043625Z
SUMMARY:Uitmatch bevestigd? (Beerke 2D (69) - Merksplas 1D (62))
DESCRIPTION:Je hebt 72 uur na aanvang om een uitmatch op Badmintonvlaandere
 n in te vullen. Match info: Beerke 2D (69) - Merksplas 1D (62) - Link: htt
 ps://www.badmintonvlaanderen.be/sport/teammatch.aspx?id=A0E9B3BE-1D47-428D
 -8EB5-7807839F7498&match=1408
DTSTART;TZID=Europe/Brussels:20260128T100000
DTEND;TZID=Europe/Brussels:20260128T100000
END:VEVENT
BEGIN:VEVENT
UID:A0E9B3BE-1D47-428D-8EB5-7807839F7498-33-1410_awayreminder@109.badminton
 ners.net
DTSTAMP:20260420T043625Z
SUMMARY:Uitmatch bevestigd? (Spinshuttle 2D (64) - Merksplas 1D (62))
DESCRIPTION:Je hebt 72 uur na aanvang om een uitmatch op Badmintonvlaandere
 n in te vullen. Match info: Spinshuttle 2D (64) - Merksplas 1D (62) - Link
 : https://www.badmintonvlaanderen.be/sport/teammatch.aspx?id=A0E9B3BE-1D47
 -428D-8EB5-7807839F7498&match=1410
DTSTART;TZID=Europe/Brussels:20260220T200000
DTEND;TZID=Europe/Brussels:20260220T200000
END:VEVENT
BEGIN:VEVENT
UID:A0E9B3BE-1D47-428D-8EB5-7807839F7498-33-1412_awayreminder@109.badminton
 ners.net
DTSTAMP:20260420T043625Z
SUMMARY:Uitmatch bevestigd? (Zandhoven 1D (57) - Merksplas 1D (62))
DESCRIPTION:Je hebt 72 uur na aanvang om een uitmatch op Badmintonvlaandere
 n in te vullen. Match info: Zandhoven 1D (57) - Merksplas 1D (62) - Link: 
 https://www.badmintonvlaanderen.be/sport/teammatch.aspx?id=A0E9B3BE-1D47-4
 28D-8EB5-7807839F7498&match=1412
DTSTART;TZID=Europe/Brussels:20260319T200000
DTEND;TZID=Europe/Brussels:20260319T200000
END:VEVENT
BEGIN:VEVENT
UID:A0E9B3BE-1D47-428D-8EB5-7807839F7498-33-1414_awayreminder@109.badminton
 ners.net
DTSTAMP:20260420T043625Z
SUMMARY:Uitmatch bevestigd? (Looise 1D (60) - Merksplas 1D (62))
DESCRIPTION:Je hebt 72 uur na aanvang om een uitmatch op Badmintonvlaandere
 n in te vullen. Match info: Looise 1D (60) - Merksplas 1D (62) - Link: htt
 ps://www.badmintonvlaanderen.be/sport/teammatch.aspx?id=A0E9B3BE-1D47-428D
 -8EB5-7807839F7498&match=1414
DTSTART;TZID=Europe/Brussels:20260429T150000
DTEND;TZID=Europe/Brussels:20260429T150000
END:VEVENT
END:VCALENDAR