BEGIN:VCALENDAR
VERSION:2.0
PRODID:spatie/icalendar-generator
NAME:brasschaat_3d_66_reminders
X-WR-CALNAME:brasschaat_3d_66_reminders
BEGIN:VTIMEZONE
TZID:Europe/Brussels
BEGIN:DAYLIGHT
DTSTART:20250330T010000
TZOFFSETFROM:+0100
TZOFFSETTO:+0200
END:DAYLIGHT
BEGIN:STANDARD
DTSTART:20251026T030000
TZOFFSETFROM:+0200
TZOFFSETTO:+0100
END:STANDARD
BEGIN:DAYLIGHT
DTSTART:20260329T010000
TZOFFSETFROM:+0100
TZOFFSETTO:+0200
END:DAYLIGHT
BEGIN:STANDARD
DTSTART:20261025T030000
TZOFFSETFROM:+0200
TZOFFSETTO:+0100
END:STANDARD
END:VTIMEZONE
BEGIN:VTIMEZONE
TZID:UTC
BEGIN:STANDARD
DTSTART:20250724T043747
TZOFFSETFROM:+0000
TZOFFSETTO:+0000
END:STANDARD
END:VTIMEZONE
BEGIN:VEVENT
UID:A0E9B3BE-1D47-428D-8EB5-7807839F7498-33-1425_homereminder@114.badminton
 ners.net
DTSTAMP:20260420T043747Z
SUMMARY:Thuismatch ingevuld? (Brasschaat 3D (66) - Klein Boom 3D (54))
DESCRIPTION:Je hebt 36 uur na aanvang om een thuismatch op Badmintonvlaande
 ren in te vullen. Match info: Brasschaat 3D (66) - Klein Boom 3D (54) - Li
 nk: https://www.badmintonvlaanderen.be/sport/teammatch.aspx?id=A0E9B3BE-1D
 47-428D-8EB5-7807839F7498&match=1425
DTSTART;TZID=Europe/Brussels:20251007T070000
DTEND;TZID=Europe/Brussels:20251007T070000
END:VEVENT
BEGIN:VEVENT
UID:A0E9B3BE-1D47-428D-8EB5-7807839F7498-33-1411_homereminder@114.badminton
 ners.net
DTSTAMP:20260420T043747Z
SUMMARY:Thuismatch ingevuld? (Brasschaat 3D (66) - Merksplas 1D (62))
DESCRIPTION:Je hebt 36 uur na aanvang om een thuismatch op Badmintonvlaande
 ren in te vullen. Match info: Brasschaat 3D (66) - Merksplas 1D (62) - Lin
 k: https://www.badmintonvlaanderen.be/sport/teammatch.aspx?id=A0E9B3BE-1D4
 7-428D-8EB5-7807839F7498&match=1411
DTSTART;TZID=Europe/Brussels:20251118T070000
DTEND;TZID=Europe/Brussels:20251118T070000
END:VEVENT
BEGIN:VEVENT
UID:A0E9B3BE-1D47-428D-8EB5-7807839F7498-33-1447_homereminder@114.badminton
 ners.net
DTSTAMP:20260420T043747Z
SUMMARY:Thuismatch ingevuld? (Brasschaat 3D (66) - Zandhoven 1D (57))
DESCRIPTION:Je hebt 36 uur na aanvang om een thuismatch op Badmintonvlaande
 ren in te vullen. Match info: Brasschaat 3D (66) - Zandhoven 1D (57) - Lin
 k: https://www.badmintonvlaanderen.be/sport/teammatch.aspx?id=A0E9B3BE-1D4
 7-428D-8EB5-7807839F7498&match=1447
DTSTART;TZID=Europe/Brussels:20251216T070000
DTEND;TZID=Europe/Brussels:20251216T070000
END:VEVENT
BEGIN:VEVENT
UID:A0E9B3BE-1D47-428D-8EB5-7807839F7498-33-1432_homereminder@114.badminton
 ners.net
DTSTAMP:20260420T043747Z
SUMMARY:Thuismatch ingevuld? (Brasschaat 3D (66) - Spinshuttle 2D (64))
DESCRIPTION:Je hebt 36 uur na aanvang om een thuismatch op Badmintonvlaande
 ren in te vullen. Match info: Brasschaat 3D (66) - Spinshuttle 2D (64) - L
 ink: https://www.badmintonvlaanderen.be/sport/teammatch.aspx?id=A0E9B3BE-1
 D47-428D-8EB5-7807839F7498&match=1432
DTSTART;TZID=Europe/Brussels:20260113T070000
DTEND;TZID=Europe/Brussels:20260113T070000
END:VEVENT
BEGIN:VEVENT
UID:A0E9B3BE-1D47-428D-8EB5-7807839F7498-33-1454_homereminder@114.badminton
 ners.net
DTSTAMP:20260420T043747Z
SUMMARY:Thuismatch ingevuld? (Brasschaat 3D (66) - Amateurs 1D (64))
DESCRIPTION:Je hebt 36 uur na aanvang om een thuismatch op Badmintonvlaande
 ren in te vullen. Match info: Brasschaat 3D (66) - Amateurs 1D (64) - Link
 : https://www.badmintonvlaanderen.be/sport/teammatch.aspx?id=A0E9B3BE-1D47
 -428D-8EB5-7807839F7498&match=1454
DTSTART;TZID=Europe/Brussels:20260317T070000
DTEND;TZID=Europe/Brussels:20260317T070000
END:VEVENT
BEGIN:VEVENT
UID:A0E9B3BE-1D47-428D-8EB5-7807839F7498-33-1418_homereminder@114.badminton
 ners.net
DTSTAMP:20260420T043747Z
SUMMARY:Thuismatch ingevuld? (Brasschaat 3D (66) - Beerke 2D (69))
DESCRIPTION:Je hebt 36 uur na aanvang om een thuismatch op Badmintonvlaande
 ren in te vullen. Match info: Brasschaat 3D (66) - Beerke 2D (69) - Link: 
 https://www.badmintonvlaanderen.be/sport/teammatch.aspx?id=A0E9B3BE-1D47-4
 28D-8EB5-7807839F7498&match=1418
DTSTART;TZID=Europe/Brussels:20260324T070000
DTEND;TZID=Europe/Brussels:20260324T070000
END:VEVENT
BEGIN:VEVENT
UID:A0E9B3BE-1D47-428D-8EB5-7807839F7498-33-1461_homereminder@114.badminton
 ners.net
DTSTAMP:20260420T043747Z
SUMMARY:Thuismatch ingevuld? (Brasschaat 3D (66) - Looise 1D (60))
DESCRIPTION:Je hebt 36 uur na aanvang om een thuismatch op Badmintonvlaande
 ren in te vullen. Match info: Brasschaat 3D (66) - Looise 1D (60) - Link: 
 https://www.badmintonvlaanderen.be/sport/teammatch.aspx?id=A0E9B3BE-1D47-4
 28D-8EB5-7807839F7498&match=1461
DTSTART;TZID=Europe/Brussels:20260425T080000
DTEND;TZID=Europe/Brussels:20260425T080000
END:VEVENT
BEGIN:VEVENT
UID:A0E9B3BE-1D47-428D-8EB5-7807839F7498-33-1442_awayreminder@114.badminton
 ners.net
DTSTAMP:20260420T043747Z
SUMMARY:Uitmatch bevestigd? (Looise 1D (60) - Brasschaat 3D (66))
DESCRIPTION:Je hebt 72 uur na aanvang om een uitmatch op Badmintonvlaandere
 n in te vullen. Match info: Looise 1D (60) - Brasschaat 3D (66) - Link: ht
 tps://www.badmintonvlaanderen.be/sport/teammatch.aspx?id=A0E9B3BE-1D47-428
 D-8EB5-7807839F7498&match=1442
DTSTART;TZID=Europe/Brussels:20250910T150000
DTEND;TZID=Europe/Brussels:20250910T150000
END:VEVENT
BEGIN:VEVENT
UID:A0E9B3BE-1D47-428D-8EB5-7807839F7498-33-1437_awayreminder@114.badminton
 ners.net
DTSTAMP:20260420T043747Z
SUMMARY:Uitmatch bevestigd? (Beerke 2D (69) - Brasschaat 3D (66))
DESCRIPTION:Je hebt 72 uur na aanvang om een uitmatch op Badmintonvlaandere
 n in te vullen. Match info: Beerke 2D (69) - Brasschaat 3D (66) - Link: ht
 tps://www.badmintonvlaanderen.be/sport/teammatch.aspx?id=A0E9B3BE-1D47-428
 D-8EB5-7807839F7498&match=1437
DTSTART;TZID=Europe/Brussels:20251022T100000
DTEND;TZID=Europe/Brussels:20251022T100000
END:VEVENT
BEGIN:VEVENT
UID:A0E9B3BE-1D47-428D-8EB5-7807839F7498-33-1441_awayreminder@114.badminton
 ners.net
DTSTAMP:20260420T043747Z
SUMMARY:Uitmatch bevestigd? (Amateurs 1D (64) - Brasschaat 3D (66))
DESCRIPTION:Je hebt 72 uur na aanvang om een uitmatch op Badmintonvlaandere
 n in te vullen. Match info: Amateurs 1D (64) - Brasschaat 3D (66) - Link: 
 https://www.badmintonvlaanderen.be/sport/teammatch.aspx?id=A0E9B3BE-1D47-4
 28D-8EB5-7807839F7498&match=1441
DTSTART;TZID=Europe/Brussels:20251130T210000
DTEND;TZID=Europe/Brussels:20251130T210000
END:VEVENT
BEGIN:VEVENT
UID:A0E9B3BE-1D47-428D-8EB5-7807839F7498-33-1439_awayreminder@114.badminton
 ners.net
DTSTAMP:20260420T043747Z
SUMMARY:Uitmatch bevestigd? (Spinshuttle 2D (64) - Brasschaat 3D (66))
DESCRIPTION:Je hebt 72 uur na aanvang om een uitmatch op Badmintonvlaandere
 n in te vullen. Match info: Spinshuttle 2D (64) - Brasschaat 3D (66) - Lin
 k: https://www.badmintonvlaanderen.be/sport/teammatch.aspx?id=A0E9B3BE-1D4
 7-428D-8EB5-7807839F7498&match=1439
DTSTART;TZID=Europe/Brussels:20251205T200000
DTEND;TZID=Europe/Brussels:20251205T200000
END:VEVENT
BEGIN:VEVENT
UID:A0E9B3BE-1D47-428D-8EB5-7807839F7498-33-1440_awayreminder@114.badminton
 ners.net
DTSTAMP:20260420T043747Z
SUMMARY:Uitmatch bevestigd? (Zandhoven 1D (57) - Brasschaat 3D (66))
DESCRIPTION:Je hebt 72 uur na aanvang om een uitmatch op Badmintonvlaandere
 n in te vullen. Match info: Zandhoven 1D (57) - Brasschaat 3D (66) - Link:
  https://www.badmintonvlaanderen.be/sport/teammatch.aspx?id=A0E9B3BE-1D47-
 428D-8EB5-7807839F7498&match=1440
DTSTART;TZID=Europe/Brussels:20260205T200000
DTEND;TZID=Europe/Brussels:20260205T200000
END:VEVENT
BEGIN:VEVENT
UID:A0E9B3BE-1D47-428D-8EB5-7807839F7498-33-1436_awayreminder@114.badminton
 ners.net
DTSTAMP:20260420T043747Z
SUMMARY:Uitmatch bevestigd? (Merksplas 1D (62) - Brasschaat 3D (66))
DESCRIPTION:Je hebt 72 uur na aanvang om een uitmatch op Badmintonvlaandere
 n in te vullen. Match info: Merksplas 1D (62) - Brasschaat 3D (66) - Link:
  https://www.badmintonvlaanderen.be/sport/teammatch.aspx?id=A0E9B3BE-1D47-
 428D-8EB5-7807839F7498&match=1436
DTSTART;TZID=Europe/Brussels:20260311T183000
DTEND;TZID=Europe/Brussels:20260311T183000
END:VEVENT
BEGIN:VEVENT
UID:A0E9B3BE-1D47-428D-8EB5-7807839F7498-33-1438_awayreminder@114.badminton
 ners.net
DTSTAMP:20260420T043747Z
SUMMARY:Uitmatch bevestigd? (Klein Boom 3D (54) - Brasschaat 3D (66))
DESCRIPTION:Je hebt 72 uur na aanvang om een uitmatch op Badmintonvlaandere
 n in te vullen. Match info: Klein Boom 3D (54) - Brasschaat 3D (66) - Link
 : https://www.badmintonvlaanderen.be/sport/teammatch.aspx?id=A0E9B3BE-1D47
 -428D-8EB5-7807839F7498&match=1438
DTSTART;TZID=Europe/Brussels:20260422T190000
DTEND;TZID=Europe/Brussels:20260422T190000
END:VEVENT
END:VCALENDAR