BEGIN:VCALENDAR
VERSION:2.0
PRODID:spatie/icalendar-generator
NAME:smash_1h_42_reminders
X-WR-CALNAME:smash_1h_42_reminders
BEGIN:VTIMEZONE
TZID:Europe/Brussels
BEGIN:DAYLIGHT
DTSTART:20250330T010000
TZOFFSETFROM:+0100
TZOFFSETTO:+0200
END:DAYLIGHT
BEGIN:STANDARD
DTSTART:20251026T030000
TZOFFSETFROM:+0200
TZOFFSETTO:+0100
END:STANDARD
BEGIN:DAYLIGHT
DTSTART:20260329T010000
TZOFFSETFROM:+0100
TZOFFSETTO:+0200
END:DAYLIGHT
END:VTIMEZONE
BEGIN:VTIMEZONE
TZID:UTC
BEGIN:STANDARD
DTSTART:20250724T055121
TZOFFSETFROM:+0000
TZOFFSETTO:+0000
END:STANDARD
END:VTIMEZONE
BEGIN:VEVENT
UID:A0E9B3BE-1D47-428D-8EB5-7807839F7498-6-256_homereminder@11.badmintonner
 s.net
DTSTAMP:20260420T055121Z
SUMMARY:Thuismatch ingevuld? (Smash 1H (42) - Olve 3H (36))
DESCRIPTION:Je hebt 36 uur na aanvang om een thuismatch op Badmintonvlaande
 ren in te vullen. Match info: Smash 1H (42) - Olve 3H (36) - Link: https:/
 /www.badmintonvlaanderen.be/sport/teammatch.aspx?id=A0E9B3BE-1D47-428D-8EB
 5-7807839F7498&match=256
DTSTART;TZID=Europe/Brussels:20251108T080000
DTEND;TZID=Europe/Brussels:20251108T080000
END:VEVENT
BEGIN:VEVENT
UID:A0E9B3BE-1D47-428D-8EB5-7807839F7498-6-261_homereminder@11.badmintonner
 s.net
DTSTAMP:20260420T055121Z
SUMMARY:Thuismatch ingevuld? (Smash 1H (42) - Klein Boom 1H (38))
DESCRIPTION:Je hebt 36 uur na aanvang om een thuismatch op Badmintonvlaande
 ren in te vullen. Match info: Smash 1H (42) - Klein Boom 1H (38) - Link: h
 ttps://www.badmintonvlaanderen.be/sport/teammatch.aspx?id=A0E9B3BE-1D47-42
 8D-8EB5-7807839F7498&match=261
DTSTART;TZID=Europe/Brussels:20251117T220000
DTEND;TZID=Europe/Brussels:20251117T220000
END:VEVENT
BEGIN:VEVENT
UID:A0E9B3BE-1D47-428D-8EB5-7807839F7498-6-246_homereminder@11.badmintonner
 s.net
DTSTAMP:20260420T055121Z
SUMMARY:Thuismatch ingevuld? (Smash 1H (42) - Plumula 1H (42))
DESCRIPTION:Je hebt 36 uur na aanvang om een thuismatch op Badmintonvlaande
 ren in te vullen. Match info: Smash 1H (42) - Plumula 1H (42) - Link: http
 s://www.badmintonvlaanderen.be/sport/teammatch.aspx?id=A0E9B3BE-1D47-428D-
 8EB5-7807839F7498&match=246
DTSTART;TZID=Europe/Brussels:20251215T220000
DTEND;TZID=Europe/Brussels:20251215T220000
END:VEVENT
BEGIN:VEVENT
UID:A0E9B3BE-1D47-428D-8EB5-7807839F7498-6-251_homereminder@11.badmintonner
 s.net
DTSTAMP:20260420T055121Z
SUMMARY:Thuismatch ingevuld? (Smash 1H (42) - De Klamp 1H (41))
DESCRIPTION:Je hebt 36 uur na aanvang om een thuismatch op Badmintonvlaande
 ren in te vullen. Match info: Smash 1H (42) - De Klamp 1H (41) - Link: htt
 ps://www.badmintonvlaanderen.be/sport/teammatch.aspx?id=A0E9B3BE-1D47-428D
 -8EB5-7807839F7498&match=251
DTSTART;TZID=Europe/Brussels:20260314T080000
DTEND;TZID=Europe/Brussels:20260314T080000
END:VEVENT
BEGIN:VEVENT
UID:A0E9B3BE-1D47-428D-8EB5-7807839F7498-6-235_homereminder@11.badmintonner
 s.net
DTSTAMP:20260420T055121Z
SUMMARY:Thuismatch ingevuld? (Smash 1H (42) - Herentals 1H (42))
DESCRIPTION:Je hebt 36 uur na aanvang om een thuismatch op Badmintonvlaande
 ren in te vullen. Match info: Smash 1H (42) - Herentals 1H (42) - Link: ht
 tps://www.badmintonvlaanderen.be/sport/teammatch.aspx?id=A0E9B3BE-1D47-428
 D-8EB5-7807839F7498&match=235
DTSTART;TZID=Europe/Brussels:20260411T080000
DTEND;TZID=Europe/Brussels:20260411T080000
END:VEVENT
BEGIN:VEVENT
UID:A0E9B3BE-1D47-428D-8EB5-7807839F7498-6-242_awayreminder@11.badmintonner
 s.net
DTSTAMP:20260420T055121Z
SUMMARY:Uitmatch bevestigd? (De Klamp 1H (41) - Smash 1H (42))
DESCRIPTION:Je hebt 72 uur na aanvang om een uitmatch op Badmintonvlaandere
 n in te vullen. Match info: De Klamp 1H (41) - Smash 1H (42) - Link: https
 ://www.badmintonvlaanderen.be/sport/teammatch.aspx?id=A0E9B3BE-1D47-428D-8
 EB5-7807839F7498&match=242
DTSTART;TZID=Europe/Brussels:20251112T181500
DTEND;TZID=Europe/Brussels:20251112T181500
END:VEVENT
BEGIN:VEVENT
UID:A0E9B3BE-1D47-428D-8EB5-7807839F7498-6-240_awayreminder@11.badmintonner
 s.net
DTSTAMP:20260420T055121Z
SUMMARY:Uitmatch bevestigd? (Herentals 1H (42) - Smash 1H (42))
DESCRIPTION:Je hebt 72 uur na aanvang om een uitmatch op Badmintonvlaandere
 n in te vullen. Match info: Herentals 1H (42) - Smash 1H (42) - Link: http
 s://www.badmintonvlaanderen.be/sport/teammatch.aspx?id=A0E9B3BE-1D47-428D-
 8EB5-7807839F7498&match=240
DTSTART;TZID=Europe/Brussels:20251215T203000
DTEND;TZID=Europe/Brussels:20251215T203000
END:VEVENT
BEGIN:VEVENT
UID:A0E9B3BE-1D47-428D-8EB5-7807839F7498-6-244_awayreminder@11.badmintonner
 s.net
DTSTAMP:20260420T055121Z
SUMMARY:Uitmatch bevestigd? (Klein Boom 1H (38) - Smash 1H (42))
DESCRIPTION:Je hebt 72 uur na aanvang om een uitmatch op Badmintonvlaandere
 n in te vullen. Match info: Klein Boom 1H (38) - Smash 1H (42) - Link: htt
 ps://www.badmintonvlaanderen.be/sport/teammatch.aspx?id=A0E9B3BE-1D47-428D
 -8EB5-7807839F7498&match=244
DTSTART;TZID=Europe/Brussels:20260225T190000
DTEND;TZID=Europe/Brussels:20260225T190000
END:VEVENT
BEGIN:VEVENT
UID:A0E9B3BE-1D47-428D-8EB5-7807839F7498-6-241_awayreminder@11.badmintonner
 s.net
DTSTAMP:20260420T055121Z
SUMMARY:Uitmatch bevestigd? (Plumula 1H (42) - Smash 1H (42))
DESCRIPTION:Je hebt 72 uur na aanvang om een uitmatch op Badmintonvlaandere
 n in te vullen. Match info: Plumula 1H (42) - Smash 1H (42) - Link: https:
 //www.badmintonvlaanderen.be/sport/teammatch.aspx?id=A0E9B3BE-1D47-428D-8E
 B5-7807839F7498&match=241
DTSTART;TZID=Europe/Brussels:20260304T173000
DTEND;TZID=Europe/Brussels:20260304T173000
END:VEVENT
BEGIN:VEVENT
UID:A0E9B3BE-1D47-428D-8EB5-7807839F7498-6-243_awayreminder@11.badmintonner
 s.net
DTSTAMP:20260420T055121Z
SUMMARY:Uitmatch bevestigd? (Olve 3H (36) - Smash 1H (42))
DESCRIPTION:Je hebt 72 uur na aanvang om een uitmatch op Badmintonvlaandere
 n in te vullen. Match info: Olve 3H (36) - Smash 1H (42) - Link: https://w
 ww.badmintonvlaanderen.be/sport/teammatch.aspx?id=A0E9B3BE-1D47-428D-8EB5-
 7807839F7498&match=243
DTSTART;TZID=Europe/Brussels:20260317T103000
DTEND;TZID=Europe/Brussels:20260317T103000
END:VEVENT
END:VCALENDAR