BEGIN:VCALENDAR
VERSION:2.0
PRODID:spatie/icalendar-generator
NAME:wl_bv_2d_28_reminders
X-WR-CALNAME:wl_bv_2d_28_reminders
BEGIN:VTIMEZONE
TZID:Europe/Brussels
BEGIN:DAYLIGHT
DTSTART:20250330T010000
TZOFFSETFROM:+0100
TZOFFSETTO:+0200
END:DAYLIGHT
BEGIN:STANDARD
DTSTART:20251026T030000
TZOFFSETFROM:+0200
TZOFFSETTO:+0100
END:STANDARD
BEGIN:DAYLIGHT
DTSTART:20260329T010000
TZOFFSETFROM:+0100
TZOFFSETTO:+0200
END:DAYLIGHT
END:VTIMEZONE
BEGIN:VTIMEZONE
TZID:UTC
BEGIN:STANDARD
DTSTART:20250724T041159
TZOFFSETFROM:+0000
TZOFFSETTO:+0000
END:STANDARD
END:VTIMEZONE
BEGIN:VEVENT
UID:88B516F8-C241-4391-98BA-F07EECF33E17-18-838_homereminder@66.badmintonne
 rs.net
DTSTAMP:20260420T041159Z
SUMMARY:Thuismatch ingevuld? (W&L BV 2D (28) - Klein Boom 1D (33))
DESCRIPTION:Je hebt 36 uur na aanvang om een thuismatch op Badmintonvlaande
 ren in te vullen. Match info: W&L BV 2D (28) - Klein Boom 1D (33) - Link: 
 https://www.badmintonvlaanderen.be/sport/teammatch.aspx?id=88B516F8-C241-4
 391-98BA-F07EECF33E17&match=838
DTSTART;TZID=Europe/Brussels:20251007T010000
DTEND;TZID=Europe/Brussels:20251007T010000
END:VEVENT
BEGIN:VEVENT
UID:88B516F8-C241-4391-98BA-F07EECF33E17-18-853_homereminder@66.badmintonne
 rs.net
DTSTAMP:20260420T041159Z
SUMMARY:Thuismatch ingevuld? (W&L BV 2D (28) - Tienen 1D (32))
DESCRIPTION:Je hebt 36 uur na aanvang om een thuismatch op Badmintonvlaande
 ren in te vullen. Match info: W&L BV 2D (28) - Tienen 1D (32) - Link: http
 s://www.badmintonvlaanderen.be/sport/teammatch.aspx?id=88B516F8-C241-4391-
 98BA-F07EECF33E17&match=853
DTSTART;TZID=Europe/Brussels:20251118T010000
DTEND;TZID=Europe/Brussels:20251118T010000
END:VEVENT
BEGIN:VEVENT
UID:88B516F8-C241-4391-98BA-F07EECF33E17-18-843_homereminder@66.badmintonne
 rs.net
DTSTAMP:20260420T041159Z
SUMMARY:Thuismatch ingevuld? (W&L BV 2D (28) - Pluimplukkers 2D (30))
DESCRIPTION:Je hebt 36 uur na aanvang om een thuismatch op Badmintonvlaande
 ren in te vullen. Match info: W&L BV 2D (28) - Pluimplukkers 2D (30) - Lin
 k: https://www.badmintonvlaanderen.be/sport/teammatch.aspx?id=88B516F8-C24
 1-4391-98BA-F07EECF33E17&match=843
DTSTART;TZID=Europe/Brussels:20260310T010000
DTEND;TZID=Europe/Brussels:20260310T010000
END:VEVENT
BEGIN:VEVENT
UID:88B516F8-C241-4391-98BA-F07EECF33E17-18-848_homereminder@66.badmintonne
 rs.net
DTSTAMP:20260420T041159Z
SUMMARY:Thuismatch ingevuld? (W&L BV 2D (28) - Rivierenland 1D (44))
DESCRIPTION:Je hebt 36 uur na aanvang om een thuismatch op Badmintonvlaande
 ren in te vullen. Match info: W&L BV 2D (28) - Rivierenland 1D (44) - Link
 : https://www.badmintonvlaanderen.be/sport/teammatch.aspx?id=88B516F8-C241
 -4391-98BA-F07EECF33E17&match=848
DTSTART;TZID=Europe/Brussels:20260324T010000
DTEND;TZID=Europe/Brussels:20260324T010000
END:VEVENT
BEGIN:VEVENT
UID:88B516F8-C241-4391-98BA-F07EECF33E17-18-833_homereminder@66.badmintonne
 rs.net
DTSTAMP:20260420T041159Z
SUMMARY:Thuismatch ingevuld? (W&L BV 2D (28) - Dijlevallei 3D (32))
DESCRIPTION:Je hebt 36 uur na aanvang om een thuismatch op Badmintonvlaande
 ren in te vullen. Match info: W&L BV 2D (28) - Dijlevallei 3D (32) - Link:
  https://www.badmintonvlaanderen.be/sport/teammatch.aspx?id=88B516F8-C241-
 4391-98BA-F07EECF33E17&match=833
DTSTART;TZID=Europe/Brussels:20260421T010000
DTEND;TZID=Europe/Brussels:20260421T010000
END:VEVENT
BEGIN:VEVENT
UID:88B516F8-C241-4391-98BA-F07EECF33E17-18-854_awayreminder@66.badmintonne
 rs.net
DTSTAMP:20260420T041159Z
SUMMARY:Uitmatch bevestigd? (Dijlevallei 3D (32) - W&L BV 2D (28))
DESCRIPTION:Je hebt 72 uur na aanvang om een uitmatch op Badmintonvlaandere
 n in te vullen. Match info: Dijlevallei 3D (32) - W&L BV 2D (28) - Link: h
 ttps://www.badmintonvlaanderen.be/sport/teammatch.aspx?id=88B516F8-C241-43
 91-98BA-F07EECF33E17&match=854
DTSTART;TZID=Europe/Brussels:20251022T140000
DTEND;TZID=Europe/Brussels:20251022T140000
END:VEVENT
BEGIN:VEVENT
UID:88B516F8-C241-4391-98BA-F07EECF33E17-18-857_awayreminder@66.badmintonne
 rs.net
DTSTAMP:20260420T041159Z
SUMMARY:Uitmatch bevestigd? (Rivierenland 1D (44) - W&L BV 2D (28))
DESCRIPTION:Je hebt 72 uur na aanvang om een uitmatch op Badmintonvlaandere
 n in te vullen. Match info: Rivierenland 1D (44) - W&L BV 2D (28) - Link: 
 https://www.badmintonvlaanderen.be/sport/teammatch.aspx?id=88B516F8-C241-4
 391-98BA-F07EECF33E17&match=857
DTSTART;TZID=Europe/Brussels:20251201T200000
DTEND;TZID=Europe/Brussels:20251201T200000
END:VEVENT
BEGIN:VEVENT
UID:88B516F8-C241-4391-98BA-F07EECF33E17-18-856_awayreminder@66.badmintonne
 rs.net
DTSTAMP:20260420T041159Z
SUMMARY:Uitmatch bevestigd? (Pluimplukkers 2D (30) - W&L BV 2D (28))
DESCRIPTION:Je hebt 72 uur na aanvang om een uitmatch op Badmintonvlaandere
 n in te vullen. Match info: Pluimplukkers 2D (30) - W&L BV 2D (28) - Link:
  https://www.badmintonvlaanderen.be/sport/teammatch.aspx?id=88B516F8-C241-
 4391-98BA-F07EECF33E17&match=856
DTSTART;TZID=Europe/Brussels:20251203T190000
DTEND;TZID=Europe/Brussels:20251203T190000
END:VEVENT
BEGIN:VEVENT
UID:88B516F8-C241-4391-98BA-F07EECF33E17-18-855_awayreminder@66.badmintonne
 rs.net
DTSTAMP:20260420T041159Z
SUMMARY:Uitmatch bevestigd? (Klein Boom 1D (33) - W&L BV 2D (28))
DESCRIPTION:Je hebt 72 uur na aanvang om een uitmatch op Badmintonvlaandere
 n in te vullen. Match info: Klein Boom 1D (33) - W&L BV 2D (28) - Link: ht
 tps://www.badmintonvlaanderen.be/sport/teammatch.aspx?id=88B516F8-C241-439
 1-98BA-F07EECF33E17&match=855
DTSTART;TZID=Europe/Brussels:20260107T190000
DTEND;TZID=Europe/Brussels:20260107T190000
END:VEVENT
BEGIN:VEVENT
UID:88B516F8-C241-4391-98BA-F07EECF33E17-18-858_awayreminder@66.badmintonne
 rs.net
DTSTAMP:20260420T041159Z
SUMMARY:Uitmatch bevestigd? (Tienen 1D (32) - W&L BV 2D (28))
DESCRIPTION:Je hebt 72 uur na aanvang om een uitmatch op Badmintonvlaandere
 n in te vullen. Match info: Tienen 1D (32) - W&L BV 2D (28) - Link: https:
 //www.badmintonvlaanderen.be/sport/teammatch.aspx?id=88B516F8-C241-4391-98
 BA-F07EECF33E17&match=858
DTSTART;TZID=Europe/Brussels:20260225T170000
DTEND;TZID=Europe/Brussels:20260225T170000
END:VEVENT
END:VCALENDAR