BEGIN:VCALENDAR
VERSION:2.0
PRODID:spatie/icalendar-generator
NAME:klein_boom_1d_33_reminders
X-WR-CALNAME:klein_boom_1d_33_reminders
BEGIN:VTIMEZONE
TZID:Europe/Brussels
BEGIN:DAYLIGHT
DTSTART:20250330T010000
TZOFFSETFROM:+0100
TZOFFSETTO:+0200
END:DAYLIGHT
BEGIN:STANDARD
DTSTART:20251026T030000
TZOFFSETFROM:+0200
TZOFFSETTO:+0100
END:STANDARD
BEGIN:DAYLIGHT
DTSTART:20260329T010000
TZOFFSETFROM:+0100
TZOFFSETTO:+0200
END:DAYLIGHT
END:VTIMEZONE
BEGIN:VTIMEZONE
TZID:UTC
BEGIN:STANDARD
DTSTART:20250724T041200
TZOFFSETFROM:+0000
TZOFFSETTO:+0000
END:STANDARD
END:VTIMEZONE
BEGIN:VEVENT
UID:88B516F8-C241-4391-98BA-F07EECF33E17-18-840_homereminder@67.badmintonne
 rs.net
DTSTAMP:20260420T041200Z
SUMMARY:Thuismatch ingevuld? (Klein Boom 1D (33) - Pluimplukkers 2D (30))
DESCRIPTION:Je hebt 36 uur na aanvang om een thuismatch op Badmintonvlaande
 ren in te vullen. Match info: Klein Boom 1D (33) - Pluimplukkers 2D (30) -
  Link: https://www.badmintonvlaanderen.be/sport/teammatch.aspx?id=88B516F8
 -C241-4391-98BA-F07EECF33E17&match=840
DTSTART;TZID=Europe/Brussels:20251118T070000
DTEND;TZID=Europe/Brussels:20251118T070000
END:VEVENT
BEGIN:VEVENT
UID:88B516F8-C241-4391-98BA-F07EECF33E17-18-850_homereminder@67.badmintonne
 rs.net
DTSTAMP:20260420T041200Z
SUMMARY:Thuismatch ingevuld? (Klein Boom 1D (33) - Tienen 1D (32))
DESCRIPTION:Je hebt 36 uur na aanvang om een thuismatch op Badmintonvlaande
 ren in te vullen. Match info: Klein Boom 1D (33) - Tienen 1D (32) - Link: 
 https://www.badmintonvlaanderen.be/sport/teammatch.aspx?id=88B516F8-C241-4
 391-98BA-F07EECF33E17&match=850
DTSTART;TZID=Europe/Brussels:20251209T070000
DTEND;TZID=Europe/Brussels:20251209T070000
END:VEVENT
BEGIN:VEVENT
UID:88B516F8-C241-4391-98BA-F07EECF33E17-18-855_homereminder@67.badmintonne
 rs.net
DTSTAMP:20260420T041200Z
SUMMARY:Thuismatch ingevuld? (Klein Boom 1D (33) - W&L BV 2D (28))
DESCRIPTION:Je hebt 36 uur na aanvang om een thuismatch op Badmintonvlaande
 ren in te vullen. Match info: Klein Boom 1D (33) - W&L BV 2D (28) - Link: 
 https://www.badmintonvlaanderen.be/sport/teammatch.aspx?id=88B516F8-C241-4
 391-98BA-F07EECF33E17&match=855
DTSTART;TZID=Europe/Brussels:20260106T070000
DTEND;TZID=Europe/Brussels:20260106T070000
END:VEVENT
BEGIN:VEVENT
UID:88B516F8-C241-4391-98BA-F07EECF33E17-18-829_homereminder@67.badmintonne
 rs.net
DTSTAMP:20260420T041200Z
SUMMARY:Thuismatch ingevuld? (Klein Boom 1D (33) - Dijlevallei 3D (32))
DESCRIPTION:Je hebt 36 uur na aanvang om een thuismatch op Badmintonvlaande
 ren in te vullen. Match info: Klein Boom 1D (33) - Dijlevallei 3D (32) - L
 ink: https://www.badmintonvlaanderen.be/sport/teammatch.aspx?id=88B516F8-C
 241-4391-98BA-F07EECF33E17&match=829
DTSTART;TZID=Europe/Brussels:20260127T070000
DTEND;TZID=Europe/Brussels:20260127T070000
END:VEVENT
BEGIN:VEVENT
UID:88B516F8-C241-4391-98BA-F07EECF33E17-18-845_homereminder@67.badmintonne
 rs.net
DTSTAMP:20260420T041200Z
SUMMARY:Thuismatch ingevuld? (Klein Boom 1D (33) - Rivierenland 1D (44))
DESCRIPTION:Je hebt 36 uur na aanvang om een thuismatch op Badmintonvlaande
 ren in te vullen. Match info: Klein Boom 1D (33) - Rivierenland 1D (44) - 
 Link: https://www.badmintonvlaanderen.be/sport/teammatch.aspx?id=88B516F8-
 C241-4391-98BA-F07EECF33E17&match=845
DTSTART;TZID=Europe/Brussels:20260310T070000
DTEND;TZID=Europe/Brussels:20260310T070000
END:VEVENT
BEGIN:VEVENT
UID:88B516F8-C241-4391-98BA-F07EECF33E17-18-838_awayreminder@67.badmintonne
 rs.net
DTSTAMP:20260420T041200Z
SUMMARY:Uitmatch bevestigd? (W&L BV 2D (28) - Klein Boom 1D (33))
DESCRIPTION:Je hebt 72 uur na aanvang om een uitmatch op Badmintonvlaandere
 n in te vullen. Match info: W&L BV 2D (28) - Klein Boom 1D (33) - Link: ht
 tps://www.badmintonvlaanderen.be/sport/teammatch.aspx?id=88B516F8-C241-439
 1-98BA-F07EECF33E17&match=838
DTSTART;TZID=Europe/Brussels:20251008T130000
DTEND;TZID=Europe/Brussels:20251008T130000
END:VEVENT
BEGIN:VEVENT
UID:88B516F8-C241-4391-98BA-F07EECF33E17-18-836_awayreminder@67.badmintonne
 rs.net
DTSTAMP:20260420T041200Z
SUMMARY:Uitmatch bevestigd? (Rivierenland 1D (44) - Klein Boom 1D (33))
DESCRIPTION:Je hebt 72 uur na aanvang om een uitmatch op Badmintonvlaandere
 n in te vullen. Match info: Rivierenland 1D (44) - Klein Boom 1D (33) - Li
 nk: https://www.badmintonvlaanderen.be/sport/teammatch.aspx?id=88B516F8-C2
 41-4391-98BA-F07EECF33E17&match=836
DTSTART;TZID=Europe/Brussels:20251203T163000
DTEND;TZID=Europe/Brussels:20251203T163000
END:VEVENT
BEGIN:VEVENT
UID:88B516F8-C241-4391-98BA-F07EECF33E17-18-834_awayreminder@67.badmintonne
 rs.net
DTSTAMP:20260420T041200Z
SUMMARY:Uitmatch bevestigd? (Dijlevallei 3D (32) - Klein Boom 1D (33))
DESCRIPTION:Je hebt 72 uur na aanvang om een uitmatch op Badmintonvlaandere
 n in te vullen. Match info: Dijlevallei 3D (32) - Klein Boom 1D (33) - Lin
 k: https://www.badmintonvlaanderen.be/sport/teammatch.aspx?id=88B516F8-C24
 1-4391-98BA-F07EECF33E17&match=834
DTSTART;TZID=Europe/Brussels:20251216T163000
DTEND;TZID=Europe/Brussels:20251216T163000
END:VEVENT
BEGIN:VEVENT
UID:88B516F8-C241-4391-98BA-F07EECF33E17-18-837_awayreminder@67.badmintonne
 rs.net
DTSTAMP:20260420T041200Z
SUMMARY:Uitmatch bevestigd? (Tienen 1D (32) - Klein Boom 1D (33))
DESCRIPTION:Je hebt 72 uur na aanvang om een uitmatch op Badmintonvlaandere
 n in te vullen. Match info: Tienen 1D (32) - Klein Boom 1D (33) - Link: ht
 tps://www.badmintonvlaanderen.be/sport/teammatch.aspx?id=88B516F8-C241-439
 1-98BA-F07EECF33E17&match=837
DTSTART;TZID=Europe/Brussels:20260114T170000
DTEND;TZID=Europe/Brussels:20260114T170000
END:VEVENT
BEGIN:VEVENT
UID:88B516F8-C241-4391-98BA-F07EECF33E17-18-835_awayreminder@67.badmintonne
 rs.net
DTSTAMP:20260420T041200Z
SUMMARY:Uitmatch bevestigd? (Pluimplukkers 2D (30) - Klein Boom 1D (33))
DESCRIPTION:Je hebt 72 uur na aanvang om een uitmatch op Badmintonvlaandere
 n in te vullen. Match info: Pluimplukkers 2D (30) - Klein Boom 1D (33) - L
 ink: https://www.badmintonvlaanderen.be/sport/teammatch.aspx?id=88B516F8-C
 241-4391-98BA-F07EECF33E17&match=835
DTSTART;TZID=Europe/Brussels:20260325T190000
DTEND;TZID=Europe/Brussels:20260325T190000
END:VEVENT
END:VCALENDAR