BEGIN:VCALENDAR
VERSION:2.0
PRODID:spatie/icalendar-generator
NAME:dijlevallei_3d_32_reminders
X-WR-CALNAME:dijlevallei_3d_32_reminders
BEGIN:VTIMEZONE
TZID:Europe/Brussels
BEGIN:DAYLIGHT
DTSTART:20250330T010000
TZOFFSETFROM:+0100
TZOFFSETTO:+0200
END:DAYLIGHT
BEGIN:STANDARD
DTSTART:20251026T030000
TZOFFSETFROM:+0200
TZOFFSETTO:+0100
END:STANDARD
BEGIN:DAYLIGHT
DTSTART:20260329T010000
TZOFFSETFROM:+0100
TZOFFSETTO:+0200
END:DAYLIGHT
END:VTIMEZONE
BEGIN:VTIMEZONE
TZID:UTC
BEGIN:STANDARD
DTSTART:20250724T041200
TZOFFSETFROM:+0000
TZOFFSETTO:+0000
END:STANDARD
END:VTIMEZONE
BEGIN:VEVENT
UID:88B516F8-C241-4391-98BA-F07EECF33E17-18-844_homereminder@68.badmintonne
 rs.net
DTSTAMP:20260420T041200Z
SUMMARY:Thuismatch ingevuld? (Dijlevallei 3D (32) - Rivierenland 1D (44))
DESCRIPTION:Je hebt 36 uur na aanvang om een thuismatch op Badmintonvlaande
 ren in te vullen. Match info: Dijlevallei 3D (32) - Rivierenland 1D (44) -
  Link: https://www.badmintonvlaanderen.be/sport/teammatch.aspx?id=88B516F8
 -C241-4391-98BA-F07EECF33E17&match=844
DTSTART;TZID=Europe/Brussels:20250916T020000
DTEND;TZID=Europe/Brussels:20250916T020000
END:VEVENT
BEGIN:VEVENT
UID:88B516F8-C241-4391-98BA-F07EECF33E17-18-854_homereminder@68.badmintonne
 rs.net
DTSTAMP:20260420T041200Z
SUMMARY:Thuismatch ingevuld? (Dijlevallei 3D (32) - W&L BV 2D (28))
DESCRIPTION:Je hebt 36 uur na aanvang om een thuismatch op Badmintonvlaande
 ren in te vullen. Match info: Dijlevallei 3D (32) - W&L BV 2D (28) - Link:
  https://www.badmintonvlaanderen.be/sport/teammatch.aspx?id=88B516F8-C241-
 4391-98BA-F07EECF33E17&match=854
DTSTART;TZID=Europe/Brussels:20251021T020000
DTEND;TZID=Europe/Brussels:20251021T020000
END:VEVENT
BEGIN:VEVENT
UID:88B516F8-C241-4391-98BA-F07EECF33E17-18-834_homereminder@68.badmintonne
 rs.net
DTSTAMP:20260420T041200Z
SUMMARY:Thuismatch ingevuld? (Dijlevallei 3D (32) - Klein Boom 1D (33))
DESCRIPTION:Je hebt 36 uur na aanvang om een thuismatch op Badmintonvlaande
 ren in te vullen. Match info: Dijlevallei 3D (32) - Klein Boom 1D (33) - L
 ink: https://www.badmintonvlaanderen.be/sport/teammatch.aspx?id=88B516F8-C
 241-4391-98BA-F07EECF33E17&match=834
DTSTART;TZID=Europe/Brussels:20251215T043000
DTEND;TZID=Europe/Brussels:20251215T043000
END:VEVENT
BEGIN:VEVENT
UID:88B516F8-C241-4391-98BA-F07EECF33E17-18-839_homereminder@68.badmintonne
 rs.net
DTSTAMP:20260420T041200Z
SUMMARY:Thuismatch ingevuld? (Dijlevallei 3D (32) - Pluimplukkers 2D (30))
DESCRIPTION:Je hebt 36 uur na aanvang om een thuismatch op Badmintonvlaande
 ren in te vullen. Match info: Dijlevallei 3D (32) - Pluimplukkers 2D (30) 
 - Link: https://www.badmintonvlaanderen.be/sport/teammatch.aspx?id=88B516F
 8-C241-4391-98BA-F07EECF33E17&match=839
DTSTART;TZID=Europe/Brussels:20260210T020000
DTEND;TZID=Europe/Brussels:20260210T020000
END:VEVENT
BEGIN:VEVENT
UID:88B516F8-C241-4391-98BA-F07EECF33E17-18-849_homereminder@68.badmintonne
 rs.net
DTSTAMP:20260420T041200Z
SUMMARY:Thuismatch ingevuld? (Dijlevallei 3D (32) - Tienen 1D (32))
DESCRIPTION:Je hebt 36 uur na aanvang om een thuismatch op Badmintonvlaande
 ren in te vullen. Match info: Dijlevallei 3D (32) - Tienen 1D (32) - Link:
  https://www.badmintonvlaanderen.be/sport/teammatch.aspx?id=88B516F8-C241-
 4391-98BA-F07EECF33E17&match=849
DTSTART;TZID=Europe/Brussels:20260324T020000
DTEND;TZID=Europe/Brussels:20260324T020000
END:VEVENT
BEGIN:VEVENT
UID:88B516F8-C241-4391-98BA-F07EECF33E17-18-830_awayreminder@68.badmintonne
 rs.net
DTSTAMP:20260420T041200Z
SUMMARY:Uitmatch bevestigd? (Pluimplukkers 2D (30) - Dijlevallei 3D (32))
DESCRIPTION:Je hebt 72 uur na aanvang om een uitmatch op Badmintonvlaandere
 n in te vullen. Match info: Pluimplukkers 2D (30) - Dijlevallei 3D (32) - 
 Link: https://www.badmintonvlaanderen.be/sport/teammatch.aspx?id=88B516F8-
 C241-4391-98BA-F07EECF33E17&match=830
DTSTART;TZID=Europe/Brussels:20251202T180000
DTEND;TZID=Europe/Brussels:20251202T180000
END:VEVENT
BEGIN:VEVENT
UID:88B516F8-C241-4391-98BA-F07EECF33E17-18-832_awayreminder@68.badmintonne
 rs.net
DTSTAMP:20260420T041200Z
SUMMARY:Uitmatch bevestigd? (Tienen 1D (32) - Dijlevallei 3D (32))
DESCRIPTION:Je hebt 72 uur na aanvang om een uitmatch op Badmintonvlaandere
 n in te vullen. Match info: Tienen 1D (32) - Dijlevallei 3D (32) - Link: h
 ttps://www.badmintonvlaanderen.be/sport/teammatch.aspx?id=88B516F8-C241-43
 91-98BA-F07EECF33E17&match=832
DTSTART;TZID=Europe/Brussels:20251203T170000
DTEND;TZID=Europe/Brussels:20251203T170000
END:VEVENT
BEGIN:VEVENT
UID:88B516F8-C241-4391-98BA-F07EECF33E17-18-829_awayreminder@68.badmintonne
 rs.net
DTSTAMP:20260420T041200Z
SUMMARY:Uitmatch bevestigd? (Klein Boom 1D (33) - Dijlevallei 3D (32))
DESCRIPTION:Je hebt 72 uur na aanvang om een uitmatch op Badmintonvlaandere
 n in te vullen. Match info: Klein Boom 1D (33) - Dijlevallei 3D (32) - Lin
 k: https://www.badmintonvlaanderen.be/sport/teammatch.aspx?id=88B516F8-C24
 1-4391-98BA-F07EECF33E17&match=829
DTSTART;TZID=Europe/Brussels:20260128T190000
DTEND;TZID=Europe/Brussels:20260128T190000
END:VEVENT
BEGIN:VEVENT
UID:88B516F8-C241-4391-98BA-F07EECF33E17-18-831_awayreminder@68.badmintonne
 rs.net
DTSTAMP:20260420T041200Z
SUMMARY:Uitmatch bevestigd? (Rivierenland 1D (44) - Dijlevallei 3D (32))
DESCRIPTION:Je hebt 72 uur na aanvang om een uitmatch op Badmintonvlaandere
 n in te vullen. Match info: Rivierenland 1D (44) - Dijlevallei 3D (32) - L
 ink: https://www.badmintonvlaanderen.be/sport/teammatch.aspx?id=88B516F8-C
 241-4391-98BA-F07EECF33E17&match=831
DTSTART;TZID=Europe/Brussels:20260225T163000
DTEND;TZID=Europe/Brussels:20260225T163000
END:VEVENT
BEGIN:VEVENT
UID:88B516F8-C241-4391-98BA-F07EECF33E17-18-833_awayreminder@68.badmintonne
 rs.net
DTSTAMP:20260420T041200Z
SUMMARY:Uitmatch bevestigd? (W&L BV 2D (28) - Dijlevallei 3D (32))
DESCRIPTION:Je hebt 72 uur na aanvang om een uitmatch op Badmintonvlaandere
 n in te vullen. Match info: W&L BV 2D (28) - Dijlevallei 3D (32) - Link: h
 ttps://www.badmintonvlaanderen.be/sport/teammatch.aspx?id=88B516F8-C241-43
 91-98BA-F07EECF33E17&match=833
DTSTART;TZID=Europe/Brussels:20260422T130000
DTEND;TZID=Europe/Brussels:20260422T130000
END:VEVENT
END:VCALENDAR