BEGIN:VCALENDAR
VERSION:2.0
PRODID:spatie/icalendar-generator
NAME:pluimplukkers_2d_30_reminders
X-WR-CALNAME:pluimplukkers_2d_30_reminders
BEGIN:VTIMEZONE
TZID:Europe/Brussels
BEGIN:DAYLIGHT
DTSTART:20250330T010000
TZOFFSETFROM:+0100
TZOFFSETTO:+0200
END:DAYLIGHT
BEGIN:STANDARD
DTSTART:20251026T030000
TZOFFSETFROM:+0200
TZOFFSETTO:+0100
END:STANDARD
BEGIN:DAYLIGHT
DTSTART:20260329T010000
TZOFFSETFROM:+0100
TZOFFSETTO:+0200
END:DAYLIGHT
END:VTIMEZONE
BEGIN:VTIMEZONE
TZID:UTC
BEGIN:STANDARD
DTSTART:20250724T041200
TZOFFSETFROM:+0000
TZOFFSETTO:+0000
END:STANDARD
END:VTIMEZONE
BEGIN:VEVENT
UID:88B516F8-C241-4391-98BA-F07EECF33E17-18-846_homereminder@69.badmintonne
 rs.net
DTSTAMP:20260420T041200Z
SUMMARY:Thuismatch ingevuld? (Pluimplukkers 2D (30) - Rivierenland 1D (44))
DESCRIPTION:Je hebt 36 uur na aanvang om een thuismatch op Badmintonvlaande
 ren in te vullen. Match info: Pluimplukkers 2D (30) - Rivierenland 1D (44)
  - Link: https://www.badmintonvlaanderen.be/sport/teammatch.aspx?id=88B516
 F8-C241-4391-98BA-F07EECF33E17&match=846
DTSTART;TZID=Europe/Brussels:20251006T060000
DTEND;TZID=Europe/Brussels:20251006T060000
END:VEVENT
BEGIN:VEVENT
UID:88B516F8-C241-4391-98BA-F07EECF33E17-18-830_homereminder@69.badmintonne
 rs.net
DTSTAMP:20260420T041200Z
SUMMARY:Thuismatch ingevuld? (Pluimplukkers 2D (30) - Dijlevallei 3D (32))
DESCRIPTION:Je hebt 36 uur na aanvang om een thuismatch op Badmintonvlaande
 ren in te vullen. Match info: Pluimplukkers 2D (30) - Dijlevallei 3D (32) 
 - Link: https://www.badmintonvlaanderen.be/sport/teammatch.aspx?id=88B516F
 8-C241-4391-98BA-F07EECF33E17&match=830
DTSTART;TZID=Europe/Brussels:20251201T060000
DTEND;TZID=Europe/Brussels:20251201T060000
END:VEVENT
BEGIN:VEVENT
UID:88B516F8-C241-4391-98BA-F07EECF33E17-18-856_homereminder@69.badmintonne
 rs.net
DTSTAMP:20260420T041200Z
SUMMARY:Thuismatch ingevuld? (Pluimplukkers 2D (30) - W&L BV 2D (28))
DESCRIPTION:Je hebt 36 uur na aanvang om een thuismatch op Badmintonvlaande
 ren in te vullen. Match info: Pluimplukkers 2D (30) - W&L BV 2D (28) - Lin
 k: https://www.badmintonvlaanderen.be/sport/teammatch.aspx?id=88B516F8-C24
 1-4391-98BA-F07EECF33E17&match=856
DTSTART;TZID=Europe/Brussels:20251202T070000
DTEND;TZID=Europe/Brussels:20251202T070000
END:VEVENT
BEGIN:VEVENT
UID:88B516F8-C241-4391-98BA-F07EECF33E17-18-835_homereminder@69.badmintonne
 rs.net
DTSTAMP:20260420T041200Z
SUMMARY:Thuismatch ingevuld? (Pluimplukkers 2D (30) - Klein Boom 1D (33))
DESCRIPTION:Je hebt 36 uur na aanvang om een thuismatch op Badmintonvlaande
 ren in te vullen. Match info: Pluimplukkers 2D (30) - Klein Boom 1D (33) -
  Link: https://www.badmintonvlaanderen.be/sport/teammatch.aspx?id=88B516F8
 -C241-4391-98BA-F07EECF33E17&match=835
DTSTART;TZID=Europe/Brussels:20260324T070000
DTEND;TZID=Europe/Brussels:20260324T070000
END:VEVENT
BEGIN:VEVENT
UID:88B516F8-C241-4391-98BA-F07EECF33E17-18-851_homereminder@69.badmintonne
 rs.net
DTSTAMP:20260420T041200Z
SUMMARY:Thuismatch ingevuld? (Pluimplukkers 2D (30) - Tienen 1D (32))
DESCRIPTION:Je hebt 36 uur na aanvang om een thuismatch op Badmintonvlaande
 ren in te vullen. Match info: Pluimplukkers 2D (30) - Tienen 1D (32) - Lin
 k: https://www.badmintonvlaanderen.be/sport/teammatch.aspx?id=88B516F8-C24
 1-4391-98BA-F07EECF33E17&match=851
DTSTART;TZID=Europe/Brussels:20260421T070000
DTEND;TZID=Europe/Brussels:20260421T070000
END:VEVENT
BEGIN:VEVENT
UID:88B516F8-C241-4391-98BA-F07EECF33E17-18-842_awayreminder@69.badmintonne
 rs.net
DTSTAMP:20260420T041200Z
SUMMARY:Uitmatch bevestigd? (Tienen 1D (32) - Pluimplukkers 2D (30))
DESCRIPTION:Je hebt 72 uur na aanvang om een uitmatch op Badmintonvlaandere
 n in te vullen. Match info: Tienen 1D (32) - Pluimplukkers 2D (30) - Link:
  https://www.badmintonvlaanderen.be/sport/teammatch.aspx?id=88B516F8-C241-
 4391-98BA-F07EECF33E17&match=842
DTSTART;TZID=Europe/Brussels:20251008T170000
DTEND;TZID=Europe/Brussels:20251008T170000
END:VEVENT
BEGIN:VEVENT
UID:88B516F8-C241-4391-98BA-F07EECF33E17-18-840_awayreminder@69.badmintonne
 rs.net
DTSTAMP:20260420T041200Z
SUMMARY:Uitmatch bevestigd? (Klein Boom 1D (33) - Pluimplukkers 2D (30))
DESCRIPTION:Je hebt 72 uur na aanvang om een uitmatch op Badmintonvlaandere
 n in te vullen. Match info: Klein Boom 1D (33) - Pluimplukkers 2D (30) - L
 ink: https://www.badmintonvlaanderen.be/sport/teammatch.aspx?id=88B516F8-C
 241-4391-98BA-F07EECF33E17&match=840
DTSTART;TZID=Europe/Brussels:20251119T190000
DTEND;TZID=Europe/Brussels:20251119T190000
END:VEVENT
BEGIN:VEVENT
UID:88B516F8-C241-4391-98BA-F07EECF33E17-18-841_awayreminder@69.badmintonne
 rs.net
DTSTAMP:20260420T041200Z
SUMMARY:Uitmatch bevestigd? (Rivierenland 1D (44) - Pluimplukkers 2D (30))
DESCRIPTION:Je hebt 72 uur na aanvang om een uitmatch op Badmintonvlaandere
 n in te vullen. Match info: Rivierenland 1D (44) - Pluimplukkers 2D (30) -
  Link: https://www.badmintonvlaanderen.be/sport/teammatch.aspx?id=88B516F8
 -C241-4391-98BA-F07EECF33E17&match=841
DTSTART;TZID=Europe/Brussels:20260114T163000
DTEND;TZID=Europe/Brussels:20260114T163000
END:VEVENT
BEGIN:VEVENT
UID:88B516F8-C241-4391-98BA-F07EECF33E17-18-839_awayreminder@69.badmintonne
 rs.net
DTSTAMP:20260420T041200Z
SUMMARY:Uitmatch bevestigd? (Dijlevallei 3D (32) - Pluimplukkers 2D (30))
DESCRIPTION:Je hebt 72 uur na aanvang om een uitmatch op Badmintonvlaandere
 n in te vullen. Match info: Dijlevallei 3D (32) - Pluimplukkers 2D (30) - 
 Link: https://www.badmintonvlaanderen.be/sport/teammatch.aspx?id=88B516F8-
 C241-4391-98BA-F07EECF33E17&match=839
DTSTART;TZID=Europe/Brussels:20260211T140000
DTEND;TZID=Europe/Brussels:20260211T140000
END:VEVENT
BEGIN:VEVENT
UID:88B516F8-C241-4391-98BA-F07EECF33E17-18-843_awayreminder@69.badmintonne
 rs.net
DTSTAMP:20260420T041200Z
SUMMARY:Uitmatch bevestigd? (W&L BV 2D (28) - Pluimplukkers 2D (30))
DESCRIPTION:Je hebt 72 uur na aanvang om een uitmatch op Badmintonvlaandere
 n in te vullen. Match info: W&L BV 2D (28) - Pluimplukkers 2D (30) - Link:
  https://www.badmintonvlaanderen.be/sport/teammatch.aspx?id=88B516F8-C241-
 4391-98BA-F07EECF33E17&match=843
DTSTART;TZID=Europe/Brussels:20260311T130000
DTEND;TZID=Europe/Brussels:20260311T130000
END:VEVENT
END:VCALENDAR