BEGIN:VCALENDAR
VERSION:2.0
PRODID:spatie/icalendar-generator
NAME:rivierenland_1d_44_reminders
X-WR-CALNAME:rivierenland_1d_44_reminders
BEGIN:VTIMEZONE
TZID:Europe/Brussels
BEGIN:DAYLIGHT
DTSTART:20250330T010000
TZOFFSETFROM:+0100
TZOFFSETTO:+0200
END:DAYLIGHT
BEGIN:STANDARD
DTSTART:20251026T030000
TZOFFSETFROM:+0200
TZOFFSETTO:+0100
END:STANDARD
BEGIN:DAYLIGHT
DTSTART:20260329T010000
TZOFFSETFROM:+0100
TZOFFSETTO:+0200
END:DAYLIGHT
END:VTIMEZONE
BEGIN:VTIMEZONE
TZID:UTC
BEGIN:STANDARD
DTSTART:20250724T041159
TZOFFSETFROM:+0000
TZOFFSETTO:+0000
END:STANDARD
END:VTIMEZONE
BEGIN:VEVENT
UID:88B516F8-C241-4391-98BA-F07EECF33E17-18-852_homereminder@70.badmintonne
 rs.net
DTSTAMP:20260420T041159Z
SUMMARY:Thuismatch ingevuld? (Rivierenland 1D (44) - Tienen 1D (32))
DESCRIPTION:Je hebt 36 uur na aanvang om een thuismatch op Badmintonvlaande
 ren in te vullen. Match info: Rivierenland 1D (44) - Tienen 1D (32) - Link
 : https://www.badmintonvlaanderen.be/sport/teammatch.aspx?id=88B516F8-C241
 -4391-98BA-F07EECF33E17&match=852
DTSTART;TZID=Europe/Brussels:20251116T080000
DTEND;TZID=Europe/Brussels:20251116T080000
END:VEVENT
BEGIN:VEVENT
UID:88B516F8-C241-4391-98BA-F07EECF33E17-18-857_homereminder@70.badmintonne
 rs.net
DTSTAMP:20260420T041159Z
SUMMARY:Thuismatch ingevuld? (Rivierenland 1D (44) - W&L BV 2D (28))
DESCRIPTION:Je hebt 36 uur na aanvang om een thuismatch op Badmintonvlaande
 ren in te vullen. Match info: Rivierenland 1D (44) - W&L BV 2D (28) - Link
 : https://www.badmintonvlaanderen.be/sport/teammatch.aspx?id=88B516F8-C241
 -4391-98BA-F07EECF33E17&match=857
DTSTART;TZID=Europe/Brussels:20251130T080000
DTEND;TZID=Europe/Brussels:20251130T080000
END:VEVENT
BEGIN:VEVENT
UID:88B516F8-C241-4391-98BA-F07EECF33E17-18-836_homereminder@70.badmintonne
 rs.net
DTSTAMP:20260420T041159Z
SUMMARY:Thuismatch ingevuld? (Rivierenland 1D (44) - Klein Boom 1D (33))
DESCRIPTION:Je hebt 36 uur na aanvang om een thuismatch op Badmintonvlaande
 ren in te vullen. Match info: Rivierenland 1D (44) - Klein Boom 1D (33) - 
 Link: https://www.badmintonvlaanderen.be/sport/teammatch.aspx?id=88B516F8-
 C241-4391-98BA-F07EECF33E17&match=836
DTSTART;TZID=Europe/Brussels:20251202T043000
DTEND;TZID=Europe/Brussels:20251202T043000
END:VEVENT
BEGIN:VEVENT
UID:88B516F8-C241-4391-98BA-F07EECF33E17-18-841_homereminder@70.badmintonne
 rs.net
DTSTAMP:20260420T041159Z
SUMMARY:Thuismatch ingevuld? (Rivierenland 1D (44) - Pluimplukkers 2D (30))
DESCRIPTION:Je hebt 36 uur na aanvang om een thuismatch op Badmintonvlaande
 ren in te vullen. Match info: Rivierenland 1D (44) - Pluimplukkers 2D (30)
  - Link: https://www.badmintonvlaanderen.be/sport/teammatch.aspx?id=88B516
 F8-C241-4391-98BA-F07EECF33E17&match=841
DTSTART;TZID=Europe/Brussels:20260113T043000
DTEND;TZID=Europe/Brussels:20260113T043000
END:VEVENT
BEGIN:VEVENT
UID:88B516F8-C241-4391-98BA-F07EECF33E17-18-831_homereminder@70.badmintonne
 rs.net
DTSTAMP:20260420T041159Z
SUMMARY:Thuismatch ingevuld? (Rivierenland 1D (44) - Dijlevallei 3D (32))
DESCRIPTION:Je hebt 36 uur na aanvang om een thuismatch op Badmintonvlaande
 ren in te vullen. Match info: Rivierenland 1D (44) - Dijlevallei 3D (32) -
  Link: https://www.badmintonvlaanderen.be/sport/teammatch.aspx?id=88B516F8
 -C241-4391-98BA-F07EECF33E17&match=831
DTSTART;TZID=Europe/Brussels:20260224T043000
DTEND;TZID=Europe/Brussels:20260224T043000
END:VEVENT
BEGIN:VEVENT
UID:88B516F8-C241-4391-98BA-F07EECF33E17-18-844_awayreminder@70.badmintonne
 rs.net
DTSTAMP:20260420T041159Z
SUMMARY:Uitmatch bevestigd? (Dijlevallei 3D (32) - Rivierenland 1D (44))
DESCRIPTION:Je hebt 72 uur na aanvang om een uitmatch op Badmintonvlaandere
 n in te vullen. Match info: Dijlevallei 3D (32) - Rivierenland 1D (44) - L
 ink: https://www.badmintonvlaanderen.be/sport/teammatch.aspx?id=88B516F8-C
 241-4391-98BA-F07EECF33E17&match=844
DTSTART;TZID=Europe/Brussels:20250917T140000
DTEND;TZID=Europe/Brussels:20250917T140000
END:VEVENT
BEGIN:VEVENT
UID:88B516F8-C241-4391-98BA-F07EECF33E17-18-846_awayreminder@70.badmintonne
 rs.net
DTSTAMP:20260420T041159Z
SUMMARY:Uitmatch bevestigd? (Pluimplukkers 2D (30) - Rivierenland 1D (44))
DESCRIPTION:Je hebt 72 uur na aanvang om een uitmatch op Badmintonvlaandere
 n in te vullen. Match info: Pluimplukkers 2D (30) - Rivierenland 1D (44) -
  Link: https://www.badmintonvlaanderen.be/sport/teammatch.aspx?id=88B516F8
 -C241-4391-98BA-F07EECF33E17&match=846
DTSTART;TZID=Europe/Brussels:20251007T180000
DTEND;TZID=Europe/Brussels:20251007T180000
END:VEVENT
BEGIN:VEVENT
UID:88B516F8-C241-4391-98BA-F07EECF33E17-18-845_awayreminder@70.badmintonne
 rs.net
DTSTAMP:20260420T041159Z
SUMMARY:Uitmatch bevestigd? (Klein Boom 1D (33) - Rivierenland 1D (44))
DESCRIPTION:Je hebt 72 uur na aanvang om een uitmatch op Badmintonvlaandere
 n in te vullen. Match info: Klein Boom 1D (33) - Rivierenland 1D (44) - Li
 nk: https://www.badmintonvlaanderen.be/sport/teammatch.aspx?id=88B516F8-C2
 41-4391-98BA-F07EECF33E17&match=845
DTSTART;TZID=Europe/Brussels:20260311T190000
DTEND;TZID=Europe/Brussels:20260311T190000
END:VEVENT
BEGIN:VEVENT
UID:88B516F8-C241-4391-98BA-F07EECF33E17-18-848_awayreminder@70.badmintonne
 rs.net
DTSTAMP:20260420T041159Z
SUMMARY:Uitmatch bevestigd? (W&L BV 2D (28) - Rivierenland 1D (44))
DESCRIPTION:Je hebt 72 uur na aanvang om een uitmatch op Badmintonvlaandere
 n in te vullen. Match info: W&L BV 2D (28) - Rivierenland 1D (44) - Link: 
 https://www.badmintonvlaanderen.be/sport/teammatch.aspx?id=88B516F8-C241-4
 391-98BA-F07EECF33E17&match=848
DTSTART;TZID=Europe/Brussels:20260325T130000
DTEND;TZID=Europe/Brussels:20260325T130000
END:VEVENT
BEGIN:VEVENT
UID:88B516F8-C241-4391-98BA-F07EECF33E17-18-847_awayreminder@70.badmintonne
 rs.net
DTSTAMP:20260420T041159Z
SUMMARY:Uitmatch bevestigd? (Tienen 1D (32) - Rivierenland 1D (44))
DESCRIPTION:Je hebt 72 uur na aanvang om een uitmatch op Badmintonvlaandere
 n in te vullen. Match info: Tienen 1D (32) - Rivierenland 1D (44) - Link: 
 https://www.badmintonvlaanderen.be/sport/teammatch.aspx?id=88B516F8-C241-4
 391-98BA-F07EECF33E17&match=847
DTSTART;TZID=Europe/Brussels:20260406T200000
DTEND;TZID=Europe/Brussels:20260406T200000
END:VEVENT
END:VCALENDAR