BEGIN:VCALENDAR
VERSION:2.0
PRODID:spatie/icalendar-generator
NAME:tienen_1d_32_reminders
X-WR-CALNAME:tienen_1d_32_reminders
BEGIN:VTIMEZONE
TZID:Europe/Brussels
BEGIN:DAYLIGHT
DTSTART:20250330T010000
TZOFFSETFROM:+0100
TZOFFSETTO:+0200
END:DAYLIGHT
BEGIN:STANDARD
DTSTART:20251026T030000
TZOFFSETFROM:+0200
TZOFFSETTO:+0100
END:STANDARD
BEGIN:DAYLIGHT
DTSTART:20260329T010000
TZOFFSETFROM:+0100
TZOFFSETTO:+0200
END:DAYLIGHT
END:VTIMEZONE
BEGIN:VTIMEZONE
TZID:UTC
BEGIN:STANDARD
DTSTART:20250724T041200
TZOFFSETFROM:+0000
TZOFFSETTO:+0000
END:STANDARD
END:VTIMEZONE
BEGIN:VEVENT
UID:88B516F8-C241-4391-98BA-F07EECF33E17-18-842_homereminder@74.badmintonne
 rs.net
DTSTAMP:20260420T041200Z
SUMMARY:Thuismatch ingevuld? (Tienen 1D (32) - Pluimplukkers 2D (30))
DESCRIPTION:Je hebt 36 uur na aanvang om een thuismatch op Badmintonvlaande
 ren in te vullen. Match info: Tienen 1D (32) - Pluimplukkers 2D (30) - Lin
 k: https://www.badmintonvlaanderen.be/sport/teammatch.aspx?id=88B516F8-C24
 1-4391-98BA-F07EECF33E17&match=842
DTSTART;TZID=Europe/Brussels:20251007T050000
DTEND;TZID=Europe/Brussels:20251007T050000
END:VEVENT
BEGIN:VEVENT
UID:88B516F8-C241-4391-98BA-F07EECF33E17-18-832_homereminder@74.badmintonne
 rs.net
DTSTAMP:20260420T041200Z
SUMMARY:Thuismatch ingevuld? (Tienen 1D (32) - Dijlevallei 3D (32))
DESCRIPTION:Je hebt 36 uur na aanvang om een thuismatch op Badmintonvlaande
 ren in te vullen. Match info: Tienen 1D (32) - Dijlevallei 3D (32) - Link:
  https://www.badmintonvlaanderen.be/sport/teammatch.aspx?id=88B516F8-C241-
 4391-98BA-F07EECF33E17&match=832
DTSTART;TZID=Europe/Brussels:20251202T050000
DTEND;TZID=Europe/Brussels:20251202T050000
END:VEVENT
BEGIN:VEVENT
UID:88B516F8-C241-4391-98BA-F07EECF33E17-18-837_homereminder@74.badmintonne
 rs.net
DTSTAMP:20260420T041200Z
SUMMARY:Thuismatch ingevuld? (Tienen 1D (32) - Klein Boom 1D (33))
DESCRIPTION:Je hebt 36 uur na aanvang om een thuismatch op Badmintonvlaande
 ren in te vullen. Match info: Tienen 1D (32) - Klein Boom 1D (33) - Link: 
 https://www.badmintonvlaanderen.be/sport/teammatch.aspx?id=88B516F8-C241-4
 391-98BA-F07EECF33E17&match=837
DTSTART;TZID=Europe/Brussels:20260113T050000
DTEND;TZID=Europe/Brussels:20260113T050000
END:VEVENT
BEGIN:VEVENT
UID:88B516F8-C241-4391-98BA-F07EECF33E17-18-858_homereminder@74.badmintonne
 rs.net
DTSTAMP:20260420T041200Z
SUMMARY:Thuismatch ingevuld? (Tienen 1D (32) - W&L BV 2D (28))
DESCRIPTION:Je hebt 36 uur na aanvang om een thuismatch op Badmintonvlaande
 ren in te vullen. Match info: Tienen 1D (32) - W&L BV 2D (28) - Link: http
 s://www.badmintonvlaanderen.be/sport/teammatch.aspx?id=88B516F8-C241-4391-
 98BA-F07EECF33E17&match=858
DTSTART;TZID=Europe/Brussels:20260224T050000
DTEND;TZID=Europe/Brussels:20260224T050000
END:VEVENT
BEGIN:VEVENT
UID:88B516F8-C241-4391-98BA-F07EECF33E17-18-847_homereminder@74.badmintonne
 rs.net
DTSTAMP:20260420T041200Z
SUMMARY:Thuismatch ingevuld? (Tienen 1D (32) - Rivierenland 1D (44))
DESCRIPTION:Je hebt 36 uur na aanvang om een thuismatch op Badmintonvlaande
 ren in te vullen. Match info: Tienen 1D (32) - Rivierenland 1D (44) - Link
 : https://www.badmintonvlaanderen.be/sport/teammatch.aspx?id=88B516F8-C241
 -4391-98BA-F07EECF33E17&match=847
DTSTART;TZID=Europe/Brussels:20260405T080000
DTEND;TZID=Europe/Brussels:20260405T080000
END:VEVENT
BEGIN:VEVENT
UID:88B516F8-C241-4391-98BA-F07EECF33E17-18-852_awayreminder@74.badmintonne
 rs.net
DTSTAMP:20260420T041200Z
SUMMARY:Uitmatch bevestigd? (Rivierenland 1D (44) - Tienen 1D (32))
DESCRIPTION:Je hebt 72 uur na aanvang om een uitmatch op Badmintonvlaandere
 n in te vullen. Match info: Rivierenland 1D (44) - Tienen 1D (32) - Link: 
 https://www.badmintonvlaanderen.be/sport/teammatch.aspx?id=88B516F8-C241-4
 391-98BA-F07EECF33E17&match=852
DTSTART;TZID=Europe/Brussels:20251117T200000
DTEND;TZID=Europe/Brussels:20251117T200000
END:VEVENT
BEGIN:VEVENT
UID:88B516F8-C241-4391-98BA-F07EECF33E17-18-853_awayreminder@74.badmintonne
 rs.net
DTSTAMP:20260420T041200Z
SUMMARY:Uitmatch bevestigd? (W&L BV 2D (28) - Tienen 1D (32))
DESCRIPTION:Je hebt 72 uur na aanvang om een uitmatch op Badmintonvlaandere
 n in te vullen. Match info: W&L BV 2D (28) - Tienen 1D (32) - Link: https:
 //www.badmintonvlaanderen.be/sport/teammatch.aspx?id=88B516F8-C241-4391-98
 BA-F07EECF33E17&match=853
DTSTART;TZID=Europe/Brussels:20251119T130000
DTEND;TZID=Europe/Brussels:20251119T130000
END:VEVENT
BEGIN:VEVENT
UID:88B516F8-C241-4391-98BA-F07EECF33E17-18-850_awayreminder@74.badmintonne
 rs.net
DTSTAMP:20260420T041200Z
SUMMARY:Uitmatch bevestigd? (Klein Boom 1D (33) - Tienen 1D (32))
DESCRIPTION:Je hebt 72 uur na aanvang om een uitmatch op Badmintonvlaandere
 n in te vullen. Match info: Klein Boom 1D (33) - Tienen 1D (32) - Link: ht
 tps://www.badmintonvlaanderen.be/sport/teammatch.aspx?id=88B516F8-C241-439
 1-98BA-F07EECF33E17&match=850
DTSTART;TZID=Europe/Brussels:20251210T190000
DTEND;TZID=Europe/Brussels:20251210T190000
END:VEVENT
BEGIN:VEVENT
UID:88B516F8-C241-4391-98BA-F07EECF33E17-18-849_awayreminder@74.badmintonne
 rs.net
DTSTAMP:20260420T041200Z
SUMMARY:Uitmatch bevestigd? (Dijlevallei 3D (32) - Tienen 1D (32))
DESCRIPTION:Je hebt 72 uur na aanvang om een uitmatch op Badmintonvlaandere
 n in te vullen. Match info: Dijlevallei 3D (32) - Tienen 1D (32) - Link: h
 ttps://www.badmintonvlaanderen.be/sport/teammatch.aspx?id=88B516F8-C241-43
 91-98BA-F07EECF33E17&match=849
DTSTART;TZID=Europe/Brussels:20260325T140000
DTEND;TZID=Europe/Brussels:20260325T140000
END:VEVENT
BEGIN:VEVENT
UID:88B516F8-C241-4391-98BA-F07EECF33E17-18-851_awayreminder@74.badmintonne
 rs.net
DTSTAMP:20260420T041200Z
SUMMARY:Uitmatch bevestigd? (Pluimplukkers 2D (30) - Tienen 1D (32))
DESCRIPTION:Je hebt 72 uur na aanvang om een uitmatch op Badmintonvlaandere
 n in te vullen. Match info: Pluimplukkers 2D (30) - Tienen 1D (32) - Link:
  https://www.badmintonvlaanderen.be/sport/teammatch.aspx?id=88B516F8-C241-
 4391-98BA-F07EECF33E17&match=851
DTSTART;TZID=Europe/Brussels:20260422T190000
DTEND;TZID=Europe/Brussels:20260422T190000
END:VEVENT
END:VCALENDAR