BEGIN:VCALENDAR
VERSION:2.0
PRODID:spatie/icalendar-generator
NAME:klein_boom_1g_48_reminders
X-WR-CALNAME:klein_boom_1g_48_reminders
BEGIN:VTIMEZONE
TZID:Europe/Brussels
BEGIN:DAYLIGHT
DTSTART:20250330T010000
TZOFFSETFROM:+0100
TZOFFSETTO:+0200
END:DAYLIGHT
BEGIN:STANDARD
DTSTART:20251026T030000
TZOFFSETFROM:+0200
TZOFFSETTO:+0100
END:STANDARD
BEGIN:DAYLIGHT
DTSTART:20260329T010000
TZOFFSETFROM:+0100
TZOFFSETTO:+0200
END:DAYLIGHT
END:VTIMEZONE
BEGIN:VTIMEZONE
TZID:UTC
BEGIN:STANDARD
DTSTART:20250724T041159
TZOFFSETFROM:+0000
TZOFFSETTO:+0000
END:STANDARD
END:VTIMEZONE
BEGIN:VEVENT
UID:88B516F8-C241-4391-98BA-F07EECF33E17-8-373_homereminder@125.badmintonne
 rs.net
DTSTAMP:20260420T041159Z
SUMMARY:Thuismatch ingevuld? (Klein Boom 1G (48) - Olve 3G (48))
DESCRIPTION:Je hebt 36 uur na aanvang om een thuismatch op Badmintonvlaande
 ren in te vullen. Match info: Klein Boom 1G (48) - Olve 3G (48) - Link: ht
 tps://www.badmintonvlaanderen.be/sport/teammatch.aspx?id=88B516F8-C241-439
 1-98BA-F07EECF33E17&match=373
DTSTART;TZID=Europe/Brussels:20250916T070000
DTEND;TZID=Europe/Brussels:20250916T070000
END:VEVENT
BEGIN:VEVENT
UID:88B516F8-C241-4391-98BA-F07EECF33E17-8-354_homereminder@125.badmintonne
 rs.net
DTSTAMP:20260420T041159Z
SUMMARY:Thuismatch ingevuld? (Klein Boom 1G (48) - Brasschaat 2G (47))
DESCRIPTION:Je hebt 36 uur na aanvang om een thuismatch op Badmintonvlaande
 ren in te vullen. Match info: Klein Boom 1G (48) - Brasschaat 2G (47) - Li
 nk: https://www.badmintonvlaanderen.be/sport/teammatch.aspx?id=88B516F8-C2
 41-4391-98BA-F07EECF33E17&match=354
DTSTART;TZID=Europe/Brussels:20251014T070000
DTEND;TZID=Europe/Brussels:20251014T070000
END:VEVENT
BEGIN:VEVENT
UID:88B516F8-C241-4391-98BA-F07EECF33E17-8-385_homereminder@125.badmintonne
 rs.net
DTSTAMP:20260420T041159Z
SUMMARY:Thuismatch ingevuld? (Klein Boom 1G (48) - Tots Keerbergen 1G (54))
DESCRIPTION:Je hebt 36 uur na aanvang om een thuismatch op Badmintonvlaande
 ren in te vullen. Match info: Klein Boom 1G (48) - Tots Keerbergen 1G (54)
  - Link: https://www.badmintonvlaanderen.be/sport/teammatch.aspx?id=88B516
 F8-C241-4391-98BA-F07EECF33E17&match=385
DTSTART;TZID=Europe/Brussels:20251111T070000
DTEND;TZID=Europe/Brussels:20251111T070000
END:VEVENT
BEGIN:VEVENT
UID:88B516F8-C241-4391-98BA-F07EECF33E17-8-379_homereminder@125.badmintonne
 rs.net
DTSTAMP:20260420T041159Z
SUMMARY:Thuismatch ingevuld? (Klein Boom 1G (48) - Royal Antwerp 2G (57))
DESCRIPTION:Je hebt 36 uur na aanvang om een thuismatch op Badmintonvlaande
 ren in te vullen. Match info: Klein Boom 1G (48) - Royal Antwerp 2G (57) -
  Link: https://www.badmintonvlaanderen.be/sport/teammatch.aspx?id=88B516F8
 -C241-4391-98BA-F07EECF33E17&match=379
DTSTART;TZID=Europe/Brussels:20260217T070000
DTEND;TZID=Europe/Brussels:20260217T070000
END:VEVENT
BEGIN:VEVENT
UID:88B516F8-C241-4391-98BA-F07EECF33E17-8-360_homereminder@125.badmintonne
 rs.net
DTSTAMP:20260420T041159Z
SUMMARY:Thuismatch ingevuld? (Klein Boom 1G (48) - De Klamp 1G (63))
DESCRIPTION:Je hebt 36 uur na aanvang om een thuismatch op Badmintonvlaande
 ren in te vullen. Match info: Klein Boom 1G (48) - De Klamp 1G (63) - Link
 : https://www.badmintonvlaanderen.be/sport/teammatch.aspx?id=88B516F8-C241
 -4391-98BA-F07EECF33E17&match=360
DTSTART;TZID=Europe/Brussels:20260317T070000
DTEND;TZID=Europe/Brussels:20260317T070000
END:VEVENT
BEGIN:VEVENT
UID:88B516F8-C241-4391-98BA-F07EECF33E17-8-366_awayreminder@125.badmintonne
 rs.net
DTSTAMP:20260420T041159Z
SUMMARY:Uitmatch bevestigd? (De Klamp 1G (63) - Klein Boom 1G (48))
DESCRIPTION:Je hebt 72 uur na aanvang om een uitmatch op Badmintonvlaandere
 n in te vullen. Match info: De Klamp 1G (63) - Klein Boom 1G (48) - Link: 
 https://www.badmintonvlaanderen.be/sport/teammatch.aspx?id=88B516F8-C241-4
 391-98BA-F07EECF33E17&match=366
DTSTART;TZID=Europe/Brussels:20251029T181500
DTEND;TZID=Europe/Brussels:20251029T181500
END:VEVENT
BEGIN:VEVENT
UID:88B516F8-C241-4391-98BA-F07EECF33E17-8-368_awayreminder@125.badmintonne
 rs.net
DTSTAMP:20260420T041159Z
SUMMARY:Uitmatch bevestigd? (Royal Antwerp 2G (57) - Klein Boom 1G (48))
DESCRIPTION:Je hebt 72 uur na aanvang om een uitmatch op Badmintonvlaandere
 n in te vullen. Match info: Royal Antwerp 2G (57) - Klein Boom 1G (48) - L
 ink: https://www.badmintonvlaanderen.be/sport/teammatch.aspx?id=88B516F8-C
 241-4391-98BA-F07EECF33E17&match=368
DTSTART;TZID=Europe/Brussels:20251224T180000
DTEND;TZID=Europe/Brussels:20251224T180000
END:VEVENT
BEGIN:VEVENT
UID:88B516F8-C241-4391-98BA-F07EECF33E17-8-367_awayreminder@125.badmintonne
 rs.net
DTSTAMP:20260420T041159Z
SUMMARY:Uitmatch bevestigd? (Olve 3G (48) - Klein Boom 1G (48))
DESCRIPTION:Je hebt 72 uur na aanvang om een uitmatch op Badmintonvlaandere
 n in te vullen. Match info: Olve 3G (48) - Klein Boom 1G (48) - Link: http
 s://www.badmintonvlaanderen.be/sport/teammatch.aspx?id=88B516F8-C241-4391-
 98BA-F07EECF33E17&match=367
DTSTART;TZID=Europe/Brussels:20260120T103000
DTEND;TZID=Europe/Brussels:20260120T103000
END:VEVENT
BEGIN:VEVENT
UID:88B516F8-C241-4391-98BA-F07EECF33E17-8-365_awayreminder@125.badmintonne
 rs.net
DTSTAMP:20260420T041159Z
SUMMARY:Uitmatch bevestigd? (Brasschaat 2G (47) - Klein Boom 1G (48))
DESCRIPTION:Je hebt 72 uur na aanvang om een uitmatch op Badmintonvlaandere
 n in te vullen. Match info: Brasschaat 2G (47) - Klein Boom 1G (48) - Link
 : https://www.badmintonvlaanderen.be/sport/teammatch.aspx?id=88B516F8-C241
 -4391-98BA-F07EECF33E17&match=365
DTSTART;TZID=Europe/Brussels:20260304T190000
DTEND;TZID=Europe/Brussels:20260304T190000
END:VEVENT
BEGIN:VEVENT
UID:88B516F8-C241-4391-98BA-F07EECF33E17-8-369_awayreminder@125.badmintonne
 rs.net
DTSTAMP:20260420T041159Z
SUMMARY:Uitmatch bevestigd? (Tots Keerbergen 1G (54) - Klein Boom 1G (48))
DESCRIPTION:Je hebt 72 uur na aanvang om een uitmatch op Badmintonvlaandere
 n in te vullen. Match info: Tots Keerbergen 1G (54) - Klein Boom 1G (48) -
  Link: https://www.badmintonvlaanderen.be/sport/teammatch.aspx?id=88B516F8
 -C241-4391-98BA-F07EECF33E17&match=369
DTSTART;TZID=Europe/Brussels:20260401T190000
DTEND;TZID=Europe/Brussels:20260401T190000
END:VEVENT
END:VCALENDAR